{"text_format":"3","workbook":"xlsx","n_sheets":104,"sheets":["INTRODUCTION","PARAMETRAGE","TEST MACROS","ACCUEIL","ETABLISSEMENT","CAPL ou CAPD","VALEUR du POINT","TELEPHONE","DEPARTEMENT","MEL","SITE DEPART","HTTP DEPART","REPRESENTANT","CAP","CAP 2 SG 2","CAT A ISG IS","CAT A EXTINCTION","END","RECAPITULATIF","GRILLE ISG IS G1","IMP GRILLE ISG IS G1","ISG IS G1 Echelon 2","ISG IS G1 Echelon 3","ISG IS G1 Echelon 4","ISG IS G1 Echelon 5","ISG IS G1 Echelon 6","ISG IS G1 Echelon 7","ISG IS G1 Echelon 8","ISG IS G1 Echelon 9","ISG IS G1 Echelon 10","GRILLE ISG IS G2","IMP GRILLE ISG IS G2","ISG IS G2 Echelon 2","ISG IS G2 Echelon 3","ISG IS G2 Echelon 4","ISG IS G2 Echelon 5","ISG IS G2 Echelon 6","ISG IS G2 Echelon 7","ISG IS G2 Echelon 8","ISG IS G2 Echelon 9","ISG IS G2 Echelon 10","GRILLE ISG IS G3","IMP GRILLE ISG IS G3","ISG IS G3 Echelon 2","ISG IS G3 Echelon 3","ISG IS G3 Echelon 4","ISG IS G3 Echelon 5","ISG IS G3 Echelon 6","ISG IS G3 Echelon 7","ISG IS G3 Echelon 8","ISG IS G3 Echelon 9","ISG IS G3 Echelon 10","GRILLE IADE G1","IMP GRILLE IADE G1","IADE G1 Echelon 2","IADE G1 Echelon 3","IADE G1 Echelon 4","IADE G1 Echelon 5","IADE G1 Echelon 6","IADE G1 Echelon 7","IADE G1 Echelon 8","IADE G1 Echelon 9","IADE G1 Echelon 10","GRILLE IADE G2","IMP GRILLE IADE G2","IADE G2 Echelon 2","IADE G2 Echelon 3","IADE G2 Echelon 4","IADE G2 Echelon 5","IADE G2 Echelon 6","GRILLE IBODE CN EXT","IMP GRILLE IBODE CN EXT","IBODE CN EXT Echelon 2","IBODE CN EXT Echelon 3","IBODE CN EXT Echelon 4","IBODE CN EXT Echelon 5","IBODE CN EXT Echelon 6","IBODE CN EXT Echelon 7","IBODE CN EXT Echelon 8","GRILLE IBODE CS EXT","IMP GRILLE IBODE CS EXT","IBODE CS EXT Echelon 2","IBODE CS EXT Echelon 3","IBODE CS EXT Echelon 4","IBODE CS EXT Echelon 5","IBODE CS EXT Echelon 6","IBODE CS EXT Echelon 7","GRILLE IADE CN EXT","IMP GRILLE IADE CN EXT","IADE CN EXT Echelon 2","IADE CN EXT Echelon 3","IADE CN EXT Echelon 4","IADE CN EXT Echelon 5","IADE CN EXT Echelon 6","IADE CN EXT Echelon 7","IADE CN EXT Echelon 8","GRILLE IADE CS EXT","IMP GRILLE IADE CS EXT","IADE CS EXT Echelon 2","IADE CS EXT Echelon 3","IADE CS EXT Echelon 4","IADE CS EXT Echelon 5","IADE CS EXT Echelon 6","IADE CS EXT Echelon 7"],"not_rendered":{"images":7,"macros":1,"defined_names":69},"read":"whole","date_system":"1900"}

{"sheet":"INTRODUCTION","index":0,"n_rows":39,"n_cols":2,"rows_kept":39,"merged":[[0,1,0,2],[1,1,1,2],[2,1,2,2],[3,1,3,2],[4,1,4,2],[5,1,5,2],[6,1,6,2],[7,1,7,2],[8,1,8,2],[9,1,9,2],[10,1,10,2],[11,1,11,2],[12,1,12,2],[13,1,13,2],[18,1,18,2],[25,1,25,2],[26,1,26,2],[27,1,27,2],[28,1,28,2],[29,1,29,2],[30,1,30,2],[31,1,31,2],[32,1,32,2],[36,1,36,2],[38,1,38,2]]}
[]
[null,"Ce logiciel permet d'éditer les courriers d'avancements d'échelons à envoyer aux"]
[null,"agents directement concernés en notant qu'une seule fois :"]
[null,"l'identité de l'agent et la date d'effet de son avancement d'échelon. "]
[]
[null,"C'est donc un gain de temps non négligeable dans la préparation très chronophage"]
[null,"des CAP et également une uniformisation de toutes les informations transmises"]
[null,"aux agents par tous les représentants SUD Santé des CAPL et CAPD."]
[]
[null,"1) ACTIVATION DES MACROS"]
[]
[null,"Pour fonctionner, ce logiciel nécéssite que les \" macros \" soient activées."]
[null,"Les \" macros \" permettent à partir d'un bouton (apparition de la petite main),"]
[null,"l'exécution d'une application donnée."]
[]
[null,"Pour vérifier si elles sont bien activées,"]
[null,"appuyez sur le bouton ci-contre :"]
[]
[null,"Cette page doit apparaître :"]
[]
[]
[null,"Appuyez alors dans cette page"]
[null,"sur ce bouton pour revenir"]
[null,"à l'INTRODUCTION :"]
[]
[null,"Si la page n'apparait pas, cela implique que les \" macros \" ne sont pas activées."]
[null,"Appuyez sur \" F1 \" de votre clavier pour accéder à la rubrique \" AIDE \""]
[null,"Notez : MACROS dans le moteur de recherche"]
[null,"Selectionnez : Activer ou désactiver les Macros"]
[null,"Suivez les recommandations pour les activer"]
[null,"\n\n\n"]
[null,"2) PARAMETRAGE DU LOGICIEL"]
[]
[null,"Pour votre 1ère utilisation de ce logiciel, vous devez"]
[null,"le paramatrer en cliquant sur ce bouton : "]
[]
[null,"3) COMMENTAIRES DIVERS …"]
[]
[null,"N'hésitez pas à nous faire parvenir vos commentaires sur ce Logiciel à l'adresse ci-jointe :\n\n                                                                          sudsante@ch-stmalo.fr"]

{"sheet":"PARAMETRAGE","index":1,"n_rows":17,"n_cols":2,"rows_kept":17}
[]
[null,"PARAMETRAGE"]
[]
[null,"Première utilisation :"]
[]
[null,"1) Téléchargez la dernière version mise à jour pour les grilles salariales sur notre site."]
[null,"http://www.sudsantesociaux35.org"]
[]
[null,"2) Personnalisez votre Logiciel en renseignant:"]
[]
[null,"      * Nom de l'Etablissement."]
[null,"      * Nom des représentants SUD Santé aux CAP."]
[null,"      * Renseignez \"Locale\" ou \"Départementale\""]
[null,"      * Renseignez \"vos numéros de téléphone\"."]
[null,"      * Renseignez \"votre département\"."]
[null,"      * Renseignez \"votre adresse mél\" et celle de \"votre site départemental\"."]
[null,"      * Renseignez \"l'année\" et \"la date de la CAP\"."]

{"sheet":"TEST MACROS","index":2,"n_rows":3,"n_cols":1,"rows_kept":3}
["Les \" macros \" sont activées "]
[]
["Pour retourner à l'introduction,\nappuyez sur le bouton ci-dessous :"]

{"sheet":"ACCUEIL","index":3,"n_rows":0,"n_cols":0,"rows_kept":0}

{"sheet":"ETABLISSEMENT","index":4,"n_rows":8,"n_cols":2,"rows_kept":8}
{"$rows_empty":7}
[null,"Centre Hospitalier de Saint Malo"]

{"sheet":"CAPL ou CAPD","index":5,"n_rows":0,"n_cols":0,"rows_kept":0}

{"sheet":"VALEUR du POINT","index":6,"n_rows":11,"n_cols":5,"rows_kept":11}
[]
[]
[{"$nulls":4},{"v":4.686,"d":"4.686 €"}]
{"$rows_empty":7}
[{"$nulls":4},"2019-01-01"]

{"sheet":"TELEPHONE","index":7,"n_rows":10,"n_cols":5,"rows_kept":10,"merged":[[9,4,9,5]]}
[]
[]
[{"$nulls":4},2886]
[]
[]
[]
[]
[]
[]
[{"$nulls":4},{"v":299212886,"d":"02 99 21 28 86"}]

{"sheet":"DEPARTEMENT","index":8,"n_rows":4,"n_cols":5,"rows_kept":4}
[]
[]
[]
[{"$nulls":4},35]

{"sheet":"MEL","index":9,"n_rows":4,"n_cols":5,"rows_kept":4}
[]
[]
[]
[{"$nulls":4},"sudsante@ch-stmalo.fr"]

{"sheet":"SITE DEPART","index":10,"n_rows":0,"n_cols":0,"rows_kept":0}

{"sheet":"HTTP DEPART","index":11,"n_rows":13,"n_cols":2,"rows_kept":13}
{"$rows_empty":12}
[null,"http://www.sudsantesociaux35.org"]

{"sheet":"REPRESENTANT","index":12,"n_rows":8,"n_cols":2,"rows_kept":8}
{"$rows_empty":7}
[null,"Madame FERET Isabelle, Madame Anne PICHON et Monsieur Patrick GAUTIER"]

{"sheet":"CAP","index":13,"n_rows":11,"n_cols":5,"rows_kept":11}
[]
[]
[{"$nulls":4},2019]
{"$rows_empty":7}
[{"$nulls":4},"2019-04-16"]

{"sheet":"CAP 2 SG 2","index":14,"n_rows":0,"n_cols":0,"rows_kept":0}

{"sheet":"CAT A ISG IS","index":15,"n_rows":2,"n_cols":2,"rows_kept":2,"merged":[[1,1,1,10]]}
[]
[null,"Selectionnez le Grade concerné par l'avancement d'échelon"]

{"sheet":"CAT A EXTINCTION","index":16,"n_rows":2,"n_cols":2,"rows_kept":2,"merged":[[1,1,1,12]]}
[]
[null,"Selectionnez le Grade concerné par l'avancement d'échelon"]

{"sheet":"END","index":17,"n_rows":0,"n_cols":0,"rows_kept":0}

{"sheet":"RECAPITULATIF","index":18,"n_rows":25,"n_cols":4,"rows_kept":25,"merged":[[1,1,1,8],[3,1,3,8],[4,1,4,8],[6,1,6,2],[8,1,8,2],[10,1,10,2],[12,1,12,2],[14,1,14,2],[20,1,20,2],[22,2,22,4],[24,1,24,2],[24,3,24,4]]}
[]
[null,{"$f":"ETABLISSEMENT!B8","v":"Centre Hospitalier de Saint Malo"}]
[]
[null,"Nom du de la ou des Représentant-e-s"]
[null,{"$f":"REPRESENTANT!B8","v":"Madame FERET Isabelle, Madame Anne PICHON et Monsieur Patrick GAUTIER"}]
[]
[null,"CAP",null,"Locale"]
[]
[null,"Année",null,{"$f":"CAP!E3","v":2019}]
[]
[null,"Date de la CAP",null,{"$f":"CAP!E11","v":"2019-04-16"}]
[]
[null,"Valeur du Point",null,{"$f":"'VALEUR du POINT'!$E$3","v":{"v":4.686,"d":"4.686 €"}}]
[]
[null,"Date de la\nvaleur du Point",null,{"$f":"'VALEUR du POINT'!E11","v":"2019-01-01"}]
[]
[null,"Poste",null,{"$f":"TELEPHONE!$E$3","v":2886}]
[]
[null,"Téléphone",null,{"$f":"TELEPHONE!$E$10","v":{"v":299212886,"d":"02 99 21 28 86"}}]
[]
[null,"Sud Santé Sociaux",null,{"$f":"DEPARTEMENT!E4","v":35}]
[]
[null,"Mél",{"$f":"MEL!E4","v":"sudsante@ch-stmalo.fr"}]
[]
[null,"Site Départemental Sud",null,{"$f":"'HTTP DEPART'!B13","v":"http://www.sudsantesociaux35.org"}]

{"sheet":"GRILLE ISG IS G1","index":19,"n_rows":27,"n_cols":4,"rows_kept":27,"merged":[[1,1,5,3],[6,1,7,1],[6,2,7,2],[6,3,7,3],[8,1,9,1],[8,2,9,2],[8,3,9,3],[10,1,11,1],[10,2,11,2],[10,3,11,3],[12,1,13,1],[12,2,13,2],[12,3,13,3],[14,1,15,1],[14,2,15,2],[14,3,15,3],[16,1,17,1],[16,2,17,2],[16,3,17,3],[18,1,19,1],[18,2,19,2],[18,3,19,3],[20,1,21,1],[20,2,21,2],[20,3,21,3],[22,1,23,1],[22,2,23,2],[22,3,23,3],[24,1,25,1],[24,2,25,2],[24,3,25,3],[26,1,27,1],[26,2,27,2],[26,3,27,3]]}
[]
[null,"Catégorie A             GRADE 1\nInfirmier D.E., Manipulateur d'Electroradiologie Médicale, \nMasseur-Kinésithérapeute,\nErgothérapeute, Psychomotricien, Orthophoniste, Pédicure-Podologue"]
[]
[]
[]
[]
[null,"Echelon","Durée\n(en mois)","Indice\nMajoré"]
[]
[null,1,24,388]
[]
[null,2,36,397]
[]
[null,3,36,416]
[]
[null,4,36,437]
[]
[null,5,36,469]
[]
[null,6,42,500]
[]
[null,7,48,521]
[]
[null,8,48,541]
[]
[null,9,48,565]
[]
[null,10,null,591]

{"sheet":"IMP GRILLE ISG IS G1","index":20,"n_rows":6,"n_cols":2,"rows_kept":6,"merged":[[1,1,1,9],[3,1,3,9],[5,1,5,9]]}
[]
[null,"1) Imprimez autant de feuilles que d'agents concernés."]
[]
[null,"2) Pliez en 3 au niveau du repère, deux petits traits noirs."]
[]
[null,"3) Inserrez ce courrier dans une enveloppe 110 X 220 à fenêtre."]

{"sheet":"ISG IS G1 Echelon 2","index":21,"n_rows":72,"n_cols":20,"rows_kept":72,"merged":[[1,6,1,16],[2,6,2,11],[2,12,2,16],[8,12,9,14],[12,12,12,14],[15,0,15,14],[17,0,17,16],[19,0,19,3],[21,0,21,14],[23,0,23,4],[23,5,23,8],[23,10,23,12],[23,13,23,16],[26,5,27,17],[32,0,32,4],[32,5,32,6],[32,7,32,10],[32,11,32,12],[35,0,35,2],[35,8,35,9],[35,17,39,19],[39,0,39,7],[39,8,39,9],[39,10,39,13],[40,17,41,17],[40,18,41,18],[40,19,41,19],[42,0,42,12],[42,17,43,17],[42,18,43,18],[42,19,43,19],[44,17,45,17],[44,18,45,18],[44,19,45,19],[45,2,45,3],[45,5,45,7],[46,17,47,17],[46,18,47,18],[46,19,47,19],[48,0,48,5],[48,6,48,8],[48,17,49,17],[48,18,49,18],[48,19,49,19],[50,17,51,17],[50,18,51,18],[50,19,51,19],[52,17,53,17],[52,18,53,18],[52,19,53,19],[53,0,53,7],[53,8,53,9],[53,10,53,14],[54,0,54,11],[54,12,54,13],[54,17,55,17],[54,18,55,18],[54,19,55,19],[56,17,57,17],[56,18,57,18],[56,19,57,19],[57,0,57,16],[58,17,59,17],[58,18,59,18],[58,19,59,19],[59,0,59,16],[60,17,61,17],[60,18,61,18],[60,19,61,19],[62,0,62,16],[64,0,64,3],[69,1,69,4],[70,0,70,1],[70,2,70,7],[71,0,71,4],[71,5,71,12]]}
[]
[{"$nulls":6},"Commission Administrative"]
[{"$nulls":6},"Paritaire",{"$nulls":5},{"$f":"RECAPITULATIF!D7","v":"Locale"}]
[]
[]
[]
[]
[]
[{"$nulls":12},"Mme, Mr :"]
[]
[{"$nulls":12},"Grade :"]
[]
[{"$nulls":12},"Service :"]
[]
[]
["Votre ou vos représentant-e-s du personnel"]
[]
[{"$f":"RECAPITULATIF!B5","v":"Madame FERET Isabelle, Madame Anne PICHON et Monsieur Patrick GAUTIER"}]
[]
["SUD Santé Sociaux",{"$nulls":3},{"$f":"RECAPITULATIF!D21","v":35},"du:"]
[]
[{"$f":"RECAPITULATIF!B2","v":"Centre Hospitalier de Saint Malo"}]
[]
["siégeant auprès de la CAP",{"$nulls":4},{"$f":"RECAPITULATIF!D7","v":"Locale"},{"$nulls":3},"du :",{"$f":"RECAPITULATIF!D11","v":"2019-04-16"},null,null,"vous informe de votre :"]
[]
[]
[{"$nulls":5},"AVANCEMENT D’ECHELON"]
[]
[]
[]
[]
[]
["Vous passez à l’échelon :",{"$nulls":4},{"$f":"'GRILLE ISG IS G1'!B11","v":2},null,"Indice Majoré :",{"$nulls":3},{"$f":"'GRILLE ISG IS G1'!D11","v":397}]
[]
[]
["Date d'effet :",{"$nulls":4},"/",null,"/",{"$f":"RECAPITULATIF!D9","v":2019},{"$nulls":8},{"$f":"'GRILLE ISG IS G1'!B2","v":"Catégorie A             GRADE 1\nInfirmier D.E., Manipulateur d'Electroradiologie Médicale, \nMasseur-Kinésithérapeute,\nErgothérapeute, Psychomotricien, Orthophoniste, Pédicure-Podologue"}]
[]
[]
[]
["Ce qui représente un gain mensuel de :",{"$nulls":7},{"$f":"'GRILLE ISG IS G1'!D11-'GRILLE ISG IS G1'!D9","v":9},null,"points d'indice."]
[{"$nulls":17},{"$f":"'GRILLE ISG IS G1'!B7","v":"Echelon"},{"$f":"'GRILLE ISG IS G1'!C7","v":"Durée\n(en mois)"},{"$f":"'GRILLE ISG IS G1'!D7","v":"Indice\nMajoré"}]
[]
["Pour information, la valeur brute du point d'indice",{"$nulls":16},{"$f":"'GRILLE ISG IS G1'!B9","v":1},{"$f":"'GRILLE ISG IS G1'!C9","v":24},{"$f":"'GRILLE ISG IS G1'!D9","v":388}]
[]
[{"$nulls":17},{"$f":"'GRILLE ISG IS G1'!B11","v":2},{"$f":"'GRILLE ISG IS G1'!C11","v":36},{"$f":"'GRILLE ISG IS G1'!D11","v":397}]
["est de",null,{"$f":"RECAPITULATIF!D13","v":{"v":4.686,"d":"4.686 €"}},null,"au",{"$f":"RECAPITULATIF!D15","v":"2019-01-01"}]
[{"$nulls":17},{"$f":"'GRILLE ISG IS G1'!B13","v":3},{"$f":"'GRILLE ISG IS G1'!C13","v":36},{"$f":"'GRILLE ISG IS G1'!D13","v":416}]
[]
["Soit un gain net mensuel de :",{"$nulls":5},{"$f":"I40*C46*0.8315","v":{"v":35.067681,"d":"35.07 €"}},{"$nulls":10},{"$f":"'GRILLE ISG IS G1'!B15","v":4},{"$f":"'GRILLE ISG IS G1'!C15","v":36},{"$f":"'GRILLE ISG IS G1'!D15","v":437}]
[]
[{"$nulls":17},{"$f":"'GRILLE ISG IS G1'!B17","v":5},{"$f":"'GRILLE ISG IS G1'!C17","v":36},{"$f":"'GRILLE ISG IS G1'!D17","v":469}]
[]
[{"$nulls":17},{"$f":"'GRILLE ISG IS G1'!B19","v":6},{"$f":"'GRILLE ISG IS G1'!C19","v":42},{"$f":"'GRILLE ISG IS G1'!D19","v":500}]
["Vos représentant-e-s SUD Santé Sociaux ",{"$nulls":7},{"$f":"RECAPITULATIF!D21","v":35},null,"sont à votre disposition"]
["pour tous renseignements complémentaires au poste :",{"$nulls":11},{"$f":"RECAPITULATIF!D17","v":2886},{"$nulls":4},{"$f":"'GRILLE ISG IS G1'!B21","v":7},{"$f":"'GRILLE ISG IS G1'!C21","v":48},{"$f":"'GRILLE ISG IS G1'!D21","v":521}]
[]
[{"$nulls":17},{"$f":"'GRILLE ISG IS G1'!B23","v":8},{"$f":"'GRILLE ISG IS G1'!C23","v":48},{"$f":"'GRILLE ISG IS G1'!D23","v":541}]
[]
[{"$nulls":17},{"$f":"'GRILLE ISG IS G1'!B25","v":9},{"$f":"'GRILLE ISG IS G1'!C25","v":48},{"$f":"'GRILLE ISG IS G1'!D25","v":565}]
["Recevez toutes nos salutations."]
[{"$nulls":17},{"$f":"'GRILLE ISG IS G1'!B27","v":10},{"$f":"'GRILLE ISG IS G1'!C27","v":0},{"$f":"'GRILLE ISG IS G1'!D27","v":591}]
[]
[{"$f":"RECAPITULATIF!B5","v":"Madame FERET Isabelle, Madame Anne PICHON et Monsieur Patrick GAUTIER"}]
[]
["SUD Santé Sociaux",{"$nulls":3},{"$f":"RECAPITULATIF!D21","v":35}]
[]
[]
[]
[]
["Tél :",{"$f":"RECAPITULATIF!D19","v":{"v":299212886,"d":"02 99 21 28 86"}}]
["Mél :",null,{"$f":"RECAPITULATIF!C23","v":"sudsante@ch-stmalo.fr"}]
[{"$f":"RECAPITULATIF!B25","v":"Site Départemental Sud"},{"$nulls":4},{"$f":"RECAPITULATIF!D25","v":"http://www.sudsantesociaux35.org"}]

{"sheet":"ISG IS G1 Echelon 3","index":22,"n_rows":72,"n_cols":20,"rows_kept":72,"merged":[[1,6,1,16],[2,6,2,11],[2,12,2,16],[8,12,9,14],[12,12,12,14],[15,0,15,14],[17,0,17,16],[19,0,19,3],[21,0,21,14],[23,0,23,4],[23,5,23,8],[23,10,23,12],[23,13,23,16],[26,5,27,17],[32,0,32,4],[32,5,32,6],[32,7,32,10],[32,11,32,12],[35,0,35,2],[35,8,35,9],[35,17,39,19],[39,0,39,7],[39,8,39,9],[39,10,39,13],[40,17,41,17],[40,18,41,18],[40,19,41,19],[42,0,42,12],[42,17,43,17],[42,18,43,18],[42,19,43,19],[44,17,45,17],[44,18,45,18],[44,19,45,19],[45,2,45,3],[45,5,45,7],[46,17,47,17],[46,18,47,18],[46,19,47,19],[48,0,48,5],[48,6,48,8],[48,17,49,17],[48,18,49,18],[48,19,49,19],[50,17,51,17],[50,18,51,18],[50,19,51,19],[52,17,53,17],[52,18,53,18],[52,19,53,19],[53,0,53,7],[53,8,53,9],[53,10,53,14],[54,0,54,11],[54,12,54,13],[54,17,55,17],[54,18,55,18],[54,19,55,19],[56,17,57,17],[56,18,57,18],[56,19,57,19],[57,0,57,16],[58,17,59,17],[58,18,59,18],[58,19,59,19],[59,0,59,16],[60,17,61,17],[60,18,61,18],[60,19,61,19],[62,0,62,16],[64,0,64,3],[69,1,69,4],[70,0,70,1],[70,2,70,7],[71,0,71,4],[71,5,71,12]]}
[]
[{"$nulls":6},"Commission Administrative"]
[{"$nulls":6},"Paritaire",{"$nulls":5},{"$f":"RECAPITULATIF!D7","v":"Locale"}]
[]
[]
[]
[]
[]
[{"$nulls":12},"Mme, Mr :"]
[]
[{"$nulls":12},"Grade :"]
[]
[{"$nulls":12},"Service :"]
[]
[]
["Votre ou vos représentant-e-s du personnel"]
[]
[{"$f":"RECAPITULATIF!B5","v":"Madame FERET Isabelle, Madame Anne PICHON et Monsieur Patrick GAUTIER"}]
[]
["SUD Santé Sociaux",{"$nulls":3},{"$f":"RECAPITULATIF!D21","v":35},"du:"]
[]
[{"$f":"RECAPITULATIF!B2","v":"Centre Hospitalier de Saint Malo"}]
[]
["siégeant auprès de la CAP",{"$nulls":4},{"$f":"RECAPITULATIF!D7","v":"Locale"},{"$nulls":3},"du :",{"$f":"RECAPITULATIF!D11","v":"2019-04-16"},null,null,"vous informe de votre :"]
[]
[]
[{"$nulls":5},"AVANCEMENT D’ECHELON"]
[]
[]
[]
[]
[]
["Vous passez à l’échelon :",{"$nulls":4},{"$f":"'GRILLE ISG IS G1'!B13","v":3},null,"Indice Majoré :",{"$nulls":3},{"$f":"'GRILLE ISG IS G1'!D13","v":416}]
[]
[]
["Date d'effet :",{"$nulls":4},"/",null,"/",{"$f":"RECAPITULATIF!D9","v":2019},{"$nulls":8},{"$f":"'GRILLE ISG IS G1'!B2","v":"Catégorie A             GRADE 1\nInfirmier D.E., Manipulateur d'Electroradiologie Médicale, \nMasseur-Kinésithérapeute,\nErgothérapeute, Psychomotricien, Orthophoniste, Pédicure-Podologue"}]
[]
[]
[]
["Ce qui représente un gain mensuel de :",{"$nulls":7},{"$f":"'GRILLE ISG IS G1'!D13-'GRILLE ISG IS G1'!D11","v":19},null,"points d'indice."]
[{"$nulls":17},{"$f":"'GRILLE ISG IS G1'!B7","v":"Echelon"},{"$f":"'GRILLE ISG IS G1'!C7","v":"Durée\n(en mois)"},{"$f":"'GRILLE ISG IS G1'!D7","v":"Indice\nMajoré"}]
[]
["Pour information, la valeur brute du point d'indice",{"$nulls":16},{"$f":"'GRILLE ISG IS G1'!B9","v":1},{"$f":"'GRILLE ISG IS G1'!C9","v":24},{"$f":"'GRILLE ISG IS G1'!D9","v":388}]
[]
[{"$nulls":17},{"$f":"'GRILLE ISG IS G1'!B11","v":2},{"$f":"'GRILLE ISG IS G1'!C11","v":36},{"$f":"'GRILLE ISG IS G1'!D11","v":397}]
["est de",null,{"$f":"RECAPITULATIF!D13","v":{"v":4.686,"d":"4.686 €"}},null,"au",{"$f":"RECAPITULATIF!D15","v":"2019-01-01"}]
[{"$nulls":17},{"$f":"'GRILLE ISG IS G1'!B13","v":3},{"$f":"'GRILLE ISG IS G1'!C13","v":36},{"$f":"'GRILLE ISG IS G1'!D13","v":416}]
[]
["Soit un gain net mensuel de :",{"$nulls":5},{"$f":"I40*C46*0.8315","v":{"v":74.03177099999999,"d":"74.03 €"}},{"$nulls":10},{"$f":"'GRILLE ISG IS G1'!B15","v":4},{"$f":"'GRILLE ISG IS G1'!C15","v":36},{"$f":"'GRILLE ISG IS G1'!D15","v":437}]
[]
[{"$nulls":17},{"$f":"'GRILLE ISG IS G1'!B17","v":5},{"$f":"'GRILLE ISG IS G1'!C17","v":36},{"$f":"'GRILLE ISG IS G1'!D17","v":469}]
[]
[{"$nulls":17},{"$f":"'GRILLE ISG IS G1'!B19","v":6},{"$f":"'GRILLE ISG IS G1'!C19","v":42},{"$f":"'GRILLE ISG IS G1'!D19","v":500}]
["Vos représentant-e-s SUD Santé Sociaux ",{"$nulls":7},{"$f":"RECAPITULATIF!D21","v":35},null,"sont à votre disposition"]
["pour tous renseignements complémentaires au poste :",{"$nulls":11},{"$f":"RECAPITULATIF!D17","v":2886},{"$nulls":4},{"$f":"'GRILLE ISG IS G1'!B21","v":7},{"$f":"'GRILLE ISG IS G1'!C21","v":48},{"$f":"'GRILLE ISG IS G1'!D21","v":521}]
[]
[{"$nulls":17},{"$f":"'GRILLE ISG IS G1'!B23","v":8},{"$f":"'GRILLE ISG IS G1'!C23","v":48},{"$f":"'GRILLE ISG IS G1'!D23","v":541}]
[]
[{"$nulls":17},{"$f":"'GRILLE ISG IS G1'!B25","v":9},{"$f":"'GRILLE ISG IS G1'!C25","v":48},{"$f":"'GRILLE ISG IS G1'!D25","v":565}]
["Recevez toutes nos salutations."]
[{"$nulls":17},{"$f":"'GRILLE ISG IS G1'!B27","v":10},{"$f":"'GRILLE ISG IS G1'!C27","v":0},{"$f":"'GRILLE ISG IS G1'!D27","v":591}]
[]
[{"$f":"RECAPITULATIF!B5","v":"Madame FERET Isabelle, Madame Anne PICHON et Monsieur Patrick GAUTIER"}]
[]
["SUD Santé Sociaux",{"$nulls":3},{"$f":"RECAPITULATIF!D21","v":35}]
[]
[]
[]
[]
["Tél :",{"$f":"RECAPITULATIF!D19","v":{"v":299212886,"d":"02 99 21 28 86"}}]
["Mél :",null,{"$f":"RECAPITULATIF!C23","v":"sudsante@ch-stmalo.fr"}]
[{"$f":"RECAPITULATIF!B25","v":"Site Départemental Sud"},{"$nulls":4},{"$f":"RECAPITULATIF!D25","v":"http://www.sudsantesociaux35.org"}]

{"sheet":"ISG IS G1 Echelon 4","index":23,"n_rows":72,"n_cols":20,"rows_kept":72,"merged":[[1,6,1,16],[2,6,2,11],[2,12,2,16],[8,12,9,14],[12,12,12,14],[15,0,15,14],[17,0,17,16],[19,0,19,3],[21,0,21,14],[23,0,23,4],[23,5,23,8],[23,10,23,12],[23,13,23,16],[26,5,27,17],[32,0,32,4],[32,5,32,6],[32,7,32,10],[32,11,32,12],[35,0,35,2],[35,8,35,9],[35,17,39,19],[39,0,39,7],[39,8,39,9],[39,10,39,13],[40,17,41,17],[40,18,41,18],[40,19,41,19],[42,0,42,12],[42,17,43,17],[42,18,43,18],[42,19,43,19],[44,17,45,17],[44,18,45,18],[44,19,45,19],[45,2,45,3],[45,5,45,7],[46,17,47,17],[46,18,47,18],[46,19,47,19],[48,0,48,5],[48,6,48,8],[48,17,49,17],[48,18,49,18],[48,19,49,19],[50,17,51,17],[50,18,51,18],[50,19,51,19],[52,17,53,17],[52,18,53,18],[52,19,53,19],[53,0,53,7],[53,8,53,9],[53,10,53,14],[54,0,54,11],[54,12,54,13],[54,17,55,17],[54,18,55,18],[54,19,55,19],[56,17,57,17],[56,18,57,18],[56,19,57,19],[57,0,57,16],[58,17,59,17],[58,18,59,18],[58,19,59,19],[59,0,59,16],[60,17,61,17],[60,18,61,18],[60,19,61,19],[62,0,62,16],[64,0,64,3],[69,1,69,4],[70,0,70,1],[70,2,70,7],[71,0,71,4],[71,5,71,12]]}
[]
[{"$nulls":6},"Commission Administrative"]
[{"$nulls":6},"Paritaire",{"$nulls":5},{"$f":"RECAPITULATIF!D7","v":"Locale"}]
[]
[]
[]
[]
[]
[{"$nulls":12},"Mme, Mr :"]
[]
[{"$nulls":12},"Grade :"]
[]
[{"$nulls":12},"Service :"]
[]
[]
["Votre ou vos représentant-e-s du personnel"]
[]
[{"$f":"RECAPITULATIF!B5","v":"Madame FERET Isabelle, Madame Anne PICHON et Monsieur Patrick GAUTIER"}]
[]
["SUD Santé Sociaux",{"$nulls":3},{"$f":"RECAPITULATIF!D21","v":35},"du:"]
[]
[{"$f":"RECAPITULATIF!B2","v":"Centre Hospitalier de Saint Malo"}]
[]
["siégeant auprès de la CAP",{"$nulls":4},{"$f":"RECAPITULATIF!D7","v":"Locale"},{"$nulls":3},"du :",{"$f":"RECAPITULATIF!D11","v":"2019-04-16"},null,null,"vous informe de votre :"]
[]
[]
[{"$nulls":5},"AVANCEMENT D’ECHELON"]
[]
[]
[]
[]
[]
["Vous passez à l’échelon :",{"$nulls":4},{"$f":"'GRILLE ISG IS G1'!B15","v":4},null,"Indice Majoré :",{"$nulls":3},{"$f":"'GRILLE ISG IS G1'!D15","v":437}]
[]
[]
["Date d'effet :",{"$nulls":4},"/",null,"/",{"$f":"RECAPITULATIF!D9","v":2019},{"$nulls":8},{"$f":"'GRILLE ISG IS G1'!B2","v":"Catégorie A             GRADE 1\nInfirmier D.E., Manipulateur d'Electroradiologie Médicale, \nMasseur-Kinésithérapeute,\nErgothérapeute, Psychomotricien, Orthophoniste, Pédicure-Podologue"}]
[]
[]
[]
["Ce qui représente un gain mensuel de :",{"$nulls":7},{"$f":"'GRILLE ISG IS G1'!D15-'GRILLE ISG IS G1'!D13","v":21},null,"points d'indice."]
[{"$nulls":17},{"$f":"'GRILLE ISG IS G1'!B7","v":"Echelon"},{"$f":"'GRILLE ISG IS G1'!C7","v":"Durée\n(en mois)"},{"$f":"'GRILLE ISG IS G1'!D7","v":"Indice\nMajoré"}]
[]
["Pour information, la valeur brute du point d'indice",{"$nulls":16},{"$f":"'GRILLE ISG IS G1'!B9","v":1},{"$f":"'GRILLE ISG IS G1'!C9","v":24},{"$f":"'GRILLE ISG IS G1'!D9","v":388}]
[]
[{"$nulls":17},{"$f":"'GRILLE ISG IS G1'!B11","v":2},{"$f":"'GRILLE ISG IS G1'!C11","v":36},{"$f":"'GRILLE ISG IS G1'!D11","v":397}]
["est de",null,{"$f":"RECAPITULATIF!D13","v":{"v":4.686,"d":"4.686 €"}},null,"au",{"$f":"RECAPITULATIF!D15","v":"2019-01-01"}]
[{"$nulls":17},{"$f":"'GRILLE ISG IS G1'!B13","v":3},{"$f":"'GRILLE ISG IS G1'!C13","v":36},{"$f":"'GRILLE ISG IS G1'!D13","v":416}]
[]
["Soit un gain net mensuel de :",{"$nulls":5},{"$f":"I40*C46*0.8315","v":{"v":81.824589,"d":"81.82 €"}},{"$nulls":10},{"$f":"'GRILLE ISG IS G1'!B15","v":4},{"$f":"'GRILLE ISG IS G1'!C15","v":36},{"$f":"'GRILLE ISG IS G1'!D15","v":437}]
[]
[{"$nulls":17},{"$f":"'GRILLE ISG IS G1'!B17","v":5},{"$f":"'GRILLE ISG IS G1'!C17","v":36},{"$f":"'GRILLE ISG IS G1'!D17","v":469}]
[]
[{"$nulls":17},{"$f":"'GRILLE ISG IS G1'!B19","v":6},{"$f":"'GRILLE ISG IS G1'!C19","v":42},{"$f":"'GRILLE ISG IS G1'!D19","v":500}]
["Vos représentant-e-s SUD Santé Sociaux ",{"$nulls":7},{"$f":"RECAPITULATIF!D21","v":35},null,"sont à votre disposition"]
["pour tous renseignements complémentaires au poste :",{"$nulls":11},{"$f":"RECAPITULATIF!D17","v":2886},{"$nulls":4},{"$f":"'GRILLE ISG IS G1'!B21","v":7},{"$f":"'GRILLE ISG IS G1'!C21","v":48},{"$f":"'GRILLE ISG IS G1'!D21","v":521}]
[]
[{"$nulls":17},{"$f":"'GRILLE ISG IS G1'!B23","v":8},{"$f":"'GRILLE ISG IS G1'!C23","v":48},{"$f":"'GRILLE ISG IS G1'!D23","v":541}]
[]
[{"$nulls":17},{"$f":"'GRILLE ISG IS G1'!B25","v":9},{"$f":"'GRILLE ISG IS G1'!C25","v":48},{"$f":"'GRILLE ISG IS G1'!D25","v":565}]
["Recevez toutes nos salutations."]
[{"$nulls":17},{"$f":"'GRILLE ISG IS G1'!B27","v":10},{"$f":"'GRILLE ISG IS G1'!C27","v":0},{"$f":"'GRILLE ISG IS G1'!D27","v":591}]
[]
[{"$f":"RECAPITULATIF!B5","v":"Madame FERET Isabelle, Madame Anne PICHON et Monsieur Patrick GAUTIER"}]
[]
["SUD Santé Sociaux",{"$nulls":3},{"$f":"RECAPITULATIF!D21","v":35}]
[]
[]
[]
[]
["Tél :",{"$f":"RECAPITULATIF!D19","v":{"v":299212886,"d":"02 99 21 28 86"}}]
["Mél :",null,{"$f":"RECAPITULATIF!C23","v":"sudsante@ch-stmalo.fr"}]
[{"$f":"RECAPITULATIF!B25","v":"Site Départemental Sud"},{"$nulls":4},{"$f":"RECAPITULATIF!D25","v":"http://www.sudsantesociaux35.org"}]

{"sheet":"ISG IS G1 Echelon 5","index":24,"n_rows":72,"n_cols":20,"rows_kept":72,"merged":[[1,6,1,16],[2,6,2,11],[2,12,2,16],[8,12,9,14],[12,12,12,14],[15,0,15,14],[17,0,17,16],[19,0,19,3],[21,0,21,14],[23,0,23,4],[23,5,23,8],[23,10,23,12],[23,13,23,16],[26,5,27,17],[32,0,32,4],[32,5,32,6],[32,7,32,10],[32,11,32,12],[35,0,35,2],[35,8,35,9],[35,17,39,19],[39,0,39,7],[39,8,39,9],[39,10,39,13],[40,17,41,17],[40,18,41,18],[40,19,41,19],[42,0,42,12],[42,17,43,17],[42,18,43,18],[42,19,43,19],[44,17,45,17],[44,18,45,18],[44,19,45,19],[45,2,45,3],[45,5,45,7],[46,17,47,17],[46,18,47,18],[46,19,47,19],[48,0,48,5],[48,6,48,8],[48,17,49,17],[48,18,49,18],[48,19,49,19],[50,17,51,17],[50,18,51,18],[50,19,51,19],[52,17,53,17],[52,18,53,18],[52,19,53,19],[53,0,53,7],[53,8,53,9],[53,10,53,14],[54,0,54,11],[54,12,54,13],[54,17,55,17],[54,18,55,18],[54,19,55,19],[56,17,57,17],[56,18,57,18],[56,19,57,19],[57,0,57,16],[58,17,59,17],[58,18,59,18],[58,19,59,19],[59,0,59,16],[60,17,61,17],[60,18,61,18],[60,19,61,19],[62,0,62,16],[64,0,64,3],[69,1,69,4],[70,0,70,1],[70,2,70,7],[71,0,71,4],[71,5,71,12]]}
[]
[{"$nulls":6},"Commission Administrative"]
[{"$nulls":6},"Paritaire",{"$nulls":5},{"$f":"RECAPITULATIF!D7","v":"Locale"}]
[]
[]
[]
[]
[]
[{"$nulls":12},"Mme, Mr :"]
[]
[{"$nulls":12},"Grade :"]
[]
[{"$nulls":12},"Service :"]
[]
[]
["Votre ou vos représentant-e-s du personnel"]
[]
[{"$f":"RECAPITULATIF!B5","v":"Madame FERET Isabelle, Madame Anne PICHON et Monsieur Patrick GAUTIER"}]
[]
["SUD Santé Sociaux",{"$nulls":3},{"$f":"RECAPITULATIF!D21","v":35},"du:"]
[]
[{"$f":"RECAPITULATIF!B2","v":"Centre Hospitalier de Saint Malo"}]
[]
["siégeant auprès de la CAP",{"$nulls":4},{"$f":"RECAPITULATIF!D7","v":"Locale"},{"$nulls":3},"du :",{"$f":"RECAPITULATIF!D11","v":"2019-04-16"},null,null,"vous informe de votre :"]
[]
[]
[{"$nulls":5},"AVANCEMENT D’ECHELON"]
[]
[]
[]
[]
[]
["Vous passez à l’échelon :",{"$nulls":4},{"$f":"'GRILLE ISG IS G2'!B17","v":5},null,"Indice Majoré :",{"$nulls":3},{"$f":"'GRILLE ISG IS G1'!D17","v":469}]
[]
[]
["Date d'effet :",{"$nulls":4},"/",null,"/",{"$f":"RECAPITULATIF!D9","v":2019},{"$nulls":8},{"$f":"'GRILLE ISG IS G1'!B2","v":"Catégorie A             GRADE 1\nInfirmier D.E., Manipulateur d'Electroradiologie Médicale, \nMasseur-Kinésithérapeute,\nErgothérapeute, Psychomotricien, Orthophoniste, Pédicure-Podologue"}]
[]
[]
[]
["Ce qui représente un gain mensuel de :",{"$nulls":7},{"$f":"'GRILLE ISG IS G2'!D17-'GRILLE ISG IS G2'!D15","v":23},null,"points d'indice."]
[{"$nulls":17},{"$f":"'GRILLE ISG IS G2'!B7","v":"Echelon"},{"$f":"'GRILLE ISG IS G2'!C7","v":"Durée\n(en mois)"},{"$f":"'GRILLE ISG IS G2'!D7","v":"Indice Majoré"}]
[]
["Pour information, la valeur brute du point d'indice",{"$nulls":16},{"$f":"'GRILLE ISG IS G1'!B9","v":1},{"$f":"'GRILLE ISG IS G1'!C9","v":24},{"$f":"'GRILLE ISG IS G1'!D9","v":388}]
[]
[{"$nulls":17},{"$f":"'GRILLE ISG IS G1'!B11","v":2},{"$f":"'GRILLE ISG IS G1'!C11","v":36},{"$f":"'GRILLE ISG IS G1'!D11","v":397}]
["est de",null,{"$f":"RECAPITULATIF!D13","v":{"v":4.686,"d":"4.686 €"}},null,"au",{"$f":"RECAPITULATIF!D15","v":"2019-01-01"}]
[{"$nulls":17},{"$f":"'GRILLE ISG IS G1'!B13","v":3},{"$f":"'GRILLE ISG IS G1'!C13","v":36},{"$f":"'GRILLE ISG IS G1'!D13","v":416}]
[]
["Soit un gain net mensuel de :",{"$nulls":5},{"$f":"I40*C46*0.8315","v":{"v":89.617407,"d":"89.62 €"}},{"$nulls":10},{"$f":"'GRILLE ISG IS G1'!B15","v":4},{"$f":"'GRILLE ISG IS G1'!C15","v":36},{"$f":"'GRILLE ISG IS G1'!D15","v":437}]
[]
[{"$nulls":17},{"$f":"'GRILLE ISG IS G1'!B17","v":5},{"$f":"'GRILLE ISG IS G1'!C17","v":36},{"$f":"'GRILLE ISG IS G1'!D17","v":469}]
[]
[{"$nulls":17},{"$f":"'GRILLE ISG IS G1'!B19","v":6},{"$f":"'GRILLE ISG IS G1'!C19","v":42},{"$f":"'GRILLE ISG IS G1'!D19","v":500}]
["Vos représentant-e-s SUD Santé Sociaux ",{"$nulls":7},{"$f":"RECAPITULATIF!D21","v":35},null,"sont à votre disposition"]
["pour tous renseignements complémentaires au poste :",{"$nulls":11},{"$f":"RECAPITULATIF!D17","v":2886},{"$nulls":4},{"$f":"'GRILLE ISG IS G1'!B21","v":7},{"$f":"'GRILLE ISG IS G1'!C21","v":48},{"$f":"'GRILLE ISG IS G1'!D21","v":521}]
[]
[{"$nulls":17},{"$f":"'GRILLE ISG IS G1'!B23","v":8},{"$f":"'GRILLE ISG IS G1'!C23","v":48},{"$f":"'GRILLE ISG IS G1'!D23","v":541}]
[]
[{"$nulls":17},{"$f":"'GRILLE ISG IS G1'!B25","v":9},{"$f":"'GRILLE ISG IS G1'!C25","v":48},{"$f":"'GRILLE ISG IS G1'!D25","v":565}]
["Recevez toutes nos salutations."]
[{"$nulls":17},{"$f":"'GRILLE ISG IS G1'!B27","v":10},{"$f":"'GRILLE ISG IS G1'!C27","v":0},{"$f":"'GRILLE ISG IS G1'!D27","v":591}]
[]
[{"$f":"RECAPITULATIF!B5","v":"Madame FERET Isabelle, Madame Anne PICHON et Monsieur Patrick GAUTIER"}]
[]
["SUD Santé Sociaux",{"$nulls":3},{"$f":"RECAPITULATIF!D21","v":35}]
[]
[]
[]
[]
["Tél :",{"$f":"RECAPITULATIF!D19","v":{"v":299212886,"d":"02 99 21 28 86"}}]
["Mél :",null,{"$f":"RECAPITULATIF!C23","v":"sudsante@ch-stmalo.fr"}]
[{"$f":"RECAPITULATIF!B25","v":"Site Départemental Sud"},{"$nulls":4},{"$f":"RECAPITULATIF!D25","v":"http://www.sudsantesociaux35.org"}]

{"sheet":"ISG IS G1 Echelon 6","index":25,"n_rows":72,"n_cols":20,"rows_kept":72,"merged":[[1,6,1,16],[2,6,2,11],[2,12,2,16],[8,12,9,14],[12,12,12,14],[15,0,15,14],[17,0,17,16],[19,0,19,3],[21,0,21,14],[23,0,23,4],[23,5,23,8],[23,10,23,12],[23,13,23,16],[26,5,27,17],[32,0,32,4],[32,5,32,6],[32,7,32,10],[32,11,32,12],[35,0,35,2],[35,8,35,9],[35,17,39,19],[39,0,39,7],[39,8,39,9],[39,10,39,13],[40,17,41,17],[40,18,41,18],[40,19,41,19],[42,0,42,12],[42,17,43,17],[42,18,43,18],[42,19,43,19],[44,17,45,17],[44,18,45,18],[44,19,45,19],[45,2,45,3],[45,5,45,7],[46,17,47,17],[46,18,47,18],[46,19,47,19],[48,0,48,5],[48,6,48,8],[48,17,49,17],[48,18,49,18],[48,19,49,19],[50,17,51,17],[50,18,51,18],[50,19,51,19],[52,17,53,17],[52,18,53,18],[52,19,53,19],[53,0,53,7],[53,8,53,9],[53,10,53,14],[54,0,54,11],[54,12,54,13],[54,17,55,17],[54,18,55,18],[54,19,55,19],[56,17,57,17],[56,18,57,18],[56,19,57,19],[57,0,57,16],[58,17,59,17],[58,18,59,18],[58,19,59,19],[59,0,59,16],[60,17,61,17],[60,18,61,18],[60,19,61,19],[62,0,62,16],[64,0,64,3],[69,1,69,4],[70,0,70,1],[70,2,70,7],[71,0,71,4],[71,5,71,12]]}
[]
[{"$nulls":6},"Commission Administrative"]
[{"$nulls":6},"Paritaire",{"$nulls":5},{"$f":"RECAPITULATIF!D7","v":"Locale"}]
[]
[]
[]
[]
[]
[{"$nulls":12},"Mme, Mr :"]
[]
[{"$nulls":12},"Grade :"]
[]
[{"$nulls":12},"Service :"]
[]
[]
["Votre ou vos représentant-e-s du personnel"]
[]
[{"$f":"RECAPITULATIF!B5","v":"Madame FERET Isabelle, Madame Anne PICHON et Monsieur Patrick GAUTIER"}]
[]
["SUD Santé Sociaux",{"$nulls":3},{"$f":"RECAPITULATIF!D21","v":35},"du:"]
[]
[{"$f":"RECAPITULATIF!B2","v":"Centre Hospitalier de Saint Malo"}]
[]
["siégeant auprès de la CAP",{"$nulls":4},{"$f":"RECAPITULATIF!D7","v":"Locale"},{"$nulls":3},"du :",{"$f":"RECAPITULATIF!D11","v":"2019-04-16"},null,null,"vous informe de votre :"]
[]
[]
[{"$nulls":5},"AVANCEMENT D’ECHELON"]
[]
[]
[]
[]
[]
["Vous passez à l’échelon :",{"$nulls":4},{"$f":"'GRILLE ISG IS G1'!B19","v":6},null,"Indice Majoré :",{"$nulls":3},{"$f":"'GRILLE ISG IS G1'!D19","v":500}]
[]
[]
["Date d'effet :",{"$nulls":4},"/",null,"/",{"$f":"RECAPITULATIF!D9","v":2019},{"$nulls":8},{"$f":"'GRILLE ISG IS G1'!B2","v":"Catégorie A             GRADE 1\nInfirmier D.E., Manipulateur d'Electroradiologie Médicale, \nMasseur-Kinésithérapeute,\nErgothérapeute, Psychomotricien, Orthophoniste, Pédicure-Podologue"}]
[]
[]
[]
["Ce qui représente un gain mensuel de :",{"$nulls":7},{"$f":"'GRILLE ISG IS G1'!D19-'GRILLE ISG IS G1'!D17","v":31},null,"points d'indice."]
[{"$nulls":17},{"$f":"'GRILLE ISG IS G1'!B7","v":"Echelon"},{"$f":"'GRILLE ISG IS G1'!C7","v":"Durée\n(en mois)"},{"$f":"'GRILLE ISG IS G1'!D7","v":"Indice\nMajoré"}]
[]
["Pour information, la valeur brute du point d'indice",{"$nulls":16},{"$f":"'GRILLE ISG IS G1'!B9","v":1},{"$f":"'GRILLE ISG IS G1'!C9","v":24},{"$f":"'GRILLE ISG IS G1'!D9","v":388}]
[]
[{"$nulls":17},{"$f":"'GRILLE ISG IS G1'!B11","v":2},{"$f":"'GRILLE ISG IS G1'!C11","v":36},{"$f":"'GRILLE ISG IS G1'!D11","v":397}]
["est de",null,{"$f":"RECAPITULATIF!D13","v":{"v":4.686,"d":"4.686 €"}},null,"au",{"$f":"RECAPITULATIF!D15","v":"2019-01-01"}]
[{"$nulls":17},{"$f":"'GRILLE ISG IS G1'!B13","v":3},{"$f":"'GRILLE ISG IS G1'!C13","v":36},{"$f":"'GRILLE ISG IS G1'!D13","v":416}]
[]
["Soit un gain net mensuel de :",{"$nulls":5},{"$f":"I40*C46*0.8315","v":{"v":120.788679,"d":"120.79 €"}},{"$nulls":10},{"$f":"'GRILLE ISG IS G1'!B15","v":4},{"$f":"'GRILLE ISG IS G1'!C15","v":36},{"$f":"'GRILLE ISG IS G1'!D15","v":437}]
[]
[{"$nulls":17},{"$f":"'GRILLE ISG IS G1'!B17","v":5},{"$f":"'GRILLE ISG IS G1'!C17","v":36},{"$f":"'GRILLE ISG IS G1'!D17","v":469}]
[]
[{"$nulls":17},{"$f":"'GRILLE ISG IS G1'!B19","v":6},{"$f":"'GRILLE ISG IS G1'!C19","v":42},{"$f":"'GRILLE ISG IS G1'!D19","v":500}]
["Vos représentant-e-s SUD Santé Sociaux ",{"$nulls":7},{"$f":"RECAPITULATIF!D21","v":35},null,"sont à votre disposition"]
["pour tous renseignements complémentaires au poste :",{"$nulls":11},{"$f":"RECAPITULATIF!D17","v":2886},{"$nulls":4},{"$f":"'GRILLE ISG IS G1'!B21","v":7},{"$f":"'GRILLE ISG IS G1'!C21","v":48},{"$f":"'GRILLE ISG IS G1'!D21","v":521}]
[]
[{"$nulls":17},{"$f":"'GRILLE ISG IS G1'!B23","v":8},{"$f":"'GRILLE ISG IS G1'!C23","v":48},{"$f":"'GRILLE ISG IS G1'!D23","v":541}]
[]
[{"$nulls":17},{"$f":"'GRILLE ISG IS G1'!B25","v":9},{"$f":"'GRILLE ISG IS G1'!C25","v":48},{"$f":"'GRILLE ISG IS G1'!D25","v":565}]
["Recevez toutes nos salutations."]
[{"$nulls":17},{"$f":"'GRILLE ISG IS G1'!B27","v":10},{"$f":"'GRILLE ISG IS G1'!C27","v":0},{"$f":"'GRILLE ISG IS G1'!D27","v":591}]
[]
[{"$f":"RECAPITULATIF!B5","v":"Madame FERET Isabelle, Madame Anne PICHON et Monsieur Patrick GAUTIER"}]
[]
["SUD Santé Sociaux",{"$nulls":3},{"$f":"RECAPITULATIF!D21","v":35}]
[]
[]
[]
[]
["Tél :",{"$f":"RECAPITULATIF!D19","v":{"v":299212886,"d":"02 99 21 28 86"}}]
["Mél :",null,{"$f":"RECAPITULATIF!C23","v":"sudsante@ch-stmalo.fr"}]
[{"$f":"RECAPITULATIF!B25","v":"Site Départemental Sud"},{"$nulls":4},{"$f":"RECAPITULATIF!D25","v":"http://www.sudsantesociaux35.org"}]

{"sheet":"ISG IS G1 Echelon 7","index":26,"n_rows":72,"n_cols":20,"rows_kept":72,"merged":[[1,6,1,16],[2,6,2,11],[2,12,2,16],[8,12,9,14],[12,12,12,14],[15,0,15,14],[17,0,17,16],[19,0,19,3],[21,0,21,14],[23,0,23,4],[23,5,23,8],[23,10,23,12],[23,13,23,16],[26,5,27,17],[32,0,32,4],[32,5,32,6],[32,7,32,10],[32,11,32,12],[35,0,35,2],[35,8,35,9],[35,17,39,19],[39,0,39,7],[39,8,39,9],[39,10,39,13],[40,17,41,17],[40,18,41,18],[40,19,41,19],[42,0,42,12],[42,17,43,17],[42,18,43,18],[42,19,43,19],[44,17,45,17],[44,18,45,18],[44,19,45,19],[45,2,45,3],[45,5,45,7],[46,17,47,17],[46,18,47,18],[46,19,47,19],[48,0,48,5],[48,6,48,8],[48,17,49,17],[48,18,49,18],[48,19,49,19],[50,17,51,17],[50,18,51,18],[50,19,51,19],[52,17,53,17],[52,18,53,18],[52,19,53,19],[53,0,53,7],[53,8,53,9],[53,10,53,14],[54,0,54,11],[54,12,54,13],[54,17,55,17],[54,18,55,18],[54,19,55,19],[56,17,57,17],[56,18,57,18],[56,19,57,19],[57,0,57,16],[58,17,59,17],[58,18,59,18],[58,19,59,19],[59,0,59,16],[60,17,61,17],[60,18,61,18],[60,19,61,19],[62,0,62,16],[64,0,64,3],[69,1,69,4],[70,0,70,1],[70,2,70,7],[71,0,71,4],[71,5,71,12]]}
[]
[{"$nulls":6},"Commission Administrative"]
[{"$nulls":6},"Paritaire",{"$nulls":5},{"$f":"RECAPITULATIF!D7","v":"Locale"}]
[]
[]
[]
[]
[]
[{"$nulls":12},"Mme, Mr :"]
[]
[{"$nulls":12},"Grade :"]
[]
[{"$nulls":12},"Service :"]
[]
[]
["Votre ou vos représentant-e-s du personnel"]
[]
[{"$f":"RECAPITULATIF!B5","v":"Madame FERET Isabelle, Madame Anne PICHON et Monsieur Patrick GAUTIER"}]
[]
["SUD Santé Sociaux",{"$nulls":3},{"$f":"RECAPITULATIF!D21","v":35},"du:"]
[]
[{"$f":"RECAPITULATIF!B2","v":"Centre Hospitalier de Saint Malo"}]
[]
["siégeant auprès de la CAP",{"$nulls":4},{"$f":"RECAPITULATIF!D7","v":"Locale"},{"$nulls":3},"du :",{"$f":"RECAPITULATIF!D11","v":"2019-04-16"},null,null,"vous informe de votre :"]
[]
[]
[{"$nulls":5},"AVANCEMENT D’ECHELON"]
[]
[]
[]
[]
[]
["Vous passez à l’échelon :",{"$nulls":4},{"$f":"'GRILLE ISG IS G1'!B21","v":7},null,"Indice Majoré :",{"$nulls":3},{"$f":"'GRILLE ISG IS G1'!D21","v":521}]
[]
[]
["Date d'effet :",{"$nulls":4},"/",null,"/",{"$f":"RECAPITULATIF!D9","v":2019},{"$nulls":8},{"$f":"'GRILLE ISG IS G1'!B2","v":"Catégorie A             GRADE 1\nInfirmier D.E., Manipulateur d'Electroradiologie Médicale, \nMasseur-Kinésithérapeute,\nErgothérapeute, Psychomotricien, Orthophoniste, Pédicure-Podologue"}]
[]
[]
[]
["Ce qui représente un gain mensuel de :",{"$nulls":7},{"$f":"'GRILLE ISG IS G1'!D21-'GRILLE ISG IS G1'!D19","v":21},null,"points d'indice."]
[{"$nulls":17},{"$f":"'GRILLE ISG IS G1'!B7","v":"Echelon"},{"$f":"'GRILLE ISG IS G1'!C7","v":"Durée\n(en mois)"},{"$f":"'GRILLE ISG IS G1'!D7","v":"Indice\nMajoré"}]
[]
["Pour information, la valeur brute du point d'indice",{"$nulls":16},{"$f":"'GRILLE ISG IS G1'!B9","v":1},{"$f":"'GRILLE ISG IS G1'!C9","v":24},{"$f":"'GRILLE ISG IS G1'!D9","v":388}]
[]
[{"$nulls":17},{"$f":"'GRILLE ISG IS G1'!B11","v":2},{"$f":"'GRILLE ISG IS G1'!C11","v":36},{"$f":"'GRILLE ISG IS G1'!D11","v":397}]
["est de",null,{"$f":"RECAPITULATIF!D13","v":{"v":4.686,"d":"4.686 €"}},null,"au",{"$f":"RECAPITULATIF!D15","v":"2019-01-01"}]
[{"$nulls":17},{"$f":"'GRILLE ISG IS G1'!B13","v":3},{"$f":"'GRILLE ISG IS G1'!C13","v":36},{"$f":"'GRILLE ISG IS G1'!D13","v":416}]
[]
["Soit un gain net mensuel de :",{"$nulls":5},{"$f":"I40*C46*0.8315","v":{"v":81.824589,"d":"81.82 €"}},{"$nulls":10},{"$f":"'GRILLE ISG IS G1'!B15","v":4},{"$f":"'GRILLE ISG IS G1'!C15","v":36},{"$f":"'GRILLE ISG IS G1'!D15","v":437}]
[]
[{"$nulls":17},{"$f":"'GRILLE ISG IS G1'!B17","v":5},{"$f":"'GRILLE ISG IS G1'!C17","v":36},{"$f":"'GRILLE ISG IS G1'!D17","v":469}]
[]
[{"$nulls":17},{"$f":"'GRILLE ISG IS G1'!B19","v":6},{"$f":"'GRILLE ISG IS G1'!C19","v":42},{"$f":"'GRILLE ISG IS G1'!D19","v":500}]
["Vos représentant-e-s SUD Santé Sociaux ",{"$nulls":7},{"$f":"RECAPITULATIF!D21","v":35},null,"sont à votre disposition"]
["pour tous renseignements complémentaires au poste :",{"$nulls":11},{"$f":"RECAPITULATIF!D17","v":2886},{"$nulls":4},{"$f":"'GRILLE ISG IS G1'!B21","v":7},{"$f":"'GRILLE ISG IS G1'!C21","v":48},{"$f":"'GRILLE ISG IS G1'!D21","v":521}]
[]
[{"$nulls":17},{"$f":"'GRILLE ISG IS G1'!B23","v":8},{"$f":"'GRILLE ISG IS G1'!C23","v":48},{"$f":"'GRILLE ISG IS G1'!D23","v":541}]
[]
[{"$nulls":17},{"$f":"'GRILLE ISG IS G1'!B25","v":9},{"$f":"'GRILLE ISG IS G1'!C25","v":48},{"$f":"'GRILLE ISG IS G1'!D25","v":565}]
["Recevez toutes nos salutations."]
[{"$nulls":17},{"$f":"'GRILLE ISG IS G1'!B27","v":10},{"$f":"'GRILLE ISG IS G1'!C27","v":0},{"$f":"'GRILLE ISG IS G1'!D27","v":591}]
[]
[{"$f":"RECAPITULATIF!B5","v":"Madame FERET Isabelle, Madame Anne PICHON et Monsieur Patrick GAUTIER"}]
[]
["SUD Santé Sociaux",{"$nulls":3},{"$f":"RECAPITULATIF!D21","v":35}]
[]
[]
[]
[]
["Tél :",{"$f":"RECAPITULATIF!D19","v":{"v":299212886,"d":"02 99 21 28 86"}}]
["Mél :",null,{"$f":"RECAPITULATIF!C23","v":"sudsante@ch-stmalo.fr"}]
[{"$f":"RECAPITULATIF!B25","v":"Site Départemental Sud"},{"$nulls":4},{"$f":"RECAPITULATIF!D25","v":"http://www.sudsantesociaux35.org"}]

{"sheet":"ISG IS G1 Echelon 8","index":27,"n_rows":72,"n_cols":20,"rows_kept":72,"merged":[[1,6,1,16],[2,6,2,11],[2,12,2,16],[8,12,9,14],[12,12,12,14],[15,0,15,14],[17,0,17,16],[19,0,19,3],[21,0,21,14],[23,0,23,4],[23,5,23,8],[23,10,23,12],[23,13,23,16],[26,5,27,17],[32,0,32,4],[32,5,32,6],[32,7,32,10],[32,11,32,12],[35,0,35,2],[35,8,35,9],[35,17,39,19],[39,0,39,7],[39,8,39,9],[39,10,39,13],[40,17,41,17],[40,18,41,18],[40,19,41,19],[42,0,42,12],[42,17,43,17],[42,18,43,18],[42,19,43,19],[44,17,45,17],[44,18,45,18],[44,19,45,19],[45,2,45,3],[45,5,45,7],[46,17,47,17],[46,18,47,18],[46,19,47,19],[48,0,48,5],[48,6,48,8],[48,17,49,17],[48,18,49,18],[48,19,49,19],[50,17,51,17],[50,18,51,18],[50,19,51,19],[52,17,53,17],[52,18,53,18],[52,19,53,19],[53,0,53,7],[53,8,53,9],[53,10,53,14],[54,0,54,11],[54,12,54,13],[54,17,55,17],[54,18,55,18],[54,19,55,19],[56,17,57,17],[56,18,57,18],[56,19,57,19],[57,0,57,16],[58,17,59,17],[58,18,59,18],[58,19,59,19],[59,0,59,16],[60,17,61,17],[60,18,61,18],[60,19,61,19],[62,0,62,16],[64,0,64,3],[69,1,69,4],[70,0,70,1],[70,2,70,7],[71,0,71,4],[71,5,71,12]]}
[]
[{"$nulls":6},"Commission Administrative"]
[{"$nulls":6},"Paritaire",{"$nulls":5},{"$f":"RECAPITULATIF!D7","v":"Locale"}]
[]
[]
[]
[]
[]
[{"$nulls":12},"Mme, Mr :"]
[]
[{"$nulls":12},"Grade :"]
[]
[{"$nulls":12},"Service :"]
[]
[]
["Votre ou vos représentant-e-s du personnel"]
[]
[{"$f":"RECAPITULATIF!B5","v":"Madame FERET Isabelle, Madame Anne PICHON et Monsieur Patrick GAUTIER"}]
[]
["SUD Santé Sociaux",{"$nulls":3},{"$f":"RECAPITULATIF!D21","v":35},"du:"]
[]
[{"$f":"RECAPITULATIF!B2","v":"Centre Hospitalier de Saint Malo"}]
[]
["siégeant auprès de la CAP",{"$nulls":4},{"$f":"RECAPITULATIF!D7","v":"Locale"},{"$nulls":3},"du :",{"$f":"RECAPITULATIF!D11","v":"2019-04-16"},null,null,"vous informe de votre :"]
[]
[]
[{"$nulls":5},"AVANCEMENT D’ECHELON"]
[]
[]
[]
[]
[]
["Vous passez à l’échelon :",{"$nulls":4},{"$f":"'GRILLE ISG IS G1'!B23","v":8},null,"Indice Majoré :",{"$nulls":3},{"$f":"'GRILLE ISG IS G1'!D23","v":541}]
[]
[]
["Date d'effet :",{"$nulls":4},"/",null,"/",{"$f":"RECAPITULATIF!D9","v":2019},{"$nulls":8},{"$f":"'GRILLE ISG IS G1'!B2","v":"Catégorie A             GRADE 1\nInfirmier D.E., Manipulateur d'Electroradiologie Médicale, \nMasseur-Kinésithérapeute,\nErgothérapeute, Psychomotricien, Orthophoniste, Pédicure-Podologue"}]
[]
[]
[]
["Ce qui représente un gain mensuel de :",{"$nulls":7},{"$f":"'GRILLE ISG IS G1'!D23-'GRILLE ISG IS G1'!D21","v":20},null,"points d'indice."]
[{"$nulls":17},{"$f":"'GRILLE ISG IS G1'!B7","v":"Echelon"},{"$f":"'GRILLE ISG IS G1'!C7","v":"Durée\n(en mois)"},{"$f":"'GRILLE ISG IS G1'!D7","v":"Indice\nMajoré"}]
[]
["Pour information, la valeur brute du point d'indice",{"$nulls":16},{"$f":"'GRILLE ISG IS G1'!B9","v":1},{"$f":"'GRILLE ISG IS G1'!C9","v":24},{"$f":"'GRILLE ISG IS G1'!D9","v":388}]
[]
[{"$nulls":17},{"$f":"'GRILLE ISG IS G1'!B11","v":2},{"$f":"'GRILLE ISG IS G1'!C11","v":36},{"$f":"'GRILLE ISG IS G1'!D11","v":397}]
["est de",null,{"$f":"RECAPITULATIF!D13","v":{"v":4.686,"d":"4.686 €"}},null,"au",{"$f":"RECAPITULATIF!D15","v":"2019-01-01"}]
[{"$nulls":17},{"$f":"'GRILLE ISG IS G1'!B13","v":3},{"$f":"'GRILLE ISG IS G1'!C13","v":36},{"$f":"'GRILLE ISG IS G1'!D13","v":416}]
[]
["Soit un gain net mensuel de :",{"$nulls":5},{"$f":"I40*C46*0.8315","v":{"v":77.92818,"d":"77.93 €"}},{"$nulls":10},{"$f":"'GRILLE ISG IS G1'!B15","v":4},{"$f":"'GRILLE ISG IS G1'!C15","v":36},{"$f":"'GRILLE ISG IS G1'!D15","v":437}]
[]
[{"$nulls":17},{"$f":"'GRILLE ISG IS G1'!B17","v":5},{"$f":"'GRILLE ISG IS G1'!C17","v":36},{"$f":"'GRILLE ISG IS G1'!D17","v":469}]
[]
[{"$nulls":17},{"$f":"'GRILLE ISG IS G1'!B19","v":6},{"$f":"'GRILLE ISG IS G1'!C19","v":42},{"$f":"'GRILLE ISG IS G1'!D19","v":500}]
["Vos représentant-e-s SUD Santé Sociaux ",{"$nulls":7},{"$f":"RECAPITULATIF!D21","v":35},null,"sont à votre disposition"]
["pour tous renseignements complémentaires au poste :",{"$nulls":11},{"$f":"RECAPITULATIF!D17","v":2886},{"$nulls":4},{"$f":"'GRILLE ISG IS G1'!B21","v":7},{"$f":"'GRILLE ISG IS G1'!C21","v":48},{"$f":"'GRILLE ISG IS G1'!D21","v":521}]
[]
[{"$nulls":17},{"$f":"'GRILLE ISG IS G1'!B23","v":8},{"$f":"'GRILLE ISG IS G1'!C23","v":48},{"$f":"'GRILLE ISG IS G1'!D23","v":541}]
[]
[{"$nulls":17},{"$f":"'GRILLE ISG IS G1'!B25","v":9},{"$f":"'GRILLE ISG IS G1'!C25","v":48},{"$f":"'GRILLE ISG IS G1'!D25","v":565}]
["Recevez toutes nos salutations."]
[{"$nulls":17},{"$f":"'GRILLE ISG IS G1'!B27","v":10},{"$f":"'GRILLE ISG IS G1'!C27","v":0},{"$f":"'GRILLE ISG IS G1'!D27","v":591}]
[]
[{"$f":"RECAPITULATIF!B5","v":"Madame FERET Isabelle, Madame Anne PICHON et Monsieur Patrick GAUTIER"}]
[]
["SUD Santé Sociaux",{"$nulls":3},{"$f":"RECAPITULATIF!D21","v":35}]
[]
[]
[]
[]
["Tél :",{"$f":"RECAPITULATIF!D19","v":{"v":299212886,"d":"02 99 21 28 86"}}]
["Mél :",null,{"$f":"RECAPITULATIF!C23","v":"sudsante@ch-stmalo.fr"}]
[{"$f":"RECAPITULATIF!B25","v":"Site Départemental Sud"},{"$nulls":4},{"$f":"RECAPITULATIF!D25","v":"http://www.sudsantesociaux35.org"}]

{"sheet":"ISG IS G1 Echelon 9","index":28,"n_rows":72,"n_cols":20,"rows_kept":72,"merged":[[1,6,1,16],[2,6,2,11],[2,12,2,16],[8,12,9,14],[12,12,12,14],[15,0,15,14],[17,0,17,16],[19,0,19,3],[21,0,21,14],[23,0,23,4],[23,5,23,8],[23,10,23,12],[23,13,23,16],[26,5,27,17],[32,0,32,4],[32,5,32,6],[32,7,32,10],[32,11,32,12],[35,0,35,2],[35,8,35,9],[35,17,39,19],[39,0,39,7],[39,8,39,9],[39,10,39,13],[40,17,41,17],[40,18,41,18],[40,19,41,19],[42,0,42,12],[42,17,43,17],[42,18,43,18],[42,19,43,19],[44,17,45,17],[44,18,45,18],[44,19,45,19],[45,2,45,3],[45,5,45,7],[46,17,47,17],[46,18,47,18],[46,19,47,19],[48,0,48,5],[48,6,48,8],[48,17,49,17],[48,18,49,18],[48,19,49,19],[50,17,51,17],[50,18,51,18],[50,19,51,19],[52,17,53,17],[52,18,53,18],[52,19,53,19],[53,0,53,7],[53,8,53,9],[53,10,53,14],[54,0,54,11],[54,12,54,13],[54,17,55,17],[54,18,55,18],[54,19,55,19],[56,17,57,17],[56,18,57,18],[56,19,57,19],[57,0,57,16],[58,17,59,17],[58,18,59,18],[58,19,59,19],[59,0,59,16],[60,17,61,17],[60,18,61,18],[60,19,61,19],[62,0,62,16],[64,0,64,3],[69,1,69,4],[70,0,70,1],[70,2,70,7],[71,0,71,4],[71,5,71,12]]}
[]
[{"$nulls":6},"Commission Administrative"]
[{"$nulls":6},"Paritaire",{"$nulls":5},{"$f":"RECAPITULATIF!D7","v":"Locale"}]
[]
[]
[]
[]
[]
[{"$nulls":12},"Mme, Mr :"]
[]
[{"$nulls":12},"Grade :"]
[]
[{"$nulls":12},"Service :"]
[]
[]
["Votre ou vos représentant-e-s du personnel"]
[]
[{"$f":"RECAPITULATIF!B5","v":"Madame FERET Isabelle, Madame Anne PICHON et Monsieur Patrick GAUTIER"}]
[]
["SUD Santé Sociaux",{"$nulls":3},{"$f":"RECAPITULATIF!D21","v":35},"du:"]
[]
[{"$f":"RECAPITULATIF!B2","v":"Centre Hospitalier de Saint Malo"}]
[]
["siégeant auprès de la CAP",{"$nulls":4},{"$f":"RECAPITULATIF!D7","v":"Locale"},{"$nulls":3},"du :",{"$f":"RECAPITULATIF!D11","v":"2019-04-16"},null,null,"vous informe de votre :"]
[]
[]
[{"$nulls":5},"AVANCEMENT D’ECHELON"]
[]
[]
[]
[]
[]
["Vous passez à l’échelon :",{"$nulls":4},{"$f":"'GRILLE ISG IS G1'!B25","v":9},null,"Indice Majoré :",{"$nulls":3},{"$f":"'GRILLE ISG IS G1'!D25","v":565}]
[]
[]
["Date d'effet :",{"$nulls":4},"/",null,"/",{"$f":"RECAPITULATIF!D9","v":2019},{"$nulls":8},{"$f":"'GRILLE ISG IS G1'!B2","v":"Catégorie A             GRADE 1\nInfirmier D.E., Manipulateur d'Electroradiologie Médicale, \nMasseur-Kinésithérapeute,\nErgothérapeute, Psychomotricien, Orthophoniste, Pédicure-Podologue"}]
[]
[]
[]
["Ce qui représente un gain mensuel de :",{"$nulls":7},{"$f":"'GRILLE ISG IS G1'!D25-'GRILLE ISG IS G1'!D23","v":24},null,"points d'indice."]
[{"$nulls":17},{"$f":"'GRILLE ISG IS G1'!B7","v":"Echelon"},{"$f":"'GRILLE ISG IS G1'!C7","v":"Durée\n(en mois)"},{"$f":"'GRILLE ISG IS G1'!D7","v":"Indice\nMajoré"}]
[]
["Pour information, la valeur brute du point d'indice",{"$nulls":16},{"$f":"'GRILLE ISG IS G1'!B9","v":1},{"$f":"'GRILLE ISG IS G1'!C9","v":24},{"$f":"'GRILLE ISG IS G1'!D9","v":388}]
[]
[{"$nulls":17},{"$f":"'GRILLE ISG IS G1'!B11","v":2},{"$f":"'GRILLE ISG IS G1'!C11","v":36},{"$f":"'GRILLE ISG IS G1'!D11","v":397}]
["est de",null,{"$f":"RECAPITULATIF!D13","v":{"v":4.686,"d":"4.686 €"}},null,"au",{"$f":"RECAPITULATIF!D15","v":"2019-01-01"}]
[{"$nulls":17},{"$f":"'GRILLE ISG IS G1'!B13","v":3},{"$f":"'GRILLE ISG IS G1'!C13","v":36},{"$f":"'GRILLE ISG IS G1'!D13","v":416}]
[]
["Soit un gain net mensuel de :",{"$nulls":5},{"$f":"I40*C46*0.8315","v":{"v":93.513816,"d":"93.51 €"}},{"$nulls":10},{"$f":"'GRILLE ISG IS G1'!B15","v":4},{"$f":"'GRILLE ISG IS G1'!C15","v":36},{"$f":"'GRILLE ISG IS G1'!D15","v":437}]
[]
[{"$nulls":17},{"$f":"'GRILLE ISG IS G1'!B17","v":5},{"$f":"'GRILLE ISG IS G1'!C17","v":36},{"$f":"'GRILLE ISG IS G1'!D17","v":469}]
[]
[{"$nulls":17},{"$f":"'GRILLE ISG IS G1'!B19","v":6},{"$f":"'GRILLE ISG IS G1'!C19","v":42},{"$f":"'GRILLE ISG IS G1'!D19","v":500}]
["Vos représentant-e-s SUD Santé Sociaux ",{"$nulls":7},{"$f":"RECAPITULATIF!D21","v":35},null,"sont à votre disposition"]
["pour tous renseignements complémentaires au poste :",{"$nulls":11},{"$f":"RECAPITULATIF!D17","v":2886},{"$nulls":4},{"$f":"'GRILLE ISG IS G1'!B21","v":7},{"$f":"'GRILLE ISG IS G1'!C21","v":48},{"$f":"'GRILLE ISG IS G1'!D21","v":521}]
[]
[{"$nulls":17},{"$f":"'GRILLE ISG IS G1'!B23","v":8},{"$f":"'GRILLE ISG IS G1'!C23","v":48},{"$f":"'GRILLE ISG IS G1'!D23","v":541}]
[]
[{"$nulls":17},{"$f":"'GRILLE ISG IS G1'!B25","v":9},{"$f":"'GRILLE ISG IS G1'!C25","v":48},{"$f":"'GRILLE ISG IS G1'!D25","v":565}]
["Recevez toutes nos salutations."]
[{"$nulls":17},{"$f":"'GRILLE ISG IS G1'!B27","v":10},{"$f":"'GRILLE ISG IS G1'!C27","v":0},{"$f":"'GRILLE ISG IS G1'!D27","v":591}]
[]
[{"$f":"RECAPITULATIF!B5","v":"Madame FERET Isabelle, Madame Anne PICHON et Monsieur Patrick GAUTIER"}]
[]
["SUD Santé Sociaux",{"$nulls":3},{"$f":"RECAPITULATIF!D21","v":35}]
[]
[]
[]
[]
["Tél :",{"$f":"RECAPITULATIF!D19","v":{"v":299212886,"d":"02 99 21 28 86"}}]
["Mél :",null,{"$f":"RECAPITULATIF!C23","v":"sudsante@ch-stmalo.fr"}]
[{"$f":"RECAPITULATIF!B25","v":"Site Départemental Sud"},{"$nulls":4},{"$f":"RECAPITULATIF!D25","v":"http://www.sudsantesociaux35.org"}]

{"sheet":"ISG IS G1 Echelon 10","index":29,"n_rows":72,"n_cols":20,"rows_kept":72,"merged":[[1,6,1,16],[2,6,2,11],[2,12,2,16],[8,12,9,14],[12,12,12,14],[15,0,15,14],[17,0,17,16],[19,0,19,3],[21,0,21,14],[23,0,23,4],[23,5,23,8],[23,10,23,12],[23,13,23,16],[26,5,27,17],[32,0,32,4],[32,5,32,6],[32,7,32,10],[32,11,32,12],[35,0,35,2],[35,8,35,9],[35,17,39,19],[39,0,39,7],[39,8,39,9],[39,10,39,13],[40,17,41,17],[40,18,41,18],[40,19,41,19],[42,0,42,12],[42,17,43,17],[42,18,43,18],[42,19,43,19],[44,17,45,17],[44,18,45,18],[44,19,45,19],[45,2,45,3],[45,5,45,7],[46,17,47,17],[46,18,47,18],[46,19,47,19],[48,0,48,5],[48,6,48,8],[48,17,49,17],[48,18,49,18],[48,19,49,19],[50,17,51,17],[50,18,51,18],[50,19,51,19],[52,17,53,17],[52,18,53,18],[52,19,53,19],[53,0,53,7],[53,8,53,9],[53,10,53,14],[54,0,54,11],[54,12,54,13],[54,17,55,17],[54,18,55,18],[54,19,55,19],[56,17,57,17],[56,18,57,18],[56,19,57,19],[57,0,57,16],[58,17,59,17],[58,18,59,18],[58,19,59,19],[59,0,59,16],[60,17,61,17],[60,18,61,18],[60,19,61,19],[62,0,62,16],[64,0,64,3],[69,1,69,4],[70,0,70,1],[70,2,70,7],[71,0,71,4],[71,5,71,12]]}
[]
[{"$nulls":6},"Commission Administrative"]
[{"$nulls":6},"Paritaire",{"$nulls":5},{"$f":"RECAPITULATIF!D7","v":"Locale"}]
[]
[]
[]
[]
[]
[{"$nulls":12},"Mme, Mr :"]
[]
[{"$nulls":12},"Grade :"]
[]
[{"$nulls":12},"Service :"]
[]
[]
["Votre ou vos représentant-e-s du personnel"]
[]
[{"$f":"RECAPITULATIF!B5","v":"Madame FERET Isabelle, Madame Anne PICHON et Monsieur Patrick GAUTIER"}]
[]
["SUD Santé Sociaux",{"$nulls":3},{"$f":"RECAPITULATIF!D21","v":35},"du:"]
[]
[{"$f":"RECAPITULATIF!B2","v":"Centre Hospitalier de Saint Malo"}]
[]
["siégeant auprès de la CAP",{"$nulls":4},{"$f":"RECAPITULATIF!D7","v":"Locale"},{"$nulls":3},"du :",{"$f":"RECAPITULATIF!D11","v":"2019-04-16"},null,null,"vous informe de votre :"]
[]
[]
[{"$nulls":5},"AVANCEMENT D’ECHELON"]
[]
[]
[]
[]
[]
["Vous passez à l’échelon :",{"$nulls":4},{"$f":"'GRILLE ISG IS G2'!B27","v":10},null,"Indice Majoré :",{"$nulls":3},{"$f":"'GRILLE ISG IS G1'!D27","v":591}]
[]
[]
["Date d'effet :",{"$nulls":4},"/",null,"/",{"$f":"RECAPITULATIF!D9","v":2019},{"$nulls":8},{"$f":"'GRILLE ISG IS G1'!B2","v":"Catégorie A             GRADE 1\nInfirmier D.E., Manipulateur d'Electroradiologie Médicale, \nMasseur-Kinésithérapeute,\nErgothérapeute, Psychomotricien, Orthophoniste, Pédicure-Podologue"}]
[]
[]
[]
["Ce qui représente un gain mensuel de :",{"$nulls":7},{"$f":"'GRILLE ISG IS G1'!D27-'GRILLE ISG IS G1'!D25","v":26},null,"points d'indice."]
[{"$nulls":17},{"$f":"'GRILLE ISG IS G2'!B7","v":"Echelon"},{"$f":"'GRILLE ISG IS G2'!C7","v":"Durée\n(en mois)"},{"$f":"'GRILLE ISG IS G2'!D7","v":"Indice Majoré"}]
[]
["Pour information, la valeur brute du point d'indice",{"$nulls":16},{"$f":"'GRILLE ISG IS G1'!B9","v":1},{"$f":"'GRILLE ISG IS G1'!C9","v":24},{"$f":"'GRILLE ISG IS G1'!D9","v":388}]
[]
[{"$nulls":17},{"$f":"'GRILLE ISG IS G1'!B11","v":2},{"$f":"'GRILLE ISG IS G1'!C11","v":36},{"$f":"'GRILLE ISG IS G1'!D11","v":397}]
["est de",null,{"$f":"RECAPITULATIF!D13","v":{"v":4.686,"d":"4.686 €"}},null,"au",{"$f":"RECAPITULATIF!D15","v":"2019-01-01"}]
[{"$nulls":17},{"$f":"'GRILLE ISG IS G1'!B13","v":3},{"$f":"'GRILLE ISG IS G1'!C13","v":36},{"$f":"'GRILLE ISG IS G1'!D13","v":416}]
[]
["Soit un gain net mensuel de :",{"$nulls":5},{"$f":"I40*C46*0.8315","v":{"v":101.306634,"d":"101.31 €"}},{"$nulls":10},{"$f":"'GRILLE ISG IS G1'!B15","v":4},{"$f":"'GRILLE ISG IS G1'!C15","v":36},{"$f":"'GRILLE ISG IS G1'!D15","v":437}]
[]
[{"$nulls":17},{"$f":"'GRILLE ISG IS G1'!B17","v":5},{"$f":"'GRILLE ISG IS G1'!C17","v":36},{"$f":"'GRILLE ISG IS G1'!D17","v":469}]
[]
[{"$nulls":17},{"$f":"'GRILLE ISG IS G1'!B19","v":6},{"$f":"'GRILLE ISG IS G1'!C19","v":42},{"$f":"'GRILLE ISG IS G1'!D19","v":500}]
["Vos représentant-e-s SUD Santé Sociaux ",{"$nulls":7},{"$f":"RECAPITULATIF!D21","v":35},null,"sont à votre disposition"]
["pour tous renseignements complémentaires au poste :",{"$nulls":11},{"$f":"RECAPITULATIF!D17","v":2886},{"$nulls":4},{"$f":"'GRILLE ISG IS G1'!B21","v":7},{"$f":"'GRILLE ISG IS G1'!C21","v":48},{"$f":"'GRILLE ISG IS G1'!D21","v":521}]
[]
[{"$nulls":17},{"$f":"'GRILLE ISG IS G1'!B23","v":8},{"$f":"'GRILLE ISG IS G1'!C23","v":48},{"$f":"'GRILLE ISG IS G1'!D23","v":541}]
[]
[{"$nulls":17},{"$f":"'GRILLE ISG IS G1'!B25","v":9},{"$f":"'GRILLE ISG IS G1'!C25","v":48},{"$f":"'GRILLE ISG IS G1'!D25","v":565}]
["Recevez toutes nos salutations."]
[{"$nulls":17},{"$f":"'GRILLE ISG IS G1'!B27","v":10},{"$f":"'GRILLE ISG IS G1'!C27","v":0},{"$f":"'GRILLE ISG IS G1'!D27","v":591}]
[]
[{"$f":"RECAPITULATIF!B5","v":"Madame FERET Isabelle, Madame Anne PICHON et Monsieur Patrick GAUTIER"}]
[]
["SUD Santé Sociaux",{"$nulls":3},{"$f":"RECAPITULATIF!D21","v":35}]
[]
[]
[]
[]
["Tél :",{"$f":"RECAPITULATIF!D19","v":{"v":299212886,"d":"02 99 21 28 86"}}]
["Mél :",null,{"$f":"RECAPITULATIF!C23","v":"sudsante@ch-stmalo.fr"}]
[{"$f":"RECAPITULATIF!B25","v":"Site Départemental Sud"},{"$nulls":4},{"$f":"RECAPITULATIF!D25","v":"http://www.sudsantesociaux35.org"}]

{"sheet":"GRILLE ISG IS G2","index":30,"n_rows":27,"n_cols":4,"rows_kept":27,"merged":[[1,1,5,3],[6,1,7,1],[6,2,7,2],[6,3,7,3],[8,1,9,1],[8,2,9,2],[8,3,9,3],[10,1,11,1],[10,2,11,2],[10,3,11,3],[12,1,13,1],[12,2,13,2],[12,3,13,3],[14,1,15,1],[14,2,15,2],[14,3,15,3],[16,1,17,1],[16,2,17,2],[16,3,17,3],[18,1,19,1],[18,2,19,2],[18,3,19,3],[20,1,21,1],[20,2,21,2],[20,3,21,3],[22,1,23,1],[22,2,23,2],[22,3,23,3],[24,1,25,1],[24,2,25,2],[24,3,25,3],[26,1,27,1],[26,2,27,2],[26,3,27,3]]}
[]
[null,"Grade 2 \nManipulateur d'Electroradiologie Médicale, Ergothérapeute, Masseur-Kinésithérapeute, Psychomotricien, Orthophoniste, Pédicure-Podologue Infirmiers D.E.\nI.B.O.D.E. et Puericultrice"]
[]
[]
[]
[]
[null,"Echelon","Durée\n(en mois)","Indice Majoré"]
[]
[null,1,24,416]
[]
[null,2,24,432]
[]
[null,3,24,452]
[]
[null,4,24,472]
[]
[null,5,36,495]
[]
[null,6,42,518]
[]
[null,7,48,542]
[]
[null,8,48,565]
[]
[null,9,48,592]
[]
[null,10,null,617]

{"sheet":"IMP GRILLE ISG IS G2","index":31,"n_rows":6,"n_cols":2,"rows_kept":6,"merged":[[1,1,1,9],[3,1,3,9],[5,1,5,9]]}
[]
[null,"1) Imprimez autant de feuilles que d'agents concernés."]
[]
[null,"2) Pliez en 3 au niveau du repère, deux petits traits noirs."]
[]
[null,"3) Inserrez ce courrier dans une enveloppe 110 X 220 à fenêtre."]

{"sheet":"ISG IS G2 Echelon 2","index":32,"n_rows":72,"n_cols":20,"rows_kept":72,"merged":[[1,6,1,16],[2,6,2,11],[2,12,2,16],[8,12,9,14],[12,12,12,14],[15,0,15,14],[17,0,17,16],[19,0,19,3],[21,0,21,14],[23,0,23,4],[23,5,23,8],[23,10,23,12],[23,13,23,16],[26,5,27,17],[32,0,32,4],[32,5,32,6],[32,7,32,10],[32,11,32,12],[35,0,35,2],[35,8,35,9],[35,17,39,19],[39,0,39,7],[39,8,39,9],[39,10,39,13],[40,17,41,17],[40,18,41,18],[40,19,41,19],[42,0,42,12],[42,17,43,17],[42,18,43,18],[42,19,43,19],[44,17,45,17],[44,18,45,18],[44,19,45,19],[45,2,45,3],[45,5,45,7],[46,17,47,17],[46,18,47,18],[46,19,47,19],[48,0,48,5],[48,6,48,8],[48,17,49,17],[48,18,49,18],[48,19,49,19],[50,17,51,17],[50,18,51,18],[50,19,51,19],[52,17,53,17],[52,18,53,18],[52,19,53,19],[53,0,53,7],[53,8,53,9],[53,10,53,14],[54,0,54,11],[54,12,54,13],[54,17,55,17],[54,18,55,18],[54,19,55,19],[56,17,57,17],[56,18,57,18],[56,19,57,19],[57,0,57,16],[58,17,59,17],[58,18,59,18],[58,19,59,19],[59,0,59,16],[60,17,61,17],[60,18,61,18],[60,19,61,19],[62,0,62,16],[64,0,64,3],[69,1,69,4],[70,0,70,1],[70,2,70,7],[71,0,71,4],[71,5,71,12]]}
[]
[{"$nulls":6},"Commission Administrative"]
[{"$nulls":6},"Paritaire",{"$nulls":5},{"$f":"RECAPITULATIF!D7","v":"Locale"}]
[]
[]
[]
[]
[]
[{"$nulls":12},"Mme, Mr :"]
[]
[{"$nulls":12},"Grade :"]
[]
[{"$nulls":12},"Service :"]
[]
[]
["Votre ou vos représentant-e-s du personnel"]
[]
[{"$f":"RECAPITULATIF!B5","v":"Madame FERET Isabelle, Madame Anne PICHON et Monsieur Patrick GAUTIER"}]
[]
["SUD Santé Sociaux",{"$nulls":3},{"$f":"RECAPITULATIF!D21","v":35},"du:"]
[]
[{"$f":"RECAPITULATIF!B2","v":"Centre Hospitalier de Saint Malo"}]
[]
["siégeant auprès de la CAP",{"$nulls":4},{"$f":"RECAPITULATIF!D7","v":"Locale"},{"$nulls":3},"du :",{"$f":"RECAPITULATIF!D11","v":"2019-04-16"},null,null,"vous informe de votre :"]
[]
[]
[{"$nulls":5},"AVANCEMENT D’ECHELON"]
[]
[]
[]
[]
[]
["Vous passez à l’échelon :",{"$nulls":4},{"$f":"'GRILLE ISG IS G2'!B11","v":2},null,"Indice Majoré :",{"$nulls":3},{"$f":"'GRILLE ISG IS G2'!D11","v":432}]
[]
[]
["Date d'effet :",{"$nulls":4},"/",null,"/",{"$f":"RECAPITULATIF!D9","v":2019},{"$nulls":8},{"$f":"'GRILLE ISG IS G2'!B2","v":"Grade 2 \nManipulateur d'Electroradiologie Médicale, Ergothérapeute, Masseur-Kinésithérapeute, Psychomotricien, Orthophoniste, Pédicure-Podologue Infirmiers D.E.\nI.B.O.D.E. et Puericultrice"}]
[]
[]
[]
["Ce qui représente un gain mensuel de :",{"$nulls":7},{"$f":"'GRILLE ISG IS G2'!D11-'GRILLE ISG IS G2'!D9","v":16},null,"points d'indice."]
[{"$nulls":17},{"$f":"'GRILLE ISG IS G2'!B7","v":"Echelon"},{"$f":"'GRILLE ISG IS G2'!C7","v":"Durée\n(en mois)"},{"$f":"'GRILLE ISG IS G2'!D7","v":"Indice Majoré"}]
[]
["Pour information, la valeur brute du point d'indice",{"$nulls":16},{"$f":"'GRILLE ISG IS G2'!B9","v":1},{"$f":"'GRILLE ISG IS G2'!C9","v":24},{"$f":"'GRILLE ISG IS G2'!D9","v":416}]
[]
[{"$nulls":17},{"$f":"'GRILLE ISG IS G2'!B11","v":2},{"$f":"'GRILLE ISG IS G2'!C11","v":24},{"$f":"'GRILLE ISG IS G2'!D11","v":432}]
["est de",null,{"$f":"RECAPITULATIF!D13","v":{"v":4.686,"d":"4.686 €"}},null,"au",{"$f":"RECAPITULATIF!D15","v":"2019-01-01"}]
[{"$nulls":17},{"$f":"'GRILLE ISG IS G2'!B13","v":3},{"$f":"'GRILLE ISG IS G2'!C13","v":24},{"$f":"'GRILLE ISG IS G2'!D13","v":452}]
[]
["Soit un gain net mensuel de :",{"$nulls":5},{"$f":"I40*C46*0.8315","v":{"v":62.342544000000004,"d":"62.34 €"}},{"$nulls":10},{"$f":"'GRILLE ISG IS G2'!B15","v":4},{"$f":"'GRILLE ISG IS G2'!C15","v":24},{"$f":"'GRILLE ISG IS G2'!D15","v":472}]
[]
[{"$nulls":17},{"$f":"'GRILLE ISG IS G2'!B17","v":5},{"$f":"'GRILLE ISG IS G2'!C17","v":36},{"$f":"'GRILLE ISG IS G2'!D17","v":495}]
[]
[{"$nulls":17},{"$f":"'GRILLE ISG IS G2'!B19","v":6},{"$f":"'GRILLE ISG IS G2'!C19","v":42},{"$f":"'GRILLE ISG IS G2'!D19","v":518}]
["Vos représentant-e-s SUD Santé Sociaux ",{"$nulls":7},{"$f":"RECAPITULATIF!D21","v":35},null,"sont à votre disposition"]
["pour tous renseignements complémentaires au poste :",{"$nulls":11},{"$f":"RECAPITULATIF!D17","v":2886},{"$nulls":4},{"$f":"'GRILLE ISG IS G2'!B21","v":7},{"$f":"'GRILLE ISG IS G2'!C21","v":48},{"$f":"'GRILLE ISG IS G2'!D21","v":542}]
[]
[{"$nulls":17},{"$f":"'GRILLE ISG IS G2'!B23","v":8},{"$f":"'GRILLE ISG IS G2'!C23","v":48},{"$f":"'GRILLE ISG IS G2'!D23","v":565}]
[]
[{"$nulls":17},{"$f":"'GRILLE ISG IS G2'!B25","v":9},{"$f":"'GRILLE ISG IS G2'!C25","v":48},{"$f":"'GRILLE ISG IS G2'!D25","v":592}]
["Recevez toutes nos salutations."]
[{"$nulls":17},{"$f":"'GRILLE ISG IS G2'!B27","v":10},{"$f":"'GRILLE ISG IS G2'!C27","v":0},{"$f":"'GRILLE ISG IS G2'!D27","v":617}]
[]
[{"$f":"RECAPITULATIF!B5","v":"Madame FERET Isabelle, Madame Anne PICHON et Monsieur Patrick GAUTIER"}]
[]
["SUD Santé Sociaux",{"$nulls":3},{"$f":"RECAPITULATIF!D21","v":35}]
[]
[]
[]
[]
["Tél :",{"$f":"RECAPITULATIF!D19","v":{"v":299212886,"d":"02 99 21 28 86"}}]
["Mél :",null,{"$f":"RECAPITULATIF!C23","v":"sudsante@ch-stmalo.fr"}]
[{"$f":"RECAPITULATIF!B25","v":"Site Départemental Sud"},{"$nulls":4},{"$f":"RECAPITULATIF!D25","v":"http://www.sudsantesociaux35.org"}]

{"sheet":"ISG IS G2 Echelon 3","index":33,"n_rows":72,"n_cols":20,"rows_kept":72,"merged":[[1,6,1,16],[2,6,2,11],[2,12,2,16],[8,12,9,14],[12,12,12,14],[15,0,15,14],[17,0,17,16],[19,0,19,3],[21,0,21,14],[23,0,23,4],[23,5,23,8],[23,10,23,12],[23,13,23,16],[26,5,27,17],[32,0,32,4],[32,5,32,6],[32,7,32,10],[32,11,32,12],[35,0,35,2],[35,8,35,9],[35,17,39,19],[39,0,39,7],[39,8,39,9],[39,10,39,13],[40,17,41,17],[40,18,41,18],[40,19,41,19],[42,0,42,12],[42,17,43,17],[42,18,43,18],[42,19,43,19],[44,17,45,17],[44,18,45,18],[44,19,45,19],[45,2,45,3],[45,5,45,7],[46,17,47,17],[46,18,47,18],[46,19,47,19],[48,0,48,5],[48,6,48,8],[48,17,49,17],[48,18,49,18],[48,19,49,19],[50,17,51,17],[50,18,51,18],[50,19,51,19],[52,17,53,17],[52,18,53,18],[52,19,53,19],[53,0,53,7],[53,8,53,9],[53,10,53,14],[54,0,54,11],[54,12,54,13],[54,17,55,17],[54,18,55,18],[54,19,55,19],[56,17,57,17],[56,18,57,18],[56,19,57,19],[57,0,57,16],[58,17,59,17],[58,18,59,18],[58,19,59,19],[59,0,59,16],[60,17,61,17],[60,18,61,18],[60,19,61,19],[62,0,62,16],[64,0,64,3],[69,1,69,4],[70,0,70,1],[70,2,70,7],[71,0,71,4],[71,5,71,12]]}
[]
[{"$nulls":6},"Commission Administrative"]
[{"$nulls":6},"Paritaire",{"$nulls":5},{"$f":"RECAPITULATIF!D7","v":"Locale"}]
[]
[]
[]
[]
[]
[{"$nulls":12},"Mme, Mr :"]
[]
[{"$nulls":12},"Grade :"]
[]
[{"$nulls":12},"Service :"]
[]
[]
["Votre ou vos représentant-e-s du personnel"]
[]
[{"$f":"RECAPITULATIF!B5","v":"Madame FERET Isabelle, Madame Anne PICHON et Monsieur Patrick GAUTIER"}]
[]
["SUD Santé Sociaux",{"$nulls":3},{"$f":"RECAPITULATIF!D21","v":35},"du:"]
[]
[{"$f":"RECAPITULATIF!B2","v":"Centre Hospitalier de Saint Malo"}]
[]
["siégeant auprès de la CAP",{"$nulls":4},{"$f":"RECAPITULATIF!D7","v":"Locale"},{"$nulls":3},"du :",{"$f":"RECAPITULATIF!D11","v":"2019-04-16"},null,null,"vous informe de votre :"]
[]
[]
[{"$nulls":5},"AVANCEMENT D’ECHELON"]
[]
[]
[]
[]
[]
["Vous passez à l’échelon :",{"$nulls":4},{"$f":"'GRILLE ISG IS G2'!B13","v":3},null,"Indice Majoré :",{"$nulls":3},{"$f":"'GRILLE ISG IS G2'!D13","v":452}]
[]
[]
["Date d'effet :",{"$nulls":4},"/",null,"/",{"$f":"RECAPITULATIF!D9","v":2019},{"$nulls":8},{"$f":"'GRILLE ISG IS G2'!B2","v":"Grade 2 \nManipulateur d'Electroradiologie Médicale, Ergothérapeute, Masseur-Kinésithérapeute, Psychomotricien, Orthophoniste, Pédicure-Podologue Infirmiers D.E.\nI.B.O.D.E. et Puericultrice"}]
[]
[]
[]
["Ce qui représente un gain mensuel de :",{"$nulls":7},{"$f":"'GRILLE ISG IS G2'!D13-'GRILLE ISG IS G2'!D11","v":20},null,"points d'indice."]
[{"$nulls":17},{"$f":"'GRILLE ISG IS G2'!B7","v":"Echelon"},{"$f":"'GRILLE ISG IS G2'!C7","v":"Durée\n(en mois)"},{"$f":"'GRILLE ISG IS G2'!D7","v":"Indice Majoré"}]
[]
["Pour information, la valeur brute du point d'indice",{"$nulls":16},{"$f":"'GRILLE ISG IS G2'!B9","v":1},{"$f":"'GRILLE ISG IS G2'!C9","v":24},{"$f":"'GRILLE ISG IS G2'!D9","v":416}]
[]
[{"$nulls":17},{"$f":"'GRILLE ISG IS G2'!B11","v":2},{"$f":"'GRILLE ISG IS G2'!C11","v":24},{"$f":"'GRILLE ISG IS G2'!D11","v":432}]
["est de",null,{"$f":"RECAPITULATIF!D13","v":{"v":4.686,"d":"4.686 €"}},null,"au",{"$f":"RECAPITULATIF!D15","v":"2019-01-01"}]
[{"$nulls":17},{"$f":"'GRILLE ISG IS G2'!B13","v":3},{"$f":"'GRILLE ISG IS G2'!C13","v":24},{"$f":"'GRILLE ISG IS G2'!D13","v":452}]
[]
["Soit un gain net mensuel de :",{"$nulls":5},{"$f":"I40*C46*0.8315","v":{"v":77.92818,"d":"77.93 €"}},{"$nulls":10},{"$f":"'GRILLE ISG IS G2'!B15","v":4},{"$f":"'GRILLE ISG IS G2'!C15","v":24},{"$f":"'GRILLE ISG IS G2'!D15","v":472}]
[]
[{"$nulls":17},{"$f":"'GRILLE ISG IS G2'!B17","v":5},{"$f":"'GRILLE ISG IS G2'!C17","v":36},{"$f":"'GRILLE ISG IS G2'!D17","v":495}]
[]
[{"$nulls":17},{"$f":"'GRILLE ISG IS G2'!B19","v":6},{"$f":"'GRILLE ISG IS G2'!C19","v":42},{"$f":"'GRILLE ISG IS G2'!D19","v":518}]
["Vos représentant-e-s SUD Santé Sociaux ",{"$nulls":7},{"$f":"RECAPITULATIF!D21","v":35},null,"sont à votre disposition"]
["pour tous renseignements complémentaires au poste :",{"$nulls":11},{"$f":"RECAPITULATIF!D17","v":2886},{"$nulls":4},{"$f":"'GRILLE ISG IS G2'!B21","v":7},{"$f":"'GRILLE ISG IS G2'!C21","v":48},{"$f":"'GRILLE ISG IS G2'!D21","v":542}]
[]
[{"$nulls":17},{"$f":"'GRILLE ISG IS G2'!B23","v":8},{"$f":"'GRILLE ISG IS G2'!C23","v":48},{"$f":"'GRILLE ISG IS G2'!D23","v":565}]
[]
[{"$nulls":17},{"$f":"'GRILLE ISG IS G2'!B25","v":9},{"$f":"'GRILLE ISG IS G2'!C25","v":48},{"$f":"'GRILLE ISG IS G2'!D25","v":592}]
["Recevez toutes nos salutations."]
[{"$nulls":17},{"$f":"'GRILLE ISG IS G2'!B27","v":10},{"$f":"'GRILLE ISG IS G2'!C27","v":0},{"$f":"'GRILLE ISG IS G2'!D27","v":617}]
[]
[{"$f":"RECAPITULATIF!B5","v":"Madame FERET Isabelle, Madame Anne PICHON et Monsieur Patrick GAUTIER"}]
[]
["SUD Santé Sociaux",{"$nulls":3},{"$f":"RECAPITULATIF!D21","v":35}]
[]
[]
[]
[]
["Tél :",{"$f":"RECAPITULATIF!D19","v":{"v":299212886,"d":"02 99 21 28 86"}}]
["Mél :",null,{"$f":"RECAPITULATIF!C23","v":"sudsante@ch-stmalo.fr"}]
[{"$f":"RECAPITULATIF!B25","v":"Site Départemental Sud"},{"$nulls":4},{"$f":"RECAPITULATIF!D25","v":"http://www.sudsantesociaux35.org"}]

{"sheet":"ISG IS G2 Echelon 4","index":34,"n_rows":72,"n_cols":20,"rows_kept":72,"merged":[[1,6,1,16],[2,6,2,11],[2,12,2,16],[8,12,9,14],[12,12,12,14],[15,0,15,14],[17,0,17,16],[19,0,19,3],[21,0,21,14],[23,0,23,4],[23,5,23,8],[23,10,23,12],[23,13,23,16],[26,5,27,17],[32,0,32,4],[32,5,32,6],[32,7,32,10],[32,11,32,12],[35,0,35,2],[35,8,35,9],[35,17,39,19],[39,0,39,7],[39,8,39,9],[39,10,39,13],[40,17,41,17],[40,18,41,18],[40,19,41,19],[42,0,42,12],[42,17,43,17],[42,18,43,18],[42,19,43,19],[44,17,45,17],[44,18,45,18],[44,19,45,19],[45,2,45,3],[45,5,45,7],[46,17,47,17],[46,18,47,18],[46,19,47,19],[48,0,48,5],[48,6,48,8],[48,17,49,17],[48,18,49,18],[48,19,49,19],[50,17,51,17],[50,18,51,18],[50,19,51,19],[52,17,53,17],[52,18,53,18],[52,19,53,19],[53,0,53,7],[53,8,53,9],[53,10,53,14],[54,0,54,11],[54,12,54,13],[54,17,55,17],[54,18,55,18],[54,19,55,19],[56,17,57,17],[56,18,57,18],[56,19,57,19],[57,0,57,16],[58,17,59,17],[58,18,59,18],[58,19,59,19],[59,0,59,16],[60,17,61,17],[60,18,61,18],[60,19,61,19],[62,0,62,16],[64,0,64,3],[69,1,69,4],[70,0,70,1],[70,2,70,7],[71,0,71,4],[71,5,71,12]]}
[]
[{"$nulls":6},"Commission Administrative"]
[{"$nulls":6},"Paritaire",{"$nulls":5},{"$f":"RECAPITULATIF!D7","v":"Locale"}]
[]
[]
[]
[]
[]
[{"$nulls":12},"Mme, Mr :"]
[]
[{"$nulls":12},"Grade :"]
[]
[{"$nulls":12},"Service :"]
[]
[]
["Votre ou vos représentant-e-s du personnel"]
[]
[{"$f":"RECAPITULATIF!B5","v":"Madame FERET Isabelle, Madame Anne PICHON et Monsieur Patrick GAUTIER"}]
[]
["SUD Santé Sociaux",{"$nulls":3},{"$f":"RECAPITULATIF!D21","v":35},"du:"]
[]
[{"$f":"RECAPITULATIF!B2","v":"Centre Hospitalier de Saint Malo"}]
[]
["siégeant auprès de la CAP",{"$nulls":4},{"$f":"RECAPITULATIF!D7","v":"Locale"},{"$nulls":3},"du :",{"$f":"RECAPITULATIF!D11","v":"2019-04-16"},null,null,"vous informe de votre :"]
[]
[]
[{"$nulls":5},"AVANCEMENT D’ECHELON"]
[]
[]
[]
[]
[]
["Vous passez à l’échelon :",{"$nulls":4},{"$f":"'GRILLE ISG IS G2'!B15","v":4},null,"Indice Majoré :",{"$nulls":3},{"$f":"'GRILLE ISG IS G2'!D15","v":472}]
[]
[]
["Date d'effet :",{"$nulls":4},"/",null,"/",{"$f":"RECAPITULATIF!D9","v":2019},{"$nulls":8},{"$f":"'GRILLE ISG IS G2'!B2","v":"Grade 2 \nManipulateur d'Electroradiologie Médicale, Ergothérapeute, Masseur-Kinésithérapeute, Psychomotricien, Orthophoniste, Pédicure-Podologue Infirmiers D.E.\nI.B.O.D.E. et Puericultrice"}]
[]
[]
[]
["Ce qui représente un gain mensuel de :",{"$nulls":7},{"$f":"'GRILLE ISG IS G2'!D15-'GRILLE ISG IS G2'!D13","v":20},null,"points d'indice."]
[{"$nulls":17},{"$f":"'GRILLE ISG IS G2'!B7","v":"Echelon"},{"$f":"'GRILLE ISG IS G2'!C7","v":"Durée\n(en mois)"},{"$f":"'GRILLE ISG IS G2'!D7","v":"Indice Majoré"}]
[]
["Pour information, la valeur brute du point d'indice",{"$nulls":16},{"$f":"'GRILLE ISG IS G2'!B9","v":1},{"$f":"'GRILLE ISG IS G2'!C9","v":24},{"$f":"'GRILLE ISG IS G2'!D9","v":416}]
[]
[{"$nulls":17},{"$f":"'GRILLE ISG IS G2'!B11","v":2},{"$f":"'GRILLE ISG IS G2'!C11","v":24},{"$f":"'GRILLE ISG IS G2'!D11","v":432}]
["est de",null,{"$f":"RECAPITULATIF!D13","v":{"v":4.686,"d":"4.686 €"}},null,"au",{"$f":"RECAPITULATIF!D15","v":"2019-01-01"}]
[{"$nulls":17},{"$f":"'GRILLE ISG IS G2'!B13","v":3},{"$f":"'GRILLE ISG IS G2'!C13","v":24},{"$f":"'GRILLE ISG IS G2'!D13","v":452}]
[]
["Soit un gain net mensuel de :",{"$nulls":5},{"$f":"I40*C46*0.8315","v":{"v":77.92818,"d":"77.93 €"}},{"$nulls":10},{"$f":"'GRILLE ISG IS G2'!B15","v":4},{"$f":"'GRILLE ISG IS G2'!C15","v":24},{"$f":"'GRILLE ISG IS G2'!D15","v":472}]
[]
[{"$nulls":17},{"$f":"'GRILLE ISG IS G2'!B17","v":5},{"$f":"'GRILLE ISG IS G2'!C17","v":36},{"$f":"'GRILLE ISG IS G2'!D17","v":495}]
[]
[{"$nulls":17},{"$f":"'GRILLE ISG IS G2'!B19","v":6},{"$f":"'GRILLE ISG IS G2'!C19","v":42},{"$f":"'GRILLE ISG IS G2'!D19","v":518}]
["Vos représentant-e-s SUD Santé Sociaux ",{"$nulls":7},{"$f":"RECAPITULATIF!D21","v":35},null,"sont à votre disposition"]
["pour tous renseignements complémentaires au poste :",{"$nulls":11},{"$f":"RECAPITULATIF!D17","v":2886},{"$nulls":4},{"$f":"'GRILLE ISG IS G2'!B21","v":7},{"$f":"'GRILLE ISG IS G2'!C21","v":48},{"$f":"'GRILLE ISG IS G2'!D21","v":542}]
[]
[{"$nulls":17},{"$f":"'GRILLE ISG IS G2'!B23","v":8},{"$f":"'GRILLE ISG IS G2'!C23","v":48},{"$f":"'GRILLE ISG IS G2'!D23","v":565}]
[]
[{"$nulls":17},{"$f":"'GRILLE ISG IS G2'!B25","v":9},{"$f":"'GRILLE ISG IS G2'!C25","v":48},{"$f":"'GRILLE ISG IS G2'!D25","v":592}]
["Recevez toutes nos salutations."]
[{"$nulls":17},{"$f":"'GRILLE ISG IS G2'!B27","v":10},{"$f":"'GRILLE ISG IS G2'!C27","v":0},{"$f":"'GRILLE ISG IS G2'!D27","v":617}]
[]
[{"$f":"RECAPITULATIF!B5","v":"Madame FERET Isabelle, Madame Anne PICHON et Monsieur Patrick GAUTIER"}]
[]
["SUD Santé Sociaux",{"$nulls":3},{"$f":"RECAPITULATIF!D21","v":35}]
[]
[]
[]
[]
["Tél :",{"$f":"RECAPITULATIF!D19","v":{"v":299212886,"d":"02 99 21 28 86"}}]
["Mél :",null,{"$f":"RECAPITULATIF!C23","v":"sudsante@ch-stmalo.fr"}]
[{"$f":"RECAPITULATIF!B25","v":"Site Départemental Sud"},{"$nulls":4},{"$f":"RECAPITULATIF!D25","v":"http://www.sudsantesociaux35.org"}]

{"sheet":"ISG IS G2 Echelon 5","index":35,"n_rows":72,"n_cols":20,"rows_kept":72,"merged":[[1,6,1,16],[2,6,2,11],[2,12,2,16],[8,12,9,14],[12,12,12,14],[15,0,15,14],[17,0,17,16],[19,0,19,3],[21,0,21,14],[23,0,23,4],[23,5,23,8],[23,10,23,12],[23,13,23,16],[26,5,27,17],[32,0,32,4],[32,5,32,6],[32,7,32,10],[32,11,32,12],[35,0,35,2],[35,8,35,9],[35,17,39,19],[39,0,39,7],[39,8,39,9],[39,10,39,13],[40,17,41,17],[40,18,41,18],[40,19,41,19],[42,0,42,12],[42,17,43,17],[42,18,43,18],[42,19,43,19],[44,17,45,17],[44,18,45,18],[44,19,45,19],[45,2,45,3],[45,5,45,7],[46,17,47,17],[46,18,47,18],[46,19,47,19],[48,0,48,5],[48,6,48,8],[48,17,49,17],[48,18,49,18],[48,19,49,19],[50,17,51,17],[50,18,51,18],[50,19,51,19],[52,17,53,17],[52,18,53,18],[52,19,53,19],[53,0,53,7],[53,8,53,9],[53,10,53,14],[54,0,54,11],[54,12,54,13],[54,17,55,17],[54,18,55,18],[54,19,55,19],[56,17,57,17],[56,18,57,18],[56,19,57,19],[57,0,57,16],[58,17,59,17],[58,18,59,18],[58,19,59,19],[59,0,59,16],[60,17,61,17],[60,18,61,18],[60,19,61,19],[62,0,62,16],[64,0,64,3],[69,1,69,4],[70,0,70,1],[70,2,70,7],[71,0,71,4],[71,5,71,12]]}
[]
[{"$nulls":6},"Commission Administrative"]
[{"$nulls":6},"Paritaire",{"$nulls":5},{"$f":"RECAPITULATIF!D7","v":"Locale"}]
[]
[]
[]
[]
[]
[{"$nulls":12},"Mme, Mr :"]
[]
[{"$nulls":12},"Grade :"]
[]
[{"$nulls":12},"Service :"]
[]
[]
["Votre ou vos représentant-e-s du personnel"]
[]
[{"$f":"RECAPITULATIF!B5","v":"Madame FERET Isabelle, Madame Anne PICHON et Monsieur Patrick GAUTIER"}]
[]
["SUD Santé Sociaux",{"$nulls":3},{"$f":"RECAPITULATIF!D21","v":35},"du:"]
[]
[{"$f":"RECAPITULATIF!B2","v":"Centre Hospitalier de Saint Malo"}]
[]
["siégeant auprès de la CAP",{"$nulls":4},{"$f":"RECAPITULATIF!D7","v":"Locale"},{"$nulls":3},"du :",{"$f":"RECAPITULATIF!D11","v":"2019-04-16"},null,null,"vous informe de votre :"]
[]
[]
[{"$nulls":5},"AVANCEMENT D’ECHELON"]
[]
[]
[]
[]
[]
["Vous passez à l’échelon :",{"$nulls":4},{"$f":"'GRILLE ISG IS G2'!B17","v":5},null,"Indice Majoré :",{"$nulls":3},{"$f":"'GRILLE ISG IS G2'!D17","v":495}]
[]
[]
["Date d'effet :",{"$nulls":4},"/",null,"/",{"$f":"RECAPITULATIF!D9","v":2019},{"$nulls":8},{"$f":"'GRILLE ISG IS G2'!B2","v":"Grade 2 \nManipulateur d'Electroradiologie Médicale, Ergothérapeute, Masseur-Kinésithérapeute, Psychomotricien, Orthophoniste, Pédicure-Podologue Infirmiers D.E.\nI.B.O.D.E. et Puericultrice"}]
[]
[]
[]
["Ce qui représente un gain mensuel de :",{"$nulls":7},{"$f":"'GRILLE ISG IS G2'!D17-'GRILLE ISG IS G2'!D15","v":23},null,"points d'indice."]
[{"$nulls":17},{"$f":"'GRILLE ISG IS G2'!B7","v":"Echelon"},{"$f":"'GRILLE ISG IS G2'!C7","v":"Durée\n(en mois)"},{"$f":"'GRILLE ISG IS G2'!D7","v":"Indice Majoré"}]
[]
["Pour information, la valeur brute du point d'indice",{"$nulls":16},{"$f":"'GRILLE ISG IS G2'!B9","v":1},{"$f":"'GRILLE ISG IS G2'!C9","v":24},{"$f":"'GRILLE ISG IS G2'!D9","v":416}]
[]
[{"$nulls":17},{"$f":"'GRILLE ISG IS G2'!B11","v":2},{"$f":"'GRILLE ISG IS G2'!C11","v":24},{"$f":"'GRILLE ISG IS G2'!D11","v":432}]
["est de",null,{"$f":"RECAPITULATIF!D13","v":{"v":4.686,"d":"4.686 €"}},null,"au",{"$f":"RECAPITULATIF!D15","v":"2019-01-01"}]
[{"$nulls":17},{"$f":"'GRILLE ISG IS G2'!B13","v":3},{"$f":"'GRILLE ISG IS G2'!C13","v":24},{"$f":"'GRILLE ISG IS G2'!D13","v":452}]
[]
["Soit un gain net mensuel de :",{"$nulls":5},{"$f":"I40*C46*0.8315","v":{"v":89.617407,"d":"89.62 €"}},{"$nulls":10},{"$f":"'GRILLE ISG IS G2'!B15","v":4},{"$f":"'GRILLE ISG IS G2'!C15","v":24},{"$f":"'GRILLE ISG IS G2'!D15","v":472}]
[]
[{"$nulls":17},{"$f":"'GRILLE ISG IS G2'!B17","v":5},{"$f":"'GRILLE ISG IS G2'!C17","v":36},{"$f":"'GRILLE ISG IS G2'!D17","v":495}]
[]
[{"$nulls":17},{"$f":"'GRILLE ISG IS G2'!B19","v":6},{"$f":"'GRILLE ISG IS G2'!C19","v":42},{"$f":"'GRILLE ISG IS G2'!D19","v":518}]
["Vos représentant-e-s SUD Santé Sociaux ",{"$nulls":7},{"$f":"RECAPITULATIF!D21","v":35},null,"sont à votre disposition"]
["pour tous renseignements complémentaires au poste :",{"$nulls":11},{"$f":"RECAPITULATIF!D17","v":2886},{"$nulls":4},{"$f":"'GRILLE ISG IS G2'!B21","v":7},{"$f":"'GRILLE ISG IS G2'!C21","v":48},{"$f":"'GRILLE ISG IS G2'!D21","v":542}]
[]
[{"$nulls":17},{"$f":"'GRILLE ISG IS G2'!B23","v":8},{"$f":"'GRILLE ISG IS G2'!C23","v":48},{"$f":"'GRILLE ISG IS G2'!D23","v":565}]
[]
[{"$nulls":17},{"$f":"'GRILLE ISG IS G2'!B25","v":9},{"$f":"'GRILLE ISG IS G2'!C25","v":48},{"$f":"'GRILLE ISG IS G2'!D25","v":592}]
["Recevez toutes nos salutations."]
[{"$nulls":17},{"$f":"'GRILLE ISG IS G2'!B27","v":10},{"$f":"'GRILLE ISG IS G2'!C27","v":0},{"$f":"'GRILLE ISG IS G2'!D27","v":617}]
[]
[{"$f":"RECAPITULATIF!B5","v":"Madame FERET Isabelle, Madame Anne PICHON et Monsieur Patrick GAUTIER"}]
[]
["SUD Santé Sociaux",{"$nulls":3},{"$f":"RECAPITULATIF!D21","v":35}]
[]
[]
[]
[]
["Tél :",{"$f":"RECAPITULATIF!D19","v":{"v":299212886,"d":"02 99 21 28 86"}}]
["Mél :",null,{"$f":"RECAPITULATIF!C23","v":"sudsante@ch-stmalo.fr"}]
[{"$f":"RECAPITULATIF!B25","v":"Site Départemental Sud"},{"$nulls":4},{"$f":"RECAPITULATIF!D25","v":"http://www.sudsantesociaux35.org"}]

{"sheet":"ISG IS G2 Echelon 6","index":36,"n_rows":72,"n_cols":20,"rows_kept":72,"merged":[[1,6,1,16],[2,6,2,11],[2,12,2,16],[8,12,9,14],[12,12,12,14],[15,0,15,14],[17,0,17,16],[19,0,19,3],[21,0,21,14],[23,0,23,4],[23,5,23,8],[23,10,23,12],[23,13,23,16],[26,5,27,17],[32,0,32,4],[32,5,32,6],[32,7,32,10],[32,11,32,12],[35,0,35,2],[35,8,35,9],[35,17,39,19],[39,0,39,7],[39,8,39,9],[39,10,39,13],[40,17,41,17],[40,18,41,18],[40,19,41,19],[42,0,42,12],[42,17,43,17],[42,18,43,18],[42,19,43,19],[44,17,45,17],[44,18,45,18],[44,19,45,19],[45,2,45,3],[45,5,45,7],[46,17,47,17],[46,18,47,18],[46,19,47,19],[48,0,48,5],[48,6,48,8],[48,17,49,17],[48,18,49,18],[48,19,49,19],[50,17,51,17],[50,18,51,18],[50,19,51,19],[52,17,53,17],[52,18,53,18],[52,19,53,19],[53,0,53,7],[53,8,53,9],[53,10,53,14],[54,0,54,11],[54,12,54,13],[54,17,55,17],[54,18,55,18],[54,19,55,19],[56,17,57,17],[56,18,57,18],[56,19,57,19],[57,0,57,16],[58,17,59,17],[58,18,59,18],[58,19,59,19],[59,0,59,16],[60,17,61,17],[60,18,61,18],[60,19,61,19],[62,0,62,16],[64,0,64,3],[69,1,69,4],[70,0,70,1],[70,2,70,7],[71,0,71,4],[71,5,71,12]]}
[]
[{"$nulls":6},"Commission Administrative"]
[{"$nulls":6},"Paritaire",{"$nulls":5},{"$f":"RECAPITULATIF!D7","v":"Locale"}]
[]
[]
[]
[]
[]
[{"$nulls":12},"Mme, Mr :"]
[]
[{"$nulls":12},"Grade :"]
[]
[{"$nulls":12},"Service :"]
[]
[]
["Votre ou vos représentant-e-s du personnel"]
[]
[{"$f":"RECAPITULATIF!B5","v":"Madame FERET Isabelle, Madame Anne PICHON et Monsieur Patrick GAUTIER"}]
[]
["SUD Santé Sociaux",{"$nulls":3},{"$f":"RECAPITULATIF!D21","v":35},"du:"]
[]
[{"$f":"RECAPITULATIF!B2","v":"Centre Hospitalier de Saint Malo"}]
[]
["siégeant auprès de la CAP",{"$nulls":4},{"$f":"RECAPITULATIF!D7","v":"Locale"},{"$nulls":3},"du :",{"$f":"RECAPITULATIF!D11","v":"2019-04-16"},null,null,"vous informe de votre :"]
[]
[]
[{"$nulls":5},"AVANCEMENT D’ECHELON"]
[]
[]
[]
[]
[]
["Vous passez à l’échelon :",{"$nulls":4},{"$f":"'GRILLE ISG IS G2'!B19","v":6},null,"Indice Majoré :",{"$nulls":3},{"$f":"'GRILLE ISG IS G2'!D19","v":518}]
[]
[]
["Date d'effet :",{"$nulls":4},"/",null,"/",{"$f":"RECAPITULATIF!D9","v":2019},{"$nulls":8},{"$f":"'GRILLE ISG IS G2'!B2","v":"Grade 2 \nManipulateur d'Electroradiologie Médicale, Ergothérapeute, Masseur-Kinésithérapeute, Psychomotricien, Orthophoniste, Pédicure-Podologue Infirmiers D.E.\nI.B.O.D.E. et Puericultrice"}]
[]
[]
[]
["Ce qui représente un gain mensuel de :",{"$nulls":7},{"$f":"'GRILLE ISG IS G2'!D19-'GRILLE ISG IS G2'!D17","v":23},null,"points d'indice."]
[{"$nulls":17},{"$f":"'GRILLE ISG IS G2'!B7","v":"Echelon"},{"$f":"'GRILLE ISG IS G2'!C7","v":"Durée\n(en mois)"},{"$f":"'GRILLE ISG IS G2'!D7","v":"Indice Majoré"}]
[]
["Pour information, la valeur brute du point d'indice",{"$nulls":16},{"$f":"'GRILLE ISG IS G2'!B9","v":1},{"$f":"'GRILLE ISG IS G2'!C9","v":24},{"$f":"'GRILLE ISG IS G2'!D9","v":416}]
[]
[{"$nulls":17},{"$f":"'GRILLE ISG IS G2'!B11","v":2},{"$f":"'GRILLE ISG IS G2'!C11","v":24},{"$f":"'GRILLE ISG IS G2'!D11","v":432}]
["est de",null,{"$f":"RECAPITULATIF!D13","v":{"v":4.686,"d":"4.686 €"}},null,"au",{"$f":"RECAPITULATIF!D15","v":"2019-01-01"}]
[{"$nulls":17},{"$f":"'GRILLE ISG IS G2'!B13","v":3},{"$f":"'GRILLE ISG IS G2'!C13","v":24},{"$f":"'GRILLE ISG IS G2'!D13","v":452}]
[]
["Soit un gain net mensuel de :",{"$nulls":5},{"$f":"I40*C46*0.8315","v":{"v":89.617407,"d":"89.62 €"}},{"$nulls":10},{"$f":"'GRILLE ISG IS G2'!B15","v":4},{"$f":"'GRILLE ISG IS G2'!C15","v":24},{"$f":"'GRILLE ISG IS G2'!D15","v":472}]
[]
[{"$nulls":17},{"$f":"'GRILLE ISG IS G2'!B17","v":5},{"$f":"'GRILLE ISG IS G2'!C17","v":36},{"$f":"'GRILLE ISG IS G2'!D17","v":495}]
[]
[{"$nulls":17},{"$f":"'GRILLE ISG IS G2'!B19","v":6},{"$f":"'GRILLE ISG IS G2'!C19","v":42},{"$f":"'GRILLE ISG IS G2'!D19","v":518}]
["Vos représentant-e-s SUD Santé Sociaux ",{"$nulls":7},{"$f":"RECAPITULATIF!D21","v":35},null,"sont à votre disposition"]
["pour tous renseignements complémentaires au poste :",{"$nulls":11},{"$f":"RECAPITULATIF!D17","v":2886},{"$nulls":4},{"$f":"'GRILLE ISG IS G2'!B21","v":7},{"$f":"'GRILLE ISG IS G2'!C21","v":48},{"$f":"'GRILLE ISG IS G2'!D21","v":542}]
[]
[{"$nulls":17},{"$f":"'GRILLE ISG IS G2'!B23","v":8},{"$f":"'GRILLE ISG IS G2'!C23","v":48},{"$f":"'GRILLE ISG IS G2'!D23","v":565}]
[]
[{"$nulls":17},{"$f":"'GRILLE ISG IS G2'!B25","v":9},{"$f":"'GRILLE ISG IS G2'!C25","v":48},{"$f":"'GRILLE ISG IS G2'!D25","v":592}]
["Recevez toutes nos salutations."]
[{"$nulls":17},{"$f":"'GRILLE ISG IS G2'!B27","v":10},{"$f":"'GRILLE ISG IS G2'!C27","v":0},{"$f":"'GRILLE ISG IS G2'!D27","v":617}]
[]
[{"$f":"RECAPITULATIF!B5","v":"Madame FERET Isabelle, Madame Anne PICHON et Monsieur Patrick GAUTIER"}]
[]
["SUD Santé Sociaux",{"$nulls":3},{"$f":"RECAPITULATIF!D21","v":35}]
[]
[]
[]
[]
["Tél :",{"$f":"RECAPITULATIF!D19","v":{"v":299212886,"d":"02 99 21 28 86"}}]
["Mél :",null,{"$f":"RECAPITULATIF!C23","v":"sudsante@ch-stmalo.fr"}]
[{"$f":"RECAPITULATIF!B25","v":"Site Départemental Sud"},{"$nulls":4},{"$f":"RECAPITULATIF!D25","v":"http://www.sudsantesociaux35.org"}]

{"sheet":"ISG IS G2 Echelon 7","index":37,"n_rows":72,"n_cols":20,"rows_kept":72,"merged":[[1,6,1,16],[2,6,2,11],[2,12,2,16],[8,12,9,14],[12,12,12,14],[15,0,15,14],[17,0,17,16],[19,0,19,3],[21,0,21,14],[23,0,23,4],[23,5,23,8],[23,10,23,12],[23,13,23,16],[26,5,27,17],[32,0,32,4],[32,5,32,6],[32,7,32,10],[32,11,32,12],[35,0,35,2],[35,8,35,9],[35,17,39,19],[39,0,39,7],[39,8,39,9],[39,10,39,13],[40,17,41,17],[40,18,41,18],[40,19,41,19],[42,0,42,12],[42,17,43,17],[42,18,43,18],[42,19,43,19],[44,17,45,17],[44,18,45,18],[44,19,45,19],[45,2,45,3],[45,5,45,7],[46,17,47,17],[46,18,47,18],[46,19,47,19],[48,0,48,5],[48,6,48,8],[48,17,49,17],[48,18,49,18],[48,19,49,19],[50,17,51,17],[50,18,51,18],[50,19,51,19],[52,17,53,17],[52,18,53,18],[52,19,53,19],[53,0,53,7],[53,8,53,9],[53,10,53,14],[54,0,54,11],[54,12,54,13],[54,17,55,17],[54,18,55,18],[54,19,55,19],[56,17,57,17],[56,18,57,18],[56,19,57,19],[57,0,57,16],[58,17,59,17],[58,18,59,18],[58,19,59,19],[59,0,59,16],[60,17,61,17],[60,18,61,18],[60,19,61,19],[62,0,62,16],[64,0,64,3],[69,1,69,4],[70,0,70,1],[70,2,70,7],[71,0,71,4],[71,5,71,12]]}
[]
[{"$nulls":6},"Commission Administrative"]
[{"$nulls":6},"Paritaire",{"$nulls":5},{"$f":"RECAPITULATIF!D7","v":"Locale"}]
[]
[]
[]
[]
[]
[{"$nulls":12},"Mme, Mr :"]
[]
[{"$nulls":12},"Grade :"]
[]
[{"$nulls":12},"Service :"]
[]
[]
["Votre ou vos représentant-e-s du personnel"]
[]
[{"$f":"RECAPITULATIF!B5","v":"Madame FERET Isabelle, Madame Anne PICHON et Monsieur Patrick GAUTIER"}]
[]
["SUD Santé Sociaux",{"$nulls":3},{"$f":"RECAPITULATIF!D21","v":35},"du:"]
[]
[{"$f":"RECAPITULATIF!B2","v":"Centre Hospitalier de Saint Malo"}]
[]
["siégeant auprès de la CAP",{"$nulls":4},{"$f":"RECAPITULATIF!D7","v":"Locale"},{"$nulls":3},"du :",{"$f":"RECAPITULATIF!D11","v":"2019-04-16"},null,null,"vous informe de votre :"]
[]
[]
[{"$nulls":5},"AVANCEMENT D’ECHELON"]
[]
[]
[]
[]
[]
["Vous passez à l’échelon :",{"$nulls":4},{"$f":"'GRILLE ISG IS G2'!B21","v":7},null,"Indice Majoré :",{"$nulls":3},{"$f":"'GRILLE ISG IS G2'!D21","v":542}]
[]
[]
["Date d'effet :",{"$nulls":4},"/",null,"/",{"$f":"RECAPITULATIF!D9","v":2019},{"$nulls":8},{"$f":"'GRILLE ISG IS G2'!B2","v":"Grade 2 \nManipulateur d'Electroradiologie Médicale, Ergothérapeute, Masseur-Kinésithérapeute, Psychomotricien, Orthophoniste, Pédicure-Podologue Infirmiers D.E.\nI.B.O.D.E. et Puericultrice"}]
[]
[]
[]
["Ce qui représente un gain mensuel de :",{"$nulls":7},{"$f":"'GRILLE ISG IS G2'!D21-'GRILLE ISG IS G2'!D19","v":24},null,"points d'indice."]
[{"$nulls":17},{"$f":"'GRILLE ISG IS G2'!B7","v":"Echelon"},{"$f":"'GRILLE ISG IS G2'!C7","v":"Durée\n(en mois)"},{"$f":"'GRILLE ISG IS G2'!D7","v":"Indice Majoré"}]
[]
["Pour information, la valeur brute du point d'indice",{"$nulls":16},{"$f":"'GRILLE ISG IS G2'!B9","v":1},{"$f":"'GRILLE ISG IS G2'!C9","v":24},{"$f":"'GRILLE ISG IS G2'!D9","v":416}]
[]
[{"$nulls":17},{"$f":"'GRILLE ISG IS G2'!B11","v":2},{"$f":"'GRILLE ISG IS G2'!C11","v":24},{"$f":"'GRILLE ISG IS G2'!D11","v":432}]
["est de",null,{"$f":"RECAPITULATIF!D13","v":{"v":4.686,"d":"4.686 €"}},null,"au",{"$f":"RECAPITULATIF!D15","v":"2019-01-01"}]
[{"$nulls":17},{"$f":"'GRILLE ISG IS G2'!B13","v":3},{"$f":"'GRILLE ISG IS G2'!C13","v":24},{"$f":"'GRILLE ISG IS G2'!D13","v":452}]
[]
["Soit un gain net mensuel de :",{"$nulls":5},{"$f":"I40*C46*0.8315","v":{"v":93.513816,"d":"93.51 €"}},{"$nulls":10},{"$f":"'GRILLE ISG IS G2'!B15","v":4},{"$f":"'GRILLE ISG IS G2'!C15","v":24},{"$f":"'GRILLE ISG IS G2'!D15","v":472}]
[]
[{"$nulls":17},{"$f":"'GRILLE ISG IS G2'!B17","v":5},{"$f":"'GRILLE ISG IS G2'!C17","v":36},{"$f":"'GRILLE ISG IS G2'!D17","v":495}]
[]
[{"$nulls":17},{"$f":"'GRILLE ISG IS G2'!B19","v":6},{"$f":"'GRILLE ISG IS G2'!C19","v":42},{"$f":"'GRILLE ISG IS G2'!D19","v":518}]
["Vos représentant-e-s SUD Santé Sociaux ",{"$nulls":7},{"$f":"RECAPITULATIF!D21","v":35},null,"sont à votre disposition"]
["pour tous renseignements complémentaires au poste :",{"$nulls":11},{"$f":"RECAPITULATIF!D17","v":2886},{"$nulls":4},{"$f":"'GRILLE ISG IS G2'!B21","v":7},{"$f":"'GRILLE ISG IS G2'!C21","v":48},{"$f":"'GRILLE ISG IS G2'!D21","v":542}]
[]
[{"$nulls":17},{"$f":"'GRILLE ISG IS G2'!B23","v":8},{"$f":"'GRILLE ISG IS G2'!C23","v":48},{"$f":"'GRILLE ISG IS G2'!D23","v":565}]
[]
[{"$nulls":17},{"$f":"'GRILLE ISG IS G2'!B25","v":9},{"$f":"'GRILLE ISG IS G2'!C25","v":48},{"$f":"'GRILLE ISG IS G2'!D25","v":592}]
["Recevez toutes nos salutations."]
[{"$nulls":17},{"$f":"'GRILLE ISG IS G2'!B27","v":10},{"$f":"'GRILLE ISG IS G2'!C27","v":0},{"$f":"'GRILLE ISG IS G2'!D27","v":617}]
[]
[{"$f":"RECAPITULATIF!B5","v":"Madame FERET Isabelle, Madame Anne PICHON et Monsieur Patrick GAUTIER"}]
[]
["SUD Santé Sociaux",{"$nulls":3},{"$f":"RECAPITULATIF!D21","v":35}]
[]
[]
[]
[]
["Tél :",{"$f":"RECAPITULATIF!D19","v":{"v":299212886,"d":"02 99 21 28 86"}}]
["Mél :",null,{"$f":"RECAPITULATIF!C23","v":"sudsante@ch-stmalo.fr"}]
[{"$f":"RECAPITULATIF!B25","v":"Site Départemental Sud"},{"$nulls":4},{"$f":"RECAPITULATIF!D25","v":"http://www.sudsantesociaux35.org"}]

{"sheet":"ISG IS G2 Echelon 8","index":38,"n_rows":72,"n_cols":20,"rows_kept":72,"merged":[[1,6,1,16],[2,6,2,11],[2,12,2,16],[8,12,9,14],[12,12,12,14],[15,0,15,14],[17,0,17,16],[19,0,19,3],[21,0,21,14],[23,0,23,4],[23,5,23,8],[23,10,23,12],[23,13,23,16],[26,5,27,17],[32,0,32,4],[32,5,32,6],[32,7,32,10],[32,11,32,12],[35,0,35,2],[35,8,35,9],[35,17,39,19],[39,0,39,7],[39,8,39,9],[39,10,39,13],[40,17,41,17],[40,18,41,18],[40,19,41,19],[42,0,42,12],[42,17,43,17],[42,18,43,18],[42,19,43,19],[44,17,45,17],[44,18,45,18],[44,19,45,19],[45,2,45,3],[45,5,45,7],[46,17,47,17],[46,18,47,18],[46,19,47,19],[48,0,48,5],[48,6,48,8],[48,17,49,17],[48,18,49,18],[48,19,49,19],[50,17,51,17],[50,18,51,18],[50,19,51,19],[52,17,53,17],[52,18,53,18],[52,19,53,19],[53,0,53,7],[53,8,53,9],[53,10,53,14],[54,0,54,11],[54,12,54,13],[54,17,55,17],[54,18,55,18],[54,19,55,19],[56,17,57,17],[56,18,57,18],[56,19,57,19],[57,0,57,16],[58,17,59,17],[58,18,59,18],[58,19,59,19],[59,0,59,16],[60,17,61,17],[60,18,61,18],[60,19,61,19],[62,0,62,16],[64,0,64,3],[69,1,69,4],[70,0,70,1],[70,2,70,7],[71,0,71,4],[71,5,71,12]]}
[]
[{"$nulls":6},"Commission Administrative"]
[{"$nulls":6},"Paritaire",{"$nulls":5},{"$f":"RECAPITULATIF!D7","v":"Locale"}]
[]
[]
[]
[]
[]
[{"$nulls":12},"Mme, Mr :"]
[]
[{"$nulls":12},"Grade :"]
[]
[{"$nulls":12},"Service :"]
[]
[]
["Votre ou vos représentant-e-s du personnel"]
[]
[{"$f":"RECAPITULATIF!B5","v":"Madame FERET Isabelle, Madame Anne PICHON et Monsieur Patrick GAUTIER"}]
[]
["SUD Santé Sociaux",{"$nulls":3},{"$f":"RECAPITULATIF!D21","v":35},"du:"]
[]
[{"$f":"RECAPITULATIF!B2","v":"Centre Hospitalier de Saint Malo"}]
[]
["siégeant auprès de la CAP",{"$nulls":4},{"$f":"RECAPITULATIF!D7","v":"Locale"},{"$nulls":3},"du :",{"$f":"RECAPITULATIF!D11","v":"2019-04-16"},null,null,"vous informe de votre :"]
[]
[]
[{"$nulls":5},"AVANCEMENT D’ECHELON"]
[]
[]
[]
[]
[]
["Vous passez à l’échelon :",{"$nulls":4},{"$f":"'GRILLE ISG IS G2'!B23","v":8},null,"Indice Majoré :",{"$nulls":3},{"$f":"'GRILLE ISG IS G2'!D23","v":565}]
[]
[]
["Date d'effet :",{"$nulls":4},"/",null,"/",{"$f":"RECAPITULATIF!D9","v":2019},{"$nulls":8},{"$f":"'GRILLE ISG IS G2'!B2","v":"Grade 2 \nManipulateur d'Electroradiologie Médicale, Ergothérapeute, Masseur-Kinésithérapeute, Psychomotricien, Orthophoniste, Pédicure-Podologue Infirmiers D.E.\nI.B.O.D.E. et Puericultrice"}]
[]
[]
[]
["Ce qui représente un gain mensuel de :",{"$nulls":7},{"$f":"'GRILLE ISG IS G2'!D23-'GRILLE ISG IS G2'!D21","v":23},null,"points d'indice."]
[{"$nulls":17},{"$f":"'GRILLE ISG IS G2'!B7","v":"Echelon"},{"$f":"'GRILLE ISG IS G2'!C7","v":"Durée\n(en mois)"},{"$f":"'GRILLE ISG IS G2'!D7","v":"Indice Majoré"}]
[]
["Pour information, la valeur brute du point d'indice",{"$nulls":16},{"$f":"'GRILLE ISG IS G2'!B9","v":1},{"$f":"'GRILLE ISG IS G2'!C9","v":24},{"$f":"'GRILLE ISG IS G2'!D9","v":416}]
[]
[{"$nulls":17},{"$f":"'GRILLE ISG IS G2'!B11","v":2},{"$f":"'GRILLE ISG IS G2'!C11","v":24},{"$f":"'GRILLE ISG IS G2'!D11","v":432}]
["est de",null,{"$f":"RECAPITULATIF!D13","v":{"v":4.686,"d":"4.686 €"}},null,"au",{"$f":"RECAPITULATIF!D15","v":"2019-01-01"}]
[{"$nulls":17},{"$f":"'GRILLE ISG IS G2'!B13","v":3},{"$f":"'GRILLE ISG IS G2'!C13","v":24},{"$f":"'GRILLE ISG IS G2'!D13","v":452}]
[]
["Soit un gain net mensuel de :",{"$nulls":5},{"$f":"I40*C46*0.8315","v":{"v":89.617407,"d":"89.62 €"}},{"$nulls":10},{"$f":"'GRILLE ISG IS G2'!B15","v":4},{"$f":"'GRILLE ISG IS G2'!C15","v":24},{"$f":"'GRILLE ISG IS G2'!D15","v":472}]
[]
[{"$nulls":17},{"$f":"'GRILLE ISG IS G2'!B17","v":5},{"$f":"'GRILLE ISG IS G2'!C17","v":36},{"$f":"'GRILLE ISG IS G2'!D17","v":495}]
[]
[{"$nulls":17},{"$f":"'GRILLE ISG IS G2'!B19","v":6},{"$f":"'GRILLE ISG IS G2'!C19","v":42},{"$f":"'GRILLE ISG IS G2'!D19","v":518}]
["Vos représentant-e-s SUD Santé Sociaux ",{"$nulls":7},{"$f":"RECAPITULATIF!D21","v":35},null,"sont à votre disposition"]
["pour tous renseignements complémentaires au poste :",{"$nulls":11},{"$f":"RECAPITULATIF!D17","v":2886},{"$nulls":4},{"$f":"'GRILLE ISG IS G2'!B21","v":7},{"$f":"'GRILLE ISG IS G2'!C21","v":48},{"$f":"'GRILLE ISG IS G2'!D21","v":542}]
[]
[{"$nulls":17},{"$f":"'GRILLE ISG IS G2'!B23","v":8},{"$f":"'GRILLE ISG IS G2'!C23","v":48},{"$f":"'GRILLE ISG IS G2'!D23","v":565}]
[]
[{"$nulls":17},{"$f":"'GRILLE ISG IS G2'!B25","v":9},{"$f":"'GRILLE ISG IS G2'!C25","v":48},{"$f":"'GRILLE ISG IS G2'!D25","v":592}]
["Recevez toutes nos salutations."]
[{"$nulls":17},{"$f":"'GRILLE ISG IS G2'!B27","v":10},{"$f":"'GRILLE ISG IS G2'!C27","v":0},{"$f":"'GRILLE ISG IS G2'!D27","v":617}]
[]
[{"$f":"RECAPITULATIF!B5","v":"Madame FERET Isabelle, Madame Anne PICHON et Monsieur Patrick GAUTIER"}]
[]
["SUD Santé Sociaux",{"$nulls":3},{"$f":"RECAPITULATIF!D21","v":35}]
[]
[]
[]
[]
["Tél :",{"$f":"RECAPITULATIF!D19","v":{"v":299212886,"d":"02 99 21 28 86"}}]
["Mél :",null,{"$f":"RECAPITULATIF!C23","v":"sudsante@ch-stmalo.fr"}]
[{"$f":"RECAPITULATIF!B25","v":"Site Départemental Sud"},{"$nulls":4},{"$f":"RECAPITULATIF!D25","v":"http://www.sudsantesociaux35.org"}]

{"sheet":"ISG IS G2 Echelon 9","index":39,"n_rows":72,"n_cols":20,"rows_kept":72,"merged":[[1,6,1,16],[2,6,2,11],[2,12,2,16],[8,12,9,14],[12,12,12,14],[15,0,15,14],[17,0,17,16],[19,0,19,3],[21,0,21,14],[23,0,23,4],[23,5,23,8],[23,10,23,12],[23,13,23,16],[26,5,27,17],[32,0,32,4],[32,5,32,6],[32,7,32,10],[32,11,32,12],[35,0,35,2],[35,8,35,9],[35,17,39,19],[39,0,39,7],[39,8,39,9],[39,10,39,13],[40,17,41,17],[40,18,41,18],[40,19,41,19],[42,0,42,12],[42,17,43,17],[42,18,43,18],[42,19,43,19],[44,17,45,17],[44,18,45,18],[44,19,45,19],[45,2,45,3],[45,5,45,7],[46,17,47,17],[46,18,47,18],[46,19,47,19],[48,0,48,5],[48,6,48,8],[48,17,49,17],[48,18,49,18],[48,19,49,19],[50,17,51,17],[50,18,51,18],[50,19,51,19],[52,17,53,17],[52,18,53,18],[52,19,53,19],[53,0,53,7],[53,8,53,9],[53,10,53,14],[54,0,54,11],[54,12,54,13],[54,17,55,17],[54,18,55,18],[54,19,55,19],[56,17,57,17],[56,18,57,18],[56,19,57,19],[57,0,57,16],[58,17,59,17],[58,18,59,18],[58,19,59,19],[59,0,59,16],[60,17,61,17],[60,18,61,18],[60,19,61,19],[62,0,62,16],[64,0,64,3],[69,1,69,4],[70,0,70,1],[70,2,70,7],[71,0,71,4],[71,5,71,12]]}
[]
[{"$nulls":6},"Commission Administrative"]
[{"$nulls":6},"Paritaire",{"$nulls":5},{"$f":"RECAPITULATIF!D7","v":"Locale"}]
[]
[]
[]
[]
[]
[{"$nulls":12},"Mme, Mr :"]
[]
[{"$nulls":12},"Grade :"]
[]
[{"$nulls":12},"Service :"]
[]
[]
["Votre ou vos représentant-e-s du personnel"]
[]
[{"$f":"RECAPITULATIF!B5","v":"Madame FERET Isabelle, Madame Anne PICHON et Monsieur Patrick GAUTIER"}]
[]
["SUD Santé Sociaux",{"$nulls":3},{"$f":"RECAPITULATIF!D21","v":35},"du:"]
[]
[{"$f":"RECAPITULATIF!B2","v":"Centre Hospitalier de Saint Malo"}]
[]
["siégeant auprès de la CAP",{"$nulls":4},{"$f":"RECAPITULATIF!D7","v":"Locale"},{"$nulls":3},"du :",{"$f":"RECAPITULATIF!D11","v":"2019-04-16"},null,null,"vous informe de votre :"]
[]
[]
[{"$nulls":5},"AVANCEMENT D’ECHELON"]
[]
[]
[]
[]
[]
["Vous passez à l’échelon :",{"$nulls":4},{"$f":"'GRILLE ISG IS G2'!B25","v":9},null,"Indice Majoré :",{"$nulls":3},{"$f":"'GRILLE ISG IS G2'!D25","v":592}]
[]
[]
["Date d'effet :",{"$nulls":4},"/",null,"/",{"$f":"RECAPITULATIF!D9","v":2019},{"$nulls":8},{"$f":"'GRILLE ISG IS G2'!B2","v":"Grade 2 \nManipulateur d'Electroradiologie Médicale, Ergothérapeute, Masseur-Kinésithérapeute, Psychomotricien, Orthophoniste, Pédicure-Podologue Infirmiers D.E.\nI.B.O.D.E. et Puericultrice"}]
[]
[]
[]
["Ce qui représente un gain mensuel de :",{"$nulls":7},{"$f":"'GRILLE ISG IS G2'!D25-'GRILLE ISG IS G2'!D23","v":27},null,"points d'indice."]
[{"$nulls":17},{"$f":"'GRILLE ISG IS G2'!B7","v":"Echelon"},{"$f":"'GRILLE ISG IS G2'!C7","v":"Durée\n(en mois)"},{"$f":"'GRILLE ISG IS G2'!D7","v":"Indice Majoré"}]
[]
["Pour information, la valeur brute du point d'indice",{"$nulls":16},{"$f":"'GRILLE ISG IS G2'!B9","v":1},{"$f":"'GRILLE ISG IS G2'!C9","v":24},{"$f":"'GRILLE ISG IS G2'!D9","v":416}]
[]
[{"$nulls":17},{"$f":"'GRILLE ISG IS G2'!B11","v":2},{"$f":"'GRILLE ISG IS G2'!C11","v":24},{"$f":"'GRILLE ISG IS G2'!D11","v":432}]
["est de",null,{"$f":"RECAPITULATIF!D13","v":{"v":4.686,"d":"4.686 €"}},null,"au",{"$f":"RECAPITULATIF!D15","v":"2019-01-01"}]
[{"$nulls":17},{"$f":"'GRILLE ISG IS G2'!B13","v":3},{"$f":"'GRILLE ISG IS G2'!C13","v":24},{"$f":"'GRILLE ISG IS G2'!D13","v":452}]
[]
["Soit un gain net mensuel de :",{"$nulls":5},{"$f":"I40*C46*0.8315","v":{"v":105.203043,"d":"105.20 €"}},{"$nulls":10},{"$f":"'GRILLE ISG IS G2'!B15","v":4},{"$f":"'GRILLE ISG IS G2'!C15","v":24},{"$f":"'GRILLE ISG IS G2'!D15","v":472}]
[]
[{"$nulls":17},{"$f":"'GRILLE ISG IS G2'!B17","v":5},{"$f":"'GRILLE ISG IS G2'!C17","v":36},{"$f":"'GRILLE ISG IS G2'!D17","v":495}]
[]
[{"$nulls":17},{"$f":"'GRILLE ISG IS G2'!B19","v":6},{"$f":"'GRILLE ISG IS G2'!C19","v":42},{"$f":"'GRILLE ISG IS G2'!D19","v":518}]
["Vos représentant-e-s SUD Santé Sociaux ",{"$nulls":7},{"$f":"RECAPITULATIF!D21","v":35},null,"sont à votre disposition"]
["pour tous renseignements complémentaires au poste :",{"$nulls":11},{"$f":"RECAPITULATIF!D17","v":2886},{"$nulls":4},{"$f":"'GRILLE ISG IS G2'!B21","v":7},{"$f":"'GRILLE ISG IS G2'!C21","v":48},{"$f":"'GRILLE ISG IS G2'!D21","v":542}]
[]
[{"$nulls":17},{"$f":"'GRILLE ISG IS G2'!B23","v":8},{"$f":"'GRILLE ISG IS G2'!C23","v":48},{"$f":"'GRILLE ISG IS G2'!D23","v":565}]
[]
[{"$nulls":17},{"$f":"'GRILLE ISG IS G2'!B25","v":9},{"$f":"'GRILLE ISG IS G2'!C25","v":48},{"$f":"'GRILLE ISG IS G2'!D25","v":592}]
["Recevez toutes nos salutations."]
[{"$nulls":17},{"$f":"'GRILLE ISG IS G2'!B27","v":10},{"$f":"'GRILLE ISG IS G2'!C27","v":0},{"$f":"'GRILLE ISG IS G2'!D27","v":617}]
[]
[{"$f":"RECAPITULATIF!B5","v":"Madame FERET Isabelle, Madame Anne PICHON et Monsieur Patrick GAUTIER"}]
[]
["SUD Santé Sociaux",{"$nulls":3},{"$f":"RECAPITULATIF!D21","v":35}]
[]
[]
[]
[]
["Tél :",{"$f":"RECAPITULATIF!D19","v":{"v":299212886,"d":"02 99 21 28 86"}}]
["Mél :",null,{"$f":"RECAPITULATIF!C23","v":"sudsante@ch-stmalo.fr"}]
[{"$f":"RECAPITULATIF!B25","v":"Site Départemental Sud"},{"$nulls":4},{"$f":"RECAPITULATIF!D25","v":"http://www.sudsantesociaux35.org"}]

{"sheet":"ISG IS G2 Echelon 10","index":40,"n_rows":72,"n_cols":20,"rows_kept":72,"merged":[[1,6,1,16],[2,6,2,11],[2,12,2,16],[8,12,9,14],[12,12,12,14],[15,0,15,14],[17,0,17,16],[19,0,19,3],[21,0,21,14],[23,0,23,4],[23,5,23,8],[23,10,23,12],[23,13,23,16],[26,5,27,17],[32,0,32,4],[32,5,32,6],[32,7,32,10],[32,11,32,12],[35,0,35,2],[35,8,35,9],[35,17,39,19],[39,0,39,7],[39,8,39,9],[39,10,39,13],[40,17,41,17],[40,18,41,18],[40,19,41,19],[42,0,42,12],[42,17,43,17],[42,18,43,18],[42,19,43,19],[44,17,45,17],[44,18,45,18],[44,19,45,19],[45,2,45,3],[45,5,45,7],[46,17,47,17],[46,18,47,18],[46,19,47,19],[48,0,48,5],[48,6,48,8],[48,17,49,17],[48,18,49,18],[48,19,49,19],[50,17,51,17],[50,18,51,18],[50,19,51,19],[52,17,53,17],[52,18,53,18],[52,19,53,19],[53,0,53,7],[53,8,53,9],[53,10,53,14],[54,0,54,11],[54,12,54,13],[54,17,55,17],[54,18,55,18],[54,19,55,19],[56,17,57,17],[56,18,57,18],[56,19,57,19],[57,0,57,16],[58,17,59,17],[58,18,59,18],[58,19,59,19],[59,0,59,16],[60,17,61,17],[60,18,61,18],[60,19,61,19],[62,0,62,16],[64,0,64,3],[69,1,69,4],[70,0,70,1],[70,2,70,7],[71,0,71,4],[71,5,71,12]]}
[]
[{"$nulls":6},"Commission Administrative"]
[{"$nulls":6},"Paritaire",{"$nulls":5},{"$f":"RECAPITULATIF!D7","v":"Locale"}]
[]
[]
[]
[]
[]
[{"$nulls":12},"Mme, Mr :"]
[]
[{"$nulls":12},"Grade :"]
[]
[{"$nulls":12},"Service :"]
[]
[]
["Votre ou vos représentant-e-s du personnel"]
[]
[{"$f":"RECAPITULATIF!B5","v":"Madame FERET Isabelle, Madame Anne PICHON et Monsieur Patrick GAUTIER"}]
[]
["SUD Santé Sociaux",{"$nulls":3},{"$f":"RECAPITULATIF!D21","v":35},"du:"]
[]
[{"$f":"RECAPITULATIF!B2","v":"Centre Hospitalier de Saint Malo"}]
[]
["siégeant auprès de la CAP",{"$nulls":4},{"$f":"RECAPITULATIF!D7","v":"Locale"},{"$nulls":3},"du :",{"$f":"RECAPITULATIF!D11","v":"2019-04-16"},null,null,"vous informe de votre :"]
[]
[]
[{"$nulls":5},"AVANCEMENT D’ECHELON"]
[]
[]
[]
[]
[]
["Vous passez à l’échelon :",{"$nulls":4},{"$f":"'GRILLE ISG IS G2'!B27","v":10},null,"Indice Majoré :",{"$nulls":3},{"$f":"'GRILLE ISG IS G2'!D27","v":617}]
[]
[]
["Date d'effet :",{"$nulls":4},"/",null,"/",{"$f":"RECAPITULATIF!D9","v":2019},{"$nulls":8},{"$f":"'GRILLE ISG IS G2'!B2","v":"Grade 2 \nManipulateur d'Electroradiologie Médicale, Ergothérapeute, Masseur-Kinésithérapeute, Psychomotricien, Orthophoniste, Pédicure-Podologue Infirmiers D.E.\nI.B.O.D.E. et Puericultrice"}]
[]
[]
[]
["Ce qui représente un gain mensuel de :",{"$nulls":7},{"$f":"'GRILLE ISG IS G2'!D27-'GRILLE ISG IS G2'!D25","v":25},null,"points d'indice."]
[{"$nulls":17},{"$f":"'GRILLE ISG IS G2'!B7","v":"Echelon"},{"$f":"'GRILLE ISG IS G2'!C7","v":"Durée\n(en mois)"},{"$f":"'GRILLE ISG IS G2'!D7","v":"Indice Majoré"}]
[]
["Pour information, la valeur brute du point d'indice",{"$nulls":16},{"$f":"'GRILLE ISG IS G2'!B9","v":1},{"$f":"'GRILLE ISG IS G2'!C9","v":24},{"$f":"'GRILLE ISG IS G2'!D9","v":416}]
[]
[{"$nulls":17},{"$f":"'GRILLE ISG IS G2'!B11","v":2},{"$f":"'GRILLE ISG IS G2'!C11","v":24},{"$f":"'GRILLE ISG IS G2'!D11","v":432}]
["est de",null,{"$f":"RECAPITULATIF!D13","v":{"v":4.686,"d":"4.686 €"}},null,"au",{"$f":"RECAPITULATIF!D15","v":"2019-01-01"}]
[{"$nulls":17},{"$f":"'GRILLE ISG IS G2'!B13","v":3},{"$f":"'GRILLE ISG IS G2'!C13","v":24},{"$f":"'GRILLE ISG IS G2'!D13","v":452}]
[]
["Soit un gain net mensuel de :",{"$nulls":5},{"$f":"I40*C46*0.8315","v":{"v":97.41022500000001,"d":"97.41 €"}},{"$nulls":10},{"$f":"'GRILLE ISG IS G2'!B15","v":4},{"$f":"'GRILLE ISG IS G2'!C15","v":24},{"$f":"'GRILLE ISG IS G2'!D15","v":472}]
[]
[{"$nulls":17},{"$f":"'GRILLE ISG IS G2'!B17","v":5},{"$f":"'GRILLE ISG IS G2'!C17","v":36},{"$f":"'GRILLE ISG IS G2'!D17","v":495}]
[]
[{"$nulls":17},{"$f":"'GRILLE ISG IS G2'!B19","v":6},{"$f":"'GRILLE ISG IS G2'!C19","v":42},{"$f":"'GRILLE ISG IS G2'!D19","v":518}]
["Vos représentant-e-s SUD Santé Sociaux ",{"$nulls":7},{"$f":"RECAPITULATIF!D21","v":35},null,"sont à votre disposition"]
["pour tous renseignements complémentaires au poste :",{"$nulls":11},{"$f":"RECAPITULATIF!D17","v":2886},{"$nulls":4},{"$f":"'GRILLE ISG IS G2'!B21","v":7},{"$f":"'GRILLE ISG IS G2'!C21","v":48},{"$f":"'GRILLE ISG IS G2'!D21","v":542}]
[]
[{"$nulls":17},{"$f":"'GRILLE ISG IS G2'!B23","v":8},{"$f":"'GRILLE ISG IS G2'!C23","v":48},{"$f":"'GRILLE ISG IS G2'!D23","v":565}]
[]
[{"$nulls":17},{"$f":"'GRILLE ISG IS G2'!B25","v":9},{"$f":"'GRILLE ISG IS G2'!C25","v":48},{"$f":"'GRILLE ISG IS G2'!D25","v":592}]
["Recevez toutes nos salutations."]
[{"$nulls":17},{"$f":"'GRILLE ISG IS G2'!B27","v":10},{"$f":"'GRILLE ISG IS G2'!C27","v":0},{"$f":"'GRILLE ISG IS G2'!D27","v":617}]
[]
[{"$f":"RECAPITULATIF!B5","v":"Madame FERET Isabelle, Madame Anne PICHON et Monsieur Patrick GAUTIER"}]
[]
["SUD Santé Sociaux",{"$nulls":3},{"$f":"RECAPITULATIF!D21","v":35}]
[]
[]
[]
[]
["Tél :",{"$f":"RECAPITULATIF!D19","v":{"v":299212886,"d":"02 99 21 28 86"}}]
["Mél :",null,{"$f":"RECAPITULATIF!C23","v":"sudsante@ch-stmalo.fr"}]
[{"$f":"RECAPITULATIF!B25","v":"Site Départemental Sud"},{"$nulls":4},{"$f":"RECAPITULATIF!D25","v":"http://www.sudsantesociaux35.org"}]

{"sheet":"GRILLE ISG IS G3","index":41,"n_rows":27,"n_cols":4,"rows_kept":27,"merged":[[1,1,5,3],[6,1,7,1],[6,2,7,2],[6,3,7,3],[8,1,9,1],[8,2,9,2],[8,3,9,3],[10,1,11,1],[10,2,11,2],[10,3,11,3],[12,1,13,1],[12,2,13,2],[12,3,13,3],[14,1,15,1],[14,2,15,2],[14,3,15,3],[16,1,17,1],[16,2,17,2],[16,3,17,3],[18,1,19,1],[18,2,19,2],[18,3,19,3],[20,1,21,1],[20,2,21,2],[20,3,21,3],[22,1,23,1],[22,2,23,2],[22,3,23,3],[24,1,25,1],[24,2,25,2],[24,3,25,3],[26,1,27,1],[26,2,27,2],[26,3,27,3]]}
[]
[null,"I.B.O.D.E.  /  Puéricultrice\net  I.A.D.E.\n\nGrade 3"]
[]
[]
[]
[]
[null,"Echelon","Durée\n(en mois)","Indice Majoré"]
[]
[null,1,24,433]
[]
[null,2,24,452]
[]
[null,3,24,473]
[]
[null,4,24,498]
[]
[null,5,24,522]
[]
[null,6,42,546]
[]
[null,7,48,573]
[]
[null,8,48,598]
[]
[null,9,48,621]
[]
[null,10,null,650]

{"sheet":"IMP GRILLE ISG IS G3","index":42,"n_rows":6,"n_cols":2,"rows_kept":6,"merged":[[1,1,1,9],[3,1,3,9],[5,1,5,9]]}
[]
[null,"1) Imprimez autant de feuilles que d'agents concernés."]
[]
[null,"2) Pliez en 3 au niveau du repère, deux petits traits noirs."]
[]
[null,"3) Inserrez ce courrier dans une enveloppe 110 X 220 à fenêtre."]

{"sheet":"ISG IS G3 Echelon 2","index":43,"n_rows":72,"n_cols":20,"rows_kept":72,"merged":[[1,6,1,16],[2,6,2,11],[2,12,2,16],[8,12,9,14],[12,12,12,14],[15,0,15,14],[17,0,17,16],[19,0,19,3],[21,0,21,14],[23,0,23,4],[23,5,23,8],[23,10,23,12],[23,13,23,16],[26,5,27,17],[32,0,32,4],[32,5,32,6],[32,7,32,10],[32,11,32,12],[35,0,35,2],[35,8,35,9],[35,17,39,19],[39,0,39,7],[39,8,39,9],[39,10,39,13],[40,17,41,17],[40,18,41,18],[40,19,41,19],[42,0,42,12],[42,17,43,17],[42,18,43,18],[42,19,43,19],[44,17,45,17],[44,18,45,18],[44,19,45,19],[45,2,45,3],[45,5,45,7],[46,17,47,17],[46,18,47,18],[46,19,47,19],[48,0,48,5],[48,6,48,8],[48,17,49,17],[48,18,49,18],[48,19,49,19],[50,17,51,17],[50,18,51,18],[50,19,51,19],[52,17,53,17],[52,18,53,18],[52,19,53,19],[53,0,53,7],[53,8,53,9],[53,10,53,14],[54,0,54,11],[54,12,54,13],[54,17,55,17],[54,18,55,18],[54,19,55,19],[56,17,57,17],[56,18,57,18],[56,19,57,19],[57,0,57,16],[58,17,59,17],[58,18,59,18],[58,19,59,19],[59,0,59,16],[60,17,61,17],[60,18,61,18],[60,19,61,19],[62,0,62,16],[64,0,64,3],[69,1,69,4],[70,0,70,1],[70,2,70,7],[71,0,71,4],[71,5,71,12]]}
[]
[{"$nulls":6},"Commission Administrative"]
[{"$nulls":6},"Paritaire",{"$nulls":5},{"$f":"RECAPITULATIF!D7","v":"Locale"}]
[]
[]
[]
[]
[]
[{"$nulls":12},"Mme, Mr :"]
[]
[{"$nulls":12},"Grade :"]
[]
[{"$nulls":12},"Service :"]
[]
[]
["Votre ou vos représentant-e-s du personnel"]
[]
[{"$f":"RECAPITULATIF!B5","v":"Madame FERET Isabelle, Madame Anne PICHON et Monsieur Patrick GAUTIER"}]
[]
["SUD Santé Sociaux",{"$nulls":3},{"$f":"RECAPITULATIF!D21","v":35},"du:"]
[]
[{"$f":"RECAPITULATIF!B2","v":"Centre Hospitalier de Saint Malo"}]
[]
["siégeant auprès de la CAP",{"$nulls":4},{"$f":"RECAPITULATIF!D7","v":"Locale"},{"$nulls":3},"du :",{"$f":"RECAPITULATIF!D11","v":"2019-04-16"},null,null,"vous informe de votre :"]
[]
[]
[{"$nulls":5},"AVANCEMENT D’ECHELON"]
[]
[]
[]
[]
[]
["Vous passez à l’échelon :",{"$nulls":4},{"$f":"'GRILLE ISG IS G3'!B11","v":2},null,"Indice Majoré :",{"$nulls":3},{"$f":"'GRILLE ISG IS G3'!D11","v":452}]
[]
[]
["Date d'effet :",{"$nulls":4},"/",null,"/",{"$f":"RECAPITULATIF!D9","v":2019},{"$nulls":8},{"$f":"'GRILLE ISG IS G3'!B2","v":"I.B.O.D.E.  /  Puéricultrice\net  I.A.D.E.\n\nGrade 3"}]
[]
[]
[]
["Ce qui représente un gain mensuel de :",{"$nulls":7},{"$f":"'GRILLE ISG IS G3'!D11-'GRILLE ISG IS G3'!D9","v":19},null,"points d'indice."]
[{"$nulls":17},{"$f":"'GRILLE ISG IS G3'!B7","v":"Echelon"},{"$f":"'GRILLE ISG IS G3'!C7","v":"Durée\n(en mois)"},{"$f":"'GRILLE ISG IS G3'!D7","v":"Indice Majoré"}]
[]
["Pour information, la valeur brute du point d'indice",{"$nulls":16},{"$f":"'GRILLE ISG IS G3'!B9","v":1},{"$f":"'GRILLE ISG IS G3'!C9","v":24},{"$f":"'GRILLE ISG IS G3'!D9","v":433}]
[]
[{"$nulls":17},{"$f":"'GRILLE ISG IS G3'!B11","v":2},{"$f":"'GRILLE ISG IS G3'!C11","v":24},{"$f":"'GRILLE ISG IS G3'!D11","v":452}]
["est de",null,{"$f":"RECAPITULATIF!D13","v":{"v":4.686,"d":"4.686 €"}},null,"au",{"$f":"RECAPITULATIF!D15","v":"2019-01-01"}]
[{"$nulls":17},{"$f":"'GRILLE ISG IS G3'!B13","v":3},{"$f":"'GRILLE ISG IS G3'!C13","v":24},{"$f":"'GRILLE ISG IS G3'!D13","v":473}]
[]
["Soit un gain net mensuel de :",{"$nulls":5},{"$f":"I40*C46*0.8315","v":{"v":74.03177099999999,"d":"74.03 €"}},{"$nulls":10},{"$f":"'GRILLE ISG IS G3'!B15","v":4},{"$f":"'GRILLE ISG IS G3'!C15","v":24},{"$f":"'GRILLE ISG IS G3'!D15","v":498}]
[]
[{"$nulls":17},{"$f":"'GRILLE ISG IS G3'!B17","v":5},{"$f":"'GRILLE ISG IS G3'!C17","v":24},{"$f":"'GRILLE ISG IS G3'!D17","v":522}]
[]
[{"$nulls":17},{"$f":"'GRILLE ISG IS G3'!B19","v":6},{"$f":"'GRILLE ISG IS G3'!C19","v":42},{"$f":"'GRILLE ISG IS G3'!D19","v":546}]
["Vos représentant-e-s SUD Santé Sociaux ",{"$nulls":7},{"$f":"RECAPITULATIF!D21","v":35},null,"sont à votre disposition"]
["pour tous renseignements complémentaires au poste :",{"$nulls":11},{"$f":"RECAPITULATIF!D17","v":2886},{"$nulls":4},{"$f":"'GRILLE ISG IS G3'!B21","v":7},{"$f":"'GRILLE ISG IS G3'!C21","v":48},{"$f":"'GRILLE ISG IS G3'!D21","v":573}]
[]
[{"$nulls":17},{"$f":"'GRILLE ISG IS G3'!B23","v":8},{"$f":"'GRILLE ISG IS G3'!C23","v":48},{"$f":"'GRILLE ISG IS G3'!D23","v":598}]
[]
[{"$nulls":17},{"$f":"'GRILLE ISG IS G3'!B25","v":9},{"$f":"'GRILLE ISG IS G3'!C25","v":48},{"$f":"'GRILLE ISG IS G3'!D25","v":621}]
["Recevez toutes nos salutations."]
[{"$nulls":17},{"$f":"'GRILLE ISG IS G3'!B27","v":10},{"$f":"'GRILLE ISG IS G3'!C27","v":0},{"$f":"'GRILLE ISG IS G3'!D27","v":650}]
[]
[{"$f":"RECAPITULATIF!B5","v":"Madame FERET Isabelle, Madame Anne PICHON et Monsieur Patrick GAUTIER"}]
[]
["SUD Santé Sociaux",{"$nulls":3},{"$f":"RECAPITULATIF!D21","v":35}]
[]
[]
[]
[]
["Tél :",{"$f":"RECAPITULATIF!D19","v":{"v":299212886,"d":"02 99 21 28 86"}}]
["Mél :",null,{"$f":"RECAPITULATIF!C23","v":"sudsante@ch-stmalo.fr"}]
[{"$f":"RECAPITULATIF!B25","v":"Site Départemental Sud"},{"$nulls":4},{"$f":"RECAPITULATIF!D25","v":"http://www.sudsantesociaux35.org"}]

{"sheet":"ISG IS G3 Echelon 3","index":44,"n_rows":72,"n_cols":20,"rows_kept":72,"merged":[[1,6,1,16],[2,6,2,11],[2,12,2,16],[8,12,9,14],[12,12,12,14],[15,0,15,14],[17,0,17,16],[19,0,19,3],[21,0,21,14],[23,0,23,4],[23,5,23,8],[23,10,23,12],[23,13,23,16],[26,5,27,17],[32,0,32,4],[32,5,32,6],[32,7,32,10],[32,11,32,12],[35,0,35,2],[35,8,35,9],[35,17,39,19],[39,0,39,7],[39,8,39,9],[39,10,39,13],[40,17,41,17],[40,18,41,18],[40,19,41,19],[42,0,42,12],[42,17,43,17],[42,18,43,18],[42,19,43,19],[44,17,45,17],[44,18,45,18],[44,19,45,19],[45,2,45,3],[45,5,45,7],[46,17,47,17],[46,18,47,18],[46,19,47,19],[48,0,48,5],[48,6,48,8],[48,17,49,17],[48,18,49,18],[48,19,49,19],[50,17,51,17],[50,18,51,18],[50,19,51,19],[52,17,53,17],[52,18,53,18],[52,19,53,19],[53,0,53,7],[53,8,53,9],[53,10,53,14],[54,0,54,11],[54,12,54,13],[54,17,55,17],[54,18,55,18],[54,19,55,19],[56,17,57,17],[56,18,57,18],[56,19,57,19],[57,0,57,16],[58,17,59,17],[58,18,59,18],[58,19,59,19],[59,0,59,16],[60,17,61,17],[60,18,61,18],[60,19,61,19],[62,0,62,16],[64,0,64,3],[69,1,69,4],[70,0,70,1],[70,2,70,7],[71,0,71,4],[71,5,71,12]]}
[]
[{"$nulls":6},"Commission Administrative"]
[{"$nulls":6},"Paritaire",{"$nulls":5},{"$f":"RECAPITULATIF!D7","v":"Locale"}]
[]
[]
[]
[]
[]
[{"$nulls":12},"Mme, Mr :"]
[]
[{"$nulls":12},"Grade :"]
[]
[{"$nulls":12},"Service :"]
[]
[]
["Votre ou vos représentant-e-s du personnel"]
[]
[{"$f":"RECAPITULATIF!B5","v":"Madame FERET Isabelle, Madame Anne PICHON et Monsieur Patrick GAUTIER"}]
[]
["SUD Santé Sociaux",{"$nulls":3},{"$f":"RECAPITULATIF!D21","v":35},"du:"]
[]
[{"$f":"RECAPITULATIF!B2","v":"Centre Hospitalier de Saint Malo"}]
[]
["siégeant auprès de la CAP",{"$nulls":4},{"$f":"RECAPITULATIF!D7","v":"Locale"},{"$nulls":3},"du :",{"$f":"RECAPITULATIF!D11","v":"2019-04-16"},null,null,"vous informe de votre :"]
[]
[]
[{"$nulls":5},"AVANCEMENT D’ECHELON"]
[]
[]
[]
[]
[]
["Vous passez à l’échelon :",{"$nulls":4},{"$f":"'GRILLE ISG IS G3'!B13","v":3},null,"Indice Majoré :",{"$nulls":3},{"$f":"'GRILLE ISG IS G3'!D13","v":473}]
[]
[]
["Date d'effet :",{"$nulls":4},"/",null,"/",{"$f":"RECAPITULATIF!D9","v":2019},{"$nulls":8},{"$f":"'GRILLE ISG IS G3'!B2","v":"I.B.O.D.E.  /  Puéricultrice\net  I.A.D.E.\n\nGrade 3"}]
[]
[]
[]
["Ce qui représente un gain mensuel de :",{"$nulls":7},{"$f":"'GRILLE ISG IS G3'!D13-'GRILLE ISG IS G3'!D11","v":21},null,"points d'indice."]
[{"$nulls":17},{"$f":"'GRILLE ISG IS G3'!B7","v":"Echelon"},{"$f":"'GRILLE ISG IS G3'!C7","v":"Durée\n(en mois)"},{"$f":"'GRILLE ISG IS G3'!D7","v":"Indice Majoré"}]
[]
["Pour information, la valeur brute du point d'indice",{"$nulls":16},{"$f":"'GRILLE ISG IS G3'!B9","v":1},{"$f":"'GRILLE ISG IS G3'!C9","v":24},{"$f":"'GRILLE ISG IS G3'!D9","v":433}]
[]
[{"$nulls":17},{"$f":"'GRILLE ISG IS G3'!B11","v":2},{"$f":"'GRILLE ISG IS G3'!C11","v":24},{"$f":"'GRILLE ISG IS G3'!D11","v":452}]
["est de",null,{"$f":"RECAPITULATIF!D13","v":{"v":4.686,"d":"4.686 €"}},null,"au",{"$f":"RECAPITULATIF!D15","v":"2019-01-01"}]
[{"$nulls":17},{"$f":"'GRILLE ISG IS G3'!B13","v":3},{"$f":"'GRILLE ISG IS G3'!C13","v":24},{"$f":"'GRILLE ISG IS G3'!D13","v":473}]
[]
["Soit un gain net mensuel de :",{"$nulls":5},{"$f":"I40*C46*0.8315","v":{"v":81.824589,"d":"81.82 €"}},{"$nulls":10},{"$f":"'GRILLE ISG IS G3'!B15","v":4},{"$f":"'GRILLE ISG IS G3'!C15","v":24},{"$f":"'GRILLE ISG IS G3'!D15","v":498}]
[]
[{"$nulls":17},{"$f":"'GRILLE ISG IS G3'!B17","v":5},{"$f":"'GRILLE ISG IS G3'!C17","v":24},{"$f":"'GRILLE ISG IS G3'!D17","v":522}]
[]
[{"$nulls":17},{"$f":"'GRILLE ISG IS G3'!B19","v":6},{"$f":"'GRILLE ISG IS G3'!C19","v":42},{"$f":"'GRILLE ISG IS G3'!D19","v":546}]
["Vos représentant-e-s SUD Santé Sociaux ",{"$nulls":7},{"$f":"RECAPITULATIF!D21","v":35},null,"sont à votre disposition"]
["pour tous renseignements complémentaires au poste :",{"$nulls":11},{"$f":"RECAPITULATIF!D17","v":2886},{"$nulls":4},{"$f":"'GRILLE ISG IS G3'!B21","v":7},{"$f":"'GRILLE ISG IS G3'!C21","v":48},{"$f":"'GRILLE ISG IS G3'!D21","v":573}]
[]
[{"$nulls":17},{"$f":"'GRILLE ISG IS G3'!B23","v":8},{"$f":"'GRILLE ISG IS G3'!C23","v":48},{"$f":"'GRILLE ISG IS G3'!D23","v":598}]
[]
[{"$nulls":17},{"$f":"'GRILLE ISG IS G3'!B25","v":9},{"$f":"'GRILLE ISG IS G3'!C25","v":48},{"$f":"'GRILLE ISG IS G3'!D25","v":621}]
["Recevez toutes nos salutations."]
[{"$nulls":17},{"$f":"'GRILLE ISG IS G3'!B27","v":10},{"$f":"'GRILLE ISG IS G3'!C27","v":0},{"$f":"'GRILLE ISG IS G3'!D27","v":650}]
[]
[{"$f":"RECAPITULATIF!B5","v":"Madame FERET Isabelle, Madame Anne PICHON et Monsieur Patrick GAUTIER"}]
[]
["SUD Santé Sociaux",{"$nulls":3},{"$f":"RECAPITULATIF!D21","v":35}]
[]
[]
[]
[]
["Tél :",{"$f":"RECAPITULATIF!D19","v":{"v":299212886,"d":"02 99 21 28 86"}}]
["Mél :",null,{"$f":"RECAPITULATIF!C23","v":"sudsante@ch-stmalo.fr"}]
[{"$f":"RECAPITULATIF!B25","v":"Site Départemental Sud"},{"$nulls":4},{"$f":"RECAPITULATIF!D25","v":"http://www.sudsantesociaux35.org"}]

{"sheet":"ISG IS G3 Echelon 4","index":45,"n_rows":72,"n_cols":20,"rows_kept":72,"merged":[[1,6,1,16],[2,6,2,11],[2,12,2,16],[8,12,9,14],[12,12,12,14],[15,0,15,14],[17,0,17,16],[19,0,19,3],[21,0,21,14],[23,0,23,4],[23,5,23,8],[23,10,23,12],[23,13,23,16],[26,5,27,17],[32,0,32,4],[32,5,32,6],[32,7,32,10],[32,11,32,12],[35,0,35,2],[35,8,35,9],[35,17,39,19],[39,0,39,7],[39,8,39,9],[39,10,39,13],[40,17,41,17],[40,18,41,18],[40,19,41,19],[42,0,42,12],[42,17,43,17],[42,18,43,18],[42,19,43,19],[44,17,45,17],[44,18,45,18],[44,19,45,19],[45,2,45,3],[45,5,45,7],[46,17,47,17],[46,18,47,18],[46,19,47,19],[48,0,48,5],[48,6,48,8],[48,17,49,17],[48,18,49,18],[48,19,49,19],[50,17,51,17],[50,18,51,18],[50,19,51,19],[52,17,53,17],[52,18,53,18],[52,19,53,19],[53,0,53,7],[53,8,53,9],[53,10,53,14],[54,0,54,11],[54,12,54,13],[54,17,55,17],[54,18,55,18],[54,19,55,19],[56,17,57,17],[56,18,57,18],[56,19,57,19],[57,0,57,16],[58,17,59,17],[58,18,59,18],[58,19,59,19],[59,0,59,16],[60,17,61,17],[60,18,61,18],[60,19,61,19],[62,0,62,16],[64,0,64,3],[69,1,69,4],[70,0,70,1],[70,2,70,7],[71,0,71,4],[71,5,71,12]]}
[]
[{"$nulls":6},"Commission Administrative"]
[{"$nulls":6},"Paritaire",{"$nulls":5},{"$f":"RECAPITULATIF!D7","v":"Locale"}]
[]
[]
[]
[]
[]
[{"$nulls":12},"Mme, Mr :"]
[]
[{"$nulls":12},"Grade :"]
[]
[{"$nulls":12},"Service :"]
[]
[]
["Votre ou vos représentant-e-s du personnel"]
[]
[{"$f":"RECAPITULATIF!B5","v":"Madame FERET Isabelle, Madame Anne PICHON et Monsieur Patrick GAUTIER"}]
[]
["SUD Santé Sociaux",{"$nulls":3},{"$f":"RECAPITULATIF!D21","v":35},"du:"]
[]
[{"$f":"RECAPITULATIF!B2","v":"Centre Hospitalier de Saint Malo"}]
[]
["siégeant auprès de la CAP",{"$nulls":4},{"$f":"RECAPITULATIF!D7","v":"Locale"},{"$nulls":3},"du :",{"$f":"RECAPITULATIF!D11","v":"2019-04-16"},null,null,"vous informe de votre :"]
[]
[]
[{"$nulls":5},"AVANCEMENT D’ECHELON"]
[]
[]
[]
[]
[]
["Vous passez à l’échelon :",{"$nulls":4},{"$f":"'GRILLE ISG IS G3'!B15","v":4},null,"Indice Majoré :",{"$nulls":3},{"$f":"'GRILLE ISG IS G3'!D15","v":498}]
[]
[]
["Date d'effet :",{"$nulls":4},"/",null,"/",{"$f":"RECAPITULATIF!D9","v":2019},{"$nulls":8},{"$f":"'GRILLE ISG IS G3'!B2","v":"I.B.O.D.E.  /  Puéricultrice\net  I.A.D.E.\n\nGrade 3"}]
[]
[]
[]
["Ce qui représente un gain mensuel de :",{"$nulls":7},{"$f":"'GRILLE ISG IS G3'!D15-'GRILLE ISG IS G3'!D13","v":25},null,"points d'indice."]
[{"$nulls":17},{"$f":"'GRILLE ISG IS G3'!B7","v":"Echelon"},{"$f":"'GRILLE ISG IS G3'!C7","v":"Durée\n(en mois)"},{"$f":"'GRILLE ISG IS G3'!D7","v":"Indice Majoré"}]
[]
["Pour information, la valeur brute du point d'indice",{"$nulls":16},{"$f":"'GRILLE ISG IS G3'!B9","v":1},{"$f":"'GRILLE ISG IS G3'!C9","v":24},{"$f":"'GRILLE ISG IS G3'!D9","v":433}]
[]
[{"$nulls":17},{"$f":"'GRILLE ISG IS G3'!B11","v":2},{"$f":"'GRILLE ISG IS G3'!C11","v":24},{"$f":"'GRILLE ISG IS G3'!D11","v":452}]
["est de",null,{"$f":"RECAPITULATIF!D13","v":{"v":4.686,"d":"4.686 €"}},null,"au",{"$f":"RECAPITULATIF!D15","v":"2019-01-01"}]
[{"$nulls":17},{"$f":"'GRILLE ISG IS G3'!B13","v":3},{"$f":"'GRILLE ISG IS G3'!C13","v":24},{"$f":"'GRILLE ISG IS G3'!D13","v":473}]
[]
["Soit un gain net mensuel de :",{"$nulls":5},{"$f":"I40*C46*0.8315","v":{"v":97.41022500000001,"d":"97.41 €"}},{"$nulls":10},{"$f":"'GRILLE ISG IS G3'!B15","v":4},{"$f":"'GRILLE ISG IS G3'!C15","v":24},{"$f":"'GRILLE ISG IS G3'!D15","v":498}]
[]
[{"$nulls":17},{"$f":"'GRILLE ISG IS G3'!B17","v":5},{"$f":"'GRILLE ISG IS G3'!C17","v":24},{"$f":"'GRILLE ISG IS G3'!D17","v":522}]
[]
[{"$nulls":17},{"$f":"'GRILLE ISG IS G3'!B19","v":6},{"$f":"'GRILLE ISG IS G3'!C19","v":42},{"$f":"'GRILLE ISG IS G3'!D19","v":546}]
["Vos représentant-e-s SUD Santé Sociaux ",{"$nulls":7},{"$f":"RECAPITULATIF!D21","v":35},null,"sont à votre disposition"]
["pour tous renseignements complémentaires au poste :",{"$nulls":11},{"$f":"RECAPITULATIF!D17","v":2886},{"$nulls":4},{"$f":"'GRILLE ISG IS G3'!B21","v":7},{"$f":"'GRILLE ISG IS G3'!C21","v":48},{"$f":"'GRILLE ISG IS G3'!D21","v":573}]
[]
[{"$nulls":17},{"$f":"'GRILLE ISG IS G3'!B23","v":8},{"$f":"'GRILLE ISG IS G3'!C23","v":48},{"$f":"'GRILLE ISG IS G3'!D23","v":598}]
[]
[{"$nulls":17},{"$f":"'GRILLE ISG IS G3'!B25","v":9},{"$f":"'GRILLE ISG IS G3'!C25","v":48},{"$f":"'GRILLE ISG IS G3'!D25","v":621}]
["Recevez toutes nos salutations."]
[{"$nulls":17},{"$f":"'GRILLE ISG IS G3'!B27","v":10},{"$f":"'GRILLE ISG IS G3'!C27","v":0},{"$f":"'GRILLE ISG IS G3'!D27","v":650}]
[]
[{"$f":"RECAPITULATIF!B5","v":"Madame FERET Isabelle, Madame Anne PICHON et Monsieur Patrick GAUTIER"}]
[]
["SUD Santé Sociaux",{"$nulls":3},{"$f":"RECAPITULATIF!D21","v":35}]
[]
[]
[]
[]
["Tél :",{"$f":"RECAPITULATIF!D19","v":{"v":299212886,"d":"02 99 21 28 86"}}]
["Mél :",null,{"$f":"RECAPITULATIF!C23","v":"sudsante@ch-stmalo.fr"}]
[{"$f":"RECAPITULATIF!B25","v":"Site Départemental Sud"},{"$nulls":4},{"$f":"RECAPITULATIF!D25","v":"http://www.sudsantesociaux35.org"}]

{"sheet":"ISG IS G3 Echelon 5","index":46,"n_rows":72,"n_cols":20,"rows_kept":72,"merged":[[1,6,1,16],[2,6,2,11],[2,12,2,16],[8,12,9,14],[12,12,12,14],[15,0,15,14],[17,0,17,16],[19,0,19,3],[21,0,21,14],[23,0,23,4],[23,5,23,8],[23,10,23,12],[23,13,23,16],[26,5,27,17],[32,0,32,4],[32,5,32,6],[32,7,32,10],[32,11,32,12],[35,0,35,2],[35,8,35,9],[35,17,39,19],[39,0,39,7],[39,8,39,9],[39,10,39,13],[40,17,41,17],[40,18,41,18],[40,19,41,19],[42,0,42,12],[42,17,43,17],[42,18,43,18],[42,19,43,19],[44,17,45,17],[44,18,45,18],[44,19,45,19],[45,2,45,3],[45,5,45,7],[46,17,47,17],[46,18,47,18],[46,19,47,19],[48,0,48,5],[48,6,48,8],[48,17,49,17],[48,18,49,18],[48,19,49,19],[50,17,51,17],[50,18,51,18],[50,19,51,19],[52,17,53,17],[52,18,53,18],[52,19,53,19],[53,0,53,7],[53,8,53,9],[53,10,53,14],[54,0,54,11],[54,12,54,13],[54,17,55,17],[54,18,55,18],[54,19,55,19],[56,17,57,17],[56,18,57,18],[56,19,57,19],[57,0,57,16],[58,17,59,17],[58,18,59,18],[58,19,59,19],[59,0,59,16],[60,17,61,17],[60,18,61,18],[60,19,61,19],[62,0,62,16],[64,0,64,3],[69,1,69,4],[70,0,70,1],[70,2,70,7],[71,0,71,4],[71,5,71,12]]}
[]
[{"$nulls":6},"Commission Administrative"]
[{"$nulls":6},"Paritaire",{"$nulls":5},{"$f":"RECAPITULATIF!D7","v":"Locale"}]
[]
[]
[]
[]
[]
[{"$nulls":12},"Mme, Mr :"]
[]
[{"$nulls":12},"Grade :"]
[]
[{"$nulls":12},"Service :"]
[]
[]
["Votre ou vos représentant-e-s du personnel"]
[]
[{"$f":"RECAPITULATIF!B5","v":"Madame FERET Isabelle, Madame Anne PICHON et Monsieur Patrick GAUTIER"}]
[]
["SUD Santé Sociaux",{"$nulls":3},{"$f":"RECAPITULATIF!D21","v":35},"du:"]
[]
[{"$f":"RECAPITULATIF!B2","v":"Centre Hospitalier de Saint Malo"}]
[]
["siégeant auprès de la CAP",{"$nulls":4},{"$f":"RECAPITULATIF!D7","v":"Locale"},{"$nulls":3},"du :",{"$f":"RECAPITULATIF!D11","v":"2019-04-16"},null,null,"vous informe de votre :"]
[]
[]
[{"$nulls":5},"AVANCEMENT D’ECHELON"]
[]
[]
[]
[]
[]
["Vous passez à l’échelon :",{"$nulls":4},{"$f":"'GRILLE ISG IS G3'!B17","v":5},null,"Indice Majoré :",{"$nulls":3},{"$f":"'GRILLE ISG IS G3'!D17","v":522}]
[]
[]
["Date d'effet :",{"$nulls":4},"/",null,"/",{"$f":"RECAPITULATIF!D9","v":2019},{"$nulls":8},{"$f":"'GRILLE ISG IS G3'!B2","v":"I.B.O.D.E.  /  Puéricultrice\net  I.A.D.E.\n\nGrade 3"}]
[]
[]
[]
["Ce qui représente un gain mensuel de :",{"$nulls":7},{"$f":"'GRILLE ISG IS G3'!D17-'GRILLE ISG IS G3'!D15","v":24},null,"points d'indice."]
[{"$nulls":17},{"$f":"'GRILLE ISG IS G3'!B7","v":"Echelon"},{"$f":"'GRILLE ISG IS G3'!C7","v":"Durée\n(en mois)"},{"$f":"'GRILLE ISG IS G3'!D7","v":"Indice Majoré"}]
[]
["Pour information, la valeur brute du point d'indice",{"$nulls":16},{"$f":"'GRILLE ISG IS G3'!B9","v":1},{"$f":"'GRILLE ISG IS G3'!C9","v":24},{"$f":"'GRILLE ISG IS G3'!D9","v":433}]
[]
[{"$nulls":17},{"$f":"'GRILLE ISG IS G3'!B11","v":2},{"$f":"'GRILLE ISG IS G3'!C11","v":24},{"$f":"'GRILLE ISG IS G3'!D11","v":452}]
["est de",null,{"$f":"RECAPITULATIF!D13","v":{"v":4.686,"d":"4.686 €"}},null,"au",{"$f":"RECAPITULATIF!D15","v":"2019-01-01"}]
[{"$nulls":17},{"$f":"'GRILLE ISG IS G3'!B13","v":3},{"$f":"'GRILLE ISG IS G3'!C13","v":24},{"$f":"'GRILLE ISG IS G3'!D13","v":473}]
[]
["Soit un gain net mensuel de :",{"$nulls":5},{"$f":"I40*C46*0.8315","v":{"v":93.513816,"d":"93.51 €"}},{"$nulls":10},{"$f":"'GRILLE ISG IS G3'!B15","v":4},{"$f":"'GRILLE ISG IS G3'!C15","v":24},{"$f":"'GRILLE ISG IS G3'!D15","v":498}]
[]
[{"$nulls":17},{"$f":"'GRILLE ISG IS G3'!B17","v":5},{"$f":"'GRILLE ISG IS G3'!C17","v":24},{"$f":"'GRILLE ISG IS G3'!D17","v":522}]
[]
[{"$nulls":17},{"$f":"'GRILLE ISG IS G3'!B19","v":6},{"$f":"'GRILLE ISG IS G3'!C19","v":42},{"$f":"'GRILLE ISG IS G3'!D19","v":546}]
["Vos représentant-e-s SUD Santé Sociaux ",{"$nulls":7},{"$f":"RECAPITULATIF!D21","v":35},null,"sont à votre disposition"]
["pour tous renseignements complémentaires au poste :",{"$nulls":11},{"$f":"RECAPITULATIF!D17","v":2886},{"$nulls":4},{"$f":"'GRILLE ISG IS G3'!B21","v":7},{"$f":"'GRILLE ISG IS G3'!C21","v":48},{"$f":"'GRILLE ISG IS G3'!D21","v":573}]
[]
[{"$nulls":17},{"$f":"'GRILLE ISG IS G3'!B23","v":8},{"$f":"'GRILLE ISG IS G3'!C23","v":48},{"$f":"'GRILLE ISG IS G3'!D23","v":598}]
[]
[{"$nulls":17},{"$f":"'GRILLE ISG IS G3'!B25","v":9},{"$f":"'GRILLE ISG IS G3'!C25","v":48},{"$f":"'GRILLE ISG IS G3'!D25","v":621}]
["Recevez toutes nos salutations."]
[{"$nulls":17},{"$f":"'GRILLE ISG IS G3'!B27","v":10},{"$f":"'GRILLE ISG IS G3'!C27","v":0},{"$f":"'GRILLE ISG IS G3'!D27","v":650}]
[]
[{"$f":"RECAPITULATIF!B5","v":"Madame FERET Isabelle, Madame Anne PICHON et Monsieur Patrick GAUTIER"}]
[]
["SUD Santé Sociaux",{"$nulls":3},{"$f":"RECAPITULATIF!D21","v":35}]
[]
[]
[]
[]
["Tél :",{"$f":"RECAPITULATIF!D19","v":{"v":299212886,"d":"02 99 21 28 86"}}]
["Mél :",null,{"$f":"RECAPITULATIF!C23","v":"sudsante@ch-stmalo.fr"}]
[{"$f":"RECAPITULATIF!B25","v":"Site Départemental Sud"},{"$nulls":4},{"$f":"RECAPITULATIF!D25","v":"http://www.sudsantesociaux35.org"}]

{"sheet":"ISG IS G3 Echelon 6","index":47,"n_rows":72,"n_cols":20,"rows_kept":72,"merged":[[1,6,1,16],[2,6,2,11],[2,12,2,16],[8,12,9,14],[12,12,12,14],[15,0,15,14],[17,0,17,16],[19,0,19,3],[21,0,21,14],[23,0,23,4],[23,5,23,8],[23,10,23,12],[23,13,23,16],[26,5,27,17],[32,0,32,4],[32,5,32,6],[32,7,32,10],[32,11,32,12],[35,0,35,2],[35,8,35,9],[35,17,39,19],[39,0,39,7],[39,8,39,9],[39,10,39,13],[40,17,41,17],[40,18,41,18],[40,19,41,19],[42,0,42,12],[42,17,43,17],[42,18,43,18],[42,19,43,19],[44,17,45,17],[44,18,45,18],[44,19,45,19],[45,2,45,3],[45,5,45,7],[46,17,47,17],[46,18,47,18],[46,19,47,19],[48,0,48,5],[48,6,48,8],[48,17,49,17],[48,18,49,18],[48,19,49,19],[50,17,51,17],[50,18,51,18],[50,19,51,19],[52,17,53,17],[52,18,53,18],[52,19,53,19],[53,0,53,7],[53,8,53,9],[53,10,53,14],[54,0,54,11],[54,12,54,13],[54,17,55,17],[54,18,55,18],[54,19,55,19],[56,17,57,17],[56,18,57,18],[56,19,57,19],[57,0,57,16],[58,17,59,17],[58,18,59,18],[58,19,59,19],[59,0,59,16],[60,17,61,17],[60,18,61,18],[60,19,61,19],[62,0,62,16],[64,0,64,3],[69,1,69,4],[70,0,70,1],[70,2,70,7],[71,0,71,4],[71,5,71,12]]}
[]
[{"$nulls":6},"Commission Administrative"]
[{"$nulls":6},"Paritaire",{"$nulls":5},{"$f":"RECAPITULATIF!D7","v":"Locale"}]
[]
[]
[]
[]
[]
[{"$nulls":12},"Mme, Mr :"]
[]
[{"$nulls":12},"Grade :"]
[]
[{"$nulls":12},"Service :"]
[]
[]
["Votre ou vos représentant-e-s du personnel"]
[]
[{"$f":"RECAPITULATIF!B5","v":"Madame FERET Isabelle, Madame Anne PICHON et Monsieur Patrick GAUTIER"}]
[]
["SUD Santé Sociaux",{"$nulls":3},{"$f":"RECAPITULATIF!D21","v":35},"du:"]
[]
[{"$f":"RECAPITULATIF!B2","v":"Centre Hospitalier de Saint Malo"}]
[]
["siégeant auprès de la CAP",{"$nulls":4},{"$f":"RECAPITULATIF!D7","v":"Locale"},{"$nulls":3},"du :",{"$f":"RECAPITULATIF!D11","v":"2019-04-16"},null,null,"vous informe de votre :"]
[]
[]
[{"$nulls":5},"AVANCEMENT D’ECHELON"]
[]
[]
[]
[]
[]
["Vous passez à l’échelon :",{"$nulls":4},{"$f":"'GRILLE ISG IS G3'!B19","v":6},null,"Indice Majoré :",{"$nulls":3},{"$f":"'GRILLE ISG IS G3'!D19","v":546}]
[]
[]
["Date d'effet :",{"$nulls":4},"/",null,"/",{"$f":"RECAPITULATIF!D9","v":2019},{"$nulls":8},{"$f":"'GRILLE ISG IS G3'!B2","v":"I.B.O.D.E.  /  Puéricultrice\net  I.A.D.E.\n\nGrade 3"}]
[]
[]
[]
["Ce qui représente un gain mensuel de :",{"$nulls":7},{"$f":"'GRILLE ISG IS G3'!D19-'GRILLE ISG IS G3'!D17","v":24},null,"points d'indice."]
[{"$nulls":17},{"$f":"'GRILLE ISG IS G3'!B7","v":"Echelon"},{"$f":"'GRILLE ISG IS G3'!C7","v":"Durée\n(en mois)"},{"$f":"'GRILLE ISG IS G3'!D7","v":"Indice Majoré"}]
[]
["Pour information, la valeur brute du point d'indice",{"$nulls":16},{"$f":"'GRILLE ISG IS G3'!B9","v":1},{"$f":"'GRILLE ISG IS G3'!C9","v":24},{"$f":"'GRILLE ISG IS G3'!D9","v":433}]
[]
[{"$nulls":17},{"$f":"'GRILLE ISG IS G3'!B11","v":2},{"$f":"'GRILLE ISG IS G3'!C11","v":24},{"$f":"'GRILLE ISG IS G3'!D11","v":452}]
["est de",null,{"$f":"RECAPITULATIF!D13","v":{"v":4.686,"d":"4.686 €"}},null,"au",{"$f":"RECAPITULATIF!D15","v":"2019-01-01"}]
[{"$nulls":17},{"$f":"'GRILLE ISG IS G3'!B13","v":3},{"$f":"'GRILLE ISG IS G3'!C13","v":24},{"$f":"'GRILLE ISG IS G3'!D13","v":473}]
[]
["Soit un gain net mensuel de :",{"$nulls":5},{"$f":"I40*C46*0.8315","v":{"v":93.513816,"d":"93.51 €"}},{"$nulls":10},{"$f":"'GRILLE ISG IS G3'!B15","v":4},{"$f":"'GRILLE ISG IS G3'!C15","v":24},{"$f":"'GRILLE ISG IS G3'!D15","v":498}]
[]
[{"$nulls":17},{"$f":"'GRILLE ISG IS G3'!B17","v":5},{"$f":"'GRILLE ISG IS G3'!C17","v":24},{"$f":"'GRILLE ISG IS G3'!D17","v":522}]
[]
[{"$nulls":17},{"$f":"'GRILLE ISG IS G3'!B19","v":6},{"$f":"'GRILLE ISG IS G3'!C19","v":42},{"$f":"'GRILLE ISG IS G3'!D19","v":546}]
["Vos représentant-e-s SUD Santé Sociaux ",{"$nulls":7},{"$f":"RECAPITULATIF!D21","v":35},null,"sont à votre disposition"]
["pour tous renseignements complémentaires au poste :",{"$nulls":11},{"$f":"RECAPITULATIF!D17","v":2886},{"$nulls":4},{"$f":"'GRILLE ISG IS G3'!B21","v":7},{"$f":"'GRILLE ISG IS G3'!C21","v":48},{"$f":"'GRILLE ISG IS G3'!D21","v":573}]
[]
[{"$nulls":17},{"$f":"'GRILLE ISG IS G3'!B23","v":8},{"$f":"'GRILLE ISG IS G3'!C23","v":48},{"$f":"'GRILLE ISG IS G3'!D23","v":598}]
[]
[{"$nulls":17},{"$f":"'GRILLE ISG IS G3'!B25","v":9},{"$f":"'GRILLE ISG IS G3'!C25","v":48},{"$f":"'GRILLE ISG IS G3'!D25","v":621}]
["Recevez toutes nos salutations."]
[{"$nulls":17},{"$f":"'GRILLE ISG IS G3'!B27","v":10},{"$f":"'GRILLE ISG IS G3'!C27","v":0},{"$f":"'GRILLE ISG IS G3'!D27","v":650}]
[]
[{"$f":"RECAPITULATIF!B5","v":"Madame FERET Isabelle, Madame Anne PICHON et Monsieur Patrick GAUTIER"}]
[]
["SUD Santé Sociaux",{"$nulls":3},{"$f":"RECAPITULATIF!D21","v":35}]
[]
[]
[]
[]
["Tél :",{"$f":"RECAPITULATIF!D19","v":{"v":299212886,"d":"02 99 21 28 86"}}]
["Mél :",null,{"$f":"RECAPITULATIF!C23","v":"sudsante@ch-stmalo.fr"}]
[{"$f":"RECAPITULATIF!B25","v":"Site Départemental Sud"},{"$nulls":4},{"$f":"RECAPITULATIF!D25","v":"http://www.sudsantesociaux35.org"}]

{"sheet":"ISG IS G3 Echelon 7","index":48,"n_rows":72,"n_cols":20,"rows_kept":72,"merged":[[1,6,1,16],[2,6,2,11],[2,12,2,16],[8,12,9,14],[12,12,12,14],[15,0,15,14],[17,0,17,16],[19,0,19,3],[21,0,21,14],[23,0,23,4],[23,5,23,8],[23,10,23,12],[23,13,23,16],[26,5,27,17],[32,0,32,4],[32,5,32,6],[32,7,32,10],[32,11,32,12],[35,0,35,2],[35,8,35,9],[35,17,39,19],[39,0,39,7],[39,8,39,9],[39,10,39,13],[40,17,41,17],[40,18,41,18],[40,19,41,19],[42,0,42,12],[42,17,43,17],[42,18,43,18],[42,19,43,19],[44,17,45,17],[44,18,45,18],[44,19,45,19],[45,2,45,3],[45,5,45,7],[46,17,47,17],[46,18,47,18],[46,19,47,19],[48,0,48,5],[48,6,48,8],[48,17,49,17],[48,18,49,18],[48,19,49,19],[50,17,51,17],[50,18,51,18],[50,19,51,19],[52,17,53,17],[52,18,53,18],[52,19,53,19],[53,0,53,7],[53,8,53,9],[53,10,53,14],[54,0,54,11],[54,12,54,13],[54,17,55,17],[54,18,55,18],[54,19,55,19],[56,17,57,17],[56,18,57,18],[56,19,57,19],[57,0,57,16],[58,17,59,17],[58,18,59,18],[58,19,59,19],[59,0,59,16],[60,17,61,17],[60,18,61,18],[60,19,61,19],[62,0,62,16],[64,0,64,3],[69,1,69,4],[70,0,70,1],[70,2,70,7],[71,0,71,4],[71,5,71,12]]}
[]
[{"$nulls":6},"Commission Administrative"]
[{"$nulls":6},"Paritaire",{"$nulls":5},{"$f":"RECAPITULATIF!D7","v":"Locale"}]
[]
[]
[]
[]
[]
[{"$nulls":12},"Mme, Mr :"]
[]
[{"$nulls":12},"Grade :"]
[]
[{"$nulls":12},"Service :"]
[]
[]
["Votre ou vos représentant-e-s du personnel"]
[]
[{"$f":"RECAPITULATIF!B5","v":"Madame FERET Isabelle, Madame Anne PICHON et Monsieur Patrick GAUTIER"}]
[]
["SUD Santé Sociaux",{"$nulls":3},{"$f":"RECAPITULATIF!D21","v":35},"du:"]
[]
[{"$f":"RECAPITULATIF!B2","v":"Centre Hospitalier de Saint Malo"}]
[]
["siégeant auprès de la CAP",{"$nulls":4},{"$f":"RECAPITULATIF!D7","v":"Locale"},{"$nulls":3},"du :",{"$f":"RECAPITULATIF!D11","v":"2019-04-16"},null,null,"vous informe de votre :"]
[]
[]
[{"$nulls":5},"AVANCEMENT D’ECHELON"]
[]
[]
[]
[]
[]
["Vous passez à l’échelon :",{"$nulls":4},{"$f":"'GRILLE ISG IS G3'!B21","v":7},null,"Indice Majoré :",{"$nulls":3},{"$f":"'GRILLE ISG IS G3'!D21","v":573}]
[]
[]
["Date d'effet :",{"$nulls":4},"/",null,"/",{"$f":"RECAPITULATIF!D9","v":2019},{"$nulls":8},{"$f":"'GRILLE ISG IS G3'!B2","v":"I.B.O.D.E.  /  Puéricultrice\net  I.A.D.E.\n\nGrade 3"}]
[]
[]
[]
["Ce qui représente un gain mensuel de :",{"$nulls":7},{"$f":"'GRILLE ISG IS G3'!D21-'GRILLE ISG IS G3'!D19","v":27},null,"points d'indice."]
[{"$nulls":17},{"$f":"'GRILLE ISG IS G3'!B7","v":"Echelon"},{"$f":"'GRILLE ISG IS G3'!C7","v":"Durée\n(en mois)"},{"$f":"'GRILLE ISG IS G3'!D7","v":"Indice Majoré"}]
[]
["Pour information, la valeur brute du point d'indice",{"$nulls":16},{"$f":"'GRILLE ISG IS G3'!B9","v":1},{"$f":"'GRILLE ISG IS G3'!C9","v":24},{"$f":"'GRILLE ISG IS G3'!D9","v":433}]
[]
[{"$nulls":17},{"$f":"'GRILLE ISG IS G3'!B11","v":2},{"$f":"'GRILLE ISG IS G3'!C11","v":24},{"$f":"'GRILLE ISG IS G3'!D11","v":452}]
["est de",null,{"$f":"RECAPITULATIF!D13","v":{"v":4.686,"d":"4.686 €"}},null,"au",{"$f":"RECAPITULATIF!D15","v":"2019-01-01"}]
[{"$nulls":17},{"$f":"'GRILLE ISG IS G3'!B13","v":3},{"$f":"'GRILLE ISG IS G3'!C13","v":24},{"$f":"'GRILLE ISG IS G3'!D13","v":473}]
[]
["Soit un gain net mensuel de :",{"$nulls":5},{"$f":"I40*C46*0.8315","v":{"v":105.203043,"d":"105.20 €"}},{"$nulls":10},{"$f":"'GRILLE ISG IS G3'!B15","v":4},{"$f":"'GRILLE ISG IS G3'!C15","v":24},{"$f":"'GRILLE ISG IS G3'!D15","v":498}]
[]
[{"$nulls":17},{"$f":"'GRILLE ISG IS G3'!B17","v":5},{"$f":"'GRILLE ISG IS G3'!C17","v":24},{"$f":"'GRILLE ISG IS G3'!D17","v":522}]
[]
[{"$nulls":17},{"$f":"'GRILLE ISG IS G3'!B19","v":6},{"$f":"'GRILLE ISG IS G3'!C19","v":42},{"$f":"'GRILLE ISG IS G3'!D19","v":546}]
["Vos représentant-e-s SUD Santé Sociaux ",{"$nulls":7},{"$f":"RECAPITULATIF!D21","v":35},null,"sont à votre disposition"]
["pour tous renseignements complémentaires au poste :",{"$nulls":11},{"$f":"RECAPITULATIF!D17","v":2886},{"$nulls":4},{"$f":"'GRILLE ISG IS G3'!B21","v":7},{"$f":"'GRILLE ISG IS G3'!C21","v":48},{"$f":"'GRILLE ISG IS G3'!D21","v":573}]
[]
[{"$nulls":17},{"$f":"'GRILLE ISG IS G3'!B23","v":8},{"$f":"'GRILLE ISG IS G3'!C23","v":48},{"$f":"'GRILLE ISG IS G3'!D23","v":598}]
[]
[{"$nulls":17},{"$f":"'GRILLE ISG IS G3'!B25","v":9},{"$f":"'GRILLE ISG IS G3'!C25","v":48},{"$f":"'GRILLE ISG IS G3'!D25","v":621}]
["Recevez toutes nos salutations."]
[{"$nulls":17},{"$f":"'GRILLE ISG IS G3'!B27","v":10},{"$f":"'GRILLE ISG IS G3'!C27","v":0},{"$f":"'GRILLE ISG IS G3'!D27","v":650}]
[]
[{"$f":"RECAPITULATIF!B5","v":"Madame FERET Isabelle, Madame Anne PICHON et Monsieur Patrick GAUTIER"}]
[]
["SUD Santé Sociaux",{"$nulls":3},{"$f":"RECAPITULATIF!D21","v":35}]
[]
[]
[]
[]
["Tél :",{"$f":"RECAPITULATIF!D19","v":{"v":299212886,"d":"02 99 21 28 86"}}]
["Mél :",null,{"$f":"RECAPITULATIF!C23","v":"sudsante@ch-stmalo.fr"}]
[{"$f":"RECAPITULATIF!B25","v":"Site Départemental Sud"},{"$nulls":4},{"$f":"RECAPITULATIF!D25","v":"http://www.sudsantesociaux35.org"}]

{"sheet":"ISG IS G3 Echelon 8","index":49,"n_rows":72,"n_cols":20,"rows_kept":72,"merged":[[1,6,1,16],[2,6,2,11],[2,12,2,16],[8,12,9,14],[12,12,12,14],[15,0,15,14],[17,0,17,16],[19,0,19,3],[21,0,21,14],[23,0,23,4],[23,5,23,8],[23,10,23,12],[23,13,23,16],[26,5,27,17],[32,0,32,4],[32,5,32,6],[32,7,32,10],[32,11,32,12],[35,0,35,2],[35,8,35,9],[35,17,39,19],[39,0,39,7],[39,8,39,9],[39,10,39,13],[40,17,41,17],[40,18,41,18],[40,19,41,19],[42,0,42,12],[42,17,43,17],[42,18,43,18],[42,19,43,19],[44,17,45,17],[44,18,45,18],[44,19,45,19],[45,2,45,3],[45,5,45,7],[46,17,47,17],[46,18,47,18],[46,19,47,19],[48,0,48,5],[48,6,48,8],[48,17,49,17],[48,18,49,18],[48,19,49,19],[50,17,51,17],[50,18,51,18],[50,19,51,19],[52,17,53,17],[52,18,53,18],[52,19,53,19],[53,0,53,7],[53,8,53,9],[53,10,53,14],[54,0,54,11],[54,12,54,13],[54,17,55,17],[54,18,55,18],[54,19,55,19],[56,17,57,17],[56,18,57,18],[56,19,57,19],[57,0,57,16],[58,17,59,17],[58,18,59,18],[58,19,59,19],[59,0,59,16],[60,17,61,17],[60,18,61,18],[60,19,61,19],[62,0,62,16],[64,0,64,3],[69,1,69,4],[70,0,70,1],[70,2,70,7],[71,0,71,4],[71,5,71,12]]}
[]
[{"$nulls":6},"Commission Administrative"]
[{"$nulls":6},"Paritaire",{"$nulls":5},{"$f":"RECAPITULATIF!D7","v":"Locale"}]
[]
[]
[]
[]
[]
[{"$nulls":12},"Mme, Mr :"]
[]
[{"$nulls":12},"Grade :"]
[]
[{"$nulls":12},"Service :"]
[]
[]
["Votre ou vos représentant-e-s du personnel"]
[]
[{"$f":"RECAPITULATIF!B5","v":"Madame FERET Isabelle, Madame Anne PICHON et Monsieur Patrick GAUTIER"}]
[]
["SUD Santé Sociaux",{"$nulls":3},{"$f":"RECAPITULATIF!D21","v":35},"du:"]
[]
[{"$f":"RECAPITULATIF!B2","v":"Centre Hospitalier de Saint Malo"}]
[]
["siégeant auprès de la CAP",{"$nulls":4},{"$f":"RECAPITULATIF!D7","v":"Locale"},{"$nulls":3},"du :",{"$f":"RECAPITULATIF!D11","v":"2019-04-16"},null,null,"vous informe de votre :"]
[]
[]
[{"$nulls":5},"AVANCEMENT D’ECHELON"]
[]
[]
[]
[]
[]
["Vous passez à l’échelon :",{"$nulls":4},{"$f":"'GRILLE ISG IS G3'!B23","v":8},null,"Indice Majoré :",{"$nulls":3},{"$f":"'GRILLE ISG IS G3'!D23","v":598}]
[]
[]
["Date d'effet :",{"$nulls":4},"/",null,"/",{"$f":"RECAPITULATIF!D9","v":2019},{"$nulls":8},{"$f":"'GRILLE ISG IS G3'!B2","v":"I.B.O.D.E.  /  Puéricultrice\net  I.A.D.E.\n\nGrade 3"}]
[]
[]
[]
["Ce qui représente un gain mensuel de :",{"$nulls":7},{"$f":"'GRILLE ISG IS G3'!D23-'GRILLE ISG IS G3'!D21","v":25},null,"points d'indice."]
[{"$nulls":17},{"$f":"'GRILLE ISG IS G3'!B7","v":"Echelon"},{"$f":"'GRILLE ISG IS G3'!C7","v":"Durée\n(en mois)"},{"$f":"'GRILLE ISG IS G3'!D7","v":"Indice Majoré"}]
[]
["Pour information, la valeur brute du point d'indice",{"$nulls":16},{"$f":"'GRILLE ISG IS G3'!B9","v":1},{"$f":"'GRILLE ISG IS G3'!C9","v":24},{"$f":"'GRILLE ISG IS G3'!D9","v":433}]
[]
[{"$nulls":17},{"$f":"'GRILLE ISG IS G3'!B11","v":2},{"$f":"'GRILLE ISG IS G3'!C11","v":24},{"$f":"'GRILLE ISG IS G3'!D11","v":452}]
["est de",null,{"$f":"RECAPITULATIF!D13","v":{"v":4.686,"d":"4.686 €"}},null,"au",{"$f":"RECAPITULATIF!D15","v":"2019-01-01"}]
[{"$nulls":17},{"$f":"'GRILLE ISG IS G3'!B13","v":3},{"$f":"'GRILLE ISG IS G3'!C13","v":24},{"$f":"'GRILLE ISG IS G3'!D13","v":473}]
[]
["Soit un gain net mensuel de :",{"$nulls":5},{"$f":"I40*C46*0.8315","v":{"v":97.41022500000001,"d":"97.41 €"}},{"$nulls":10},{"$f":"'GRILLE ISG IS G3'!B15","v":4},{"$f":"'GRILLE ISG IS G3'!C15","v":24},{"$f":"'GRILLE ISG IS G3'!D15","v":498}]
[]
[{"$nulls":17},{"$f":"'GRILLE ISG IS G3'!B17","v":5},{"$f":"'GRILLE ISG IS G3'!C17","v":24},{"$f":"'GRILLE ISG IS G3'!D17","v":522}]
[]
[{"$nulls":17},{"$f":"'GRILLE ISG IS G3'!B19","v":6},{"$f":"'GRILLE ISG IS G3'!C19","v":42},{"$f":"'GRILLE ISG IS G3'!D19","v":546}]
["Vos représentant-e-s SUD Santé Sociaux ",{"$nulls":7},{"$f":"RECAPITULATIF!D21","v":35},null,"sont à votre disposition"]
["pour tous renseignements complémentaires au poste :",{"$nulls":11},{"$f":"RECAPITULATIF!D17","v":2886},{"$nulls":4},{"$f":"'GRILLE ISG IS G3'!B21","v":7},{"$f":"'GRILLE ISG IS G3'!C21","v":48},{"$f":"'GRILLE ISG IS G3'!D21","v":573}]
[]
[{"$nulls":17},{"$f":"'GRILLE ISG IS G3'!B23","v":8},{"$f":"'GRILLE ISG IS G3'!C23","v":48},{"$f":"'GRILLE ISG IS G3'!D23","v":598}]
[]
[{"$nulls":17},{"$f":"'GRILLE ISG IS G3'!B25","v":9},{"$f":"'GRILLE ISG IS G3'!C25","v":48},{"$f":"'GRILLE ISG IS G3'!D25","v":621}]
["Recevez toutes nos salutations."]
[{"$nulls":17},{"$f":"'GRILLE ISG IS G3'!B27","v":10},{"$f":"'GRILLE ISG IS G3'!C27","v":0},{"$f":"'GRILLE ISG IS G3'!D27","v":650}]
[]
[{"$f":"RECAPITULATIF!B5","v":"Madame FERET Isabelle, Madame Anne PICHON et Monsieur Patrick GAUTIER"}]
[]
["SUD Santé Sociaux",{"$nulls":3},{"$f":"RECAPITULATIF!D21","v":35}]
[]
[]
[]
[]
["Tél :",{"$f":"RECAPITULATIF!D19","v":{"v":299212886,"d":"02 99 21 28 86"}}]
["Mél :",null,{"$f":"RECAPITULATIF!C23","v":"sudsante@ch-stmalo.fr"}]
[{"$f":"RECAPITULATIF!B25","v":"Site Départemental Sud"},{"$nulls":4},{"$f":"RECAPITULATIF!D25","v":"http://www.sudsantesociaux35.org"}]

{"sheet":"ISG IS G3 Echelon 9","index":50,"n_rows":72,"n_cols":20,"rows_kept":72,"merged":[[1,6,1,16],[2,6,2,11],[2,12,2,16],[8,12,9,14],[12,12,12,14],[15,0,15,14],[17,0,17,16],[19,0,19,3],[21,0,21,14],[23,0,23,4],[23,5,23,8],[23,10,23,12],[23,13,23,16],[26,5,27,17],[32,0,32,4],[32,5,32,6],[32,7,32,10],[32,11,32,12],[35,0,35,2],[35,8,35,9],[35,17,39,19],[39,0,39,7],[39,8,39,9],[39,10,39,13],[40,17,41,17],[40,18,41,18],[40,19,41,19],[42,0,42,12],[42,17,43,17],[42,18,43,18],[42,19,43,19],[44,17,45,17],[44,18,45,18],[44,19,45,19],[45,2,45,3],[45,5,45,7],[46,17,47,17],[46,18,47,18],[46,19,47,19],[48,0,48,5],[48,6,48,8],[48,17,49,17],[48,18,49,18],[48,19,49,19],[50,17,51,17],[50,18,51,18],[50,19,51,19],[52,17,53,17],[52,18,53,18],[52,19,53,19],[53,0,53,7],[53,8,53,9],[53,10,53,14],[54,0,54,11],[54,12,54,13],[54,17,55,17],[54,18,55,18],[54,19,55,19],[56,17,57,17],[56,18,57,18],[56,19,57,19],[57,0,57,16],[58,17,59,17],[58,18,59,18],[58,19,59,19],[59,0,59,16],[60,17,61,17],[60,18,61,18],[60,19,61,19],[62,0,62,16],[64,0,64,3],[69,1,69,4],[70,0,70,1],[70,2,70,7],[71,0,71,4],[71,5,71,12]]}
[]
[{"$nulls":6},"Commission Administrative"]
[{"$nulls":6},"Paritaire",{"$nulls":5},{"$f":"RECAPITULATIF!D7","v":"Locale"}]
[]
[]
[]
[]
[]
[{"$nulls":12},"Mme, Mr :"]
[]
[{"$nulls":12},"Grade :"]
[]
[{"$nulls":12},"Service :"]
[]
[]
["Votre ou vos représentant-e-s du personnel"]
[]
[{"$f":"RECAPITULATIF!B5","v":"Madame FERET Isabelle, Madame Anne PICHON et Monsieur Patrick GAUTIER"}]
[]
["SUD Santé Sociaux",{"$nulls":3},{"$f":"RECAPITULATIF!D21","v":35},"du:"]
[]
[{"$f":"RECAPITULATIF!B2","v":"Centre Hospitalier de Saint Malo"}]
[]
["siégeant auprès de la CAP",{"$nulls":4},{"$f":"RECAPITULATIF!D7","v":"Locale"},{"$nulls":3},"du :",{"$f":"RECAPITULATIF!D11","v":"2019-04-16"},null,null,"vous informe de votre :"]
[]
[]
[{"$nulls":5},"AVANCEMENT D’ECHELON"]
[]
[]
[]
[]
[]
["Vous passez à l’échelon :",{"$nulls":4},{"$f":"'GRILLE ISG IS G3'!B25","v":9},null,"Indice Majoré :",{"$nulls":3},{"$f":"'GRILLE ISG IS G3'!D25","v":621}]
[]
[]
["Date d'effet :",{"$nulls":4},"/",null,"/",{"$f":"RECAPITULATIF!D9","v":2019},{"$nulls":8},{"$f":"'GRILLE ISG IS G3'!B2","v":"I.B.O.D.E.  /  Puéricultrice\net  I.A.D.E.\n\nGrade 3"}]
[]
[]
[]
["Ce qui représente un gain mensuel de :",{"$nulls":7},{"$f":"'GRILLE ISG IS G3'!D25-'GRILLE ISG IS G3'!D23","v":23},null,"points d'indice."]
[{"$nulls":17},{"$f":"'GRILLE ISG IS G3'!B7","v":"Echelon"},{"$f":"'GRILLE ISG IS G3'!C7","v":"Durée\n(en mois)"},{"$f":"'GRILLE ISG IS G3'!D7","v":"Indice Majoré"}]
[]
["Pour information, la valeur brute du point d'indice",{"$nulls":16},{"$f":"'GRILLE ISG IS G3'!B9","v":1},{"$f":"'GRILLE ISG IS G3'!C9","v":24},{"$f":"'GRILLE ISG IS G3'!D9","v":433}]
[]
[{"$nulls":17},{"$f":"'GRILLE ISG IS G3'!B11","v":2},{"$f":"'GRILLE ISG IS G3'!C11","v":24},{"$f":"'GRILLE ISG IS G3'!D11","v":452}]
["est de",null,{"$f":"RECAPITULATIF!D13","v":{"v":4.686,"d":"4.686 €"}},null,"au",{"$f":"RECAPITULATIF!D15","v":"2019-01-01"}]
[{"$nulls":17},{"$f":"'GRILLE ISG IS G3'!B13","v":3},{"$f":"'GRILLE ISG IS G3'!C13","v":24},{"$f":"'GRILLE ISG IS G3'!D13","v":473}]
[]
["Soit un gain net mensuel de :",{"$nulls":5},{"$f":"I40*C46*0.8315","v":{"v":89.617407,"d":"89.62 €"}},{"$nulls":10},{"$f":"'GRILLE ISG IS G3'!B15","v":4},{"$f":"'GRILLE ISG IS G3'!C15","v":24},{"$f":"'GRILLE ISG IS G3'!D15","v":498}]
[]
[{"$nulls":17},{"$f":"'GRILLE ISG IS G3'!B17","v":5},{"$f":"'GRILLE ISG IS G3'!C17","v":24},{"$f":"'GRILLE ISG IS G3'!D17","v":522}]
[]
[{"$nulls":17},{"$f":"'GRILLE ISG IS G3'!B19","v":6},{"$f":"'GRILLE ISG IS G3'!C19","v":42},{"$f":"'GRILLE ISG IS G3'!D19","v":546}]
["Vos représentant-e-s SUD Santé Sociaux ",{"$nulls":7},{"$f":"RECAPITULATIF!D21","v":35},null,"sont à votre disposition"]
["pour tous renseignements complémentaires au poste :",{"$nulls":11},{"$f":"RECAPITULATIF!D17","v":2886},{"$nulls":4},{"$f":"'GRILLE ISG IS G3'!B21","v":7},{"$f":"'GRILLE ISG IS G3'!C21","v":48},{"$f":"'GRILLE ISG IS G3'!D21","v":573}]
[]
[{"$nulls":17},{"$f":"'GRILLE ISG IS G3'!B23","v":8},{"$f":"'GRILLE ISG IS G3'!C23","v":48},{"$f":"'GRILLE ISG IS G3'!D23","v":598}]
[]
[{"$nulls":17},{"$f":"'GRILLE ISG IS G3'!B25","v":9},{"$f":"'GRILLE ISG IS G3'!C25","v":48},{"$f":"'GRILLE ISG IS G3'!D25","v":621}]
["Recevez toutes nos salutations."]
[{"$nulls":17},{"$f":"'GRILLE ISG IS G3'!B27","v":10},{"$f":"'GRILLE ISG IS G3'!C27","v":0},{"$f":"'GRILLE ISG IS G3'!D27","v":650}]
[]
[{"$f":"RECAPITULATIF!B5","v":"Madame FERET Isabelle, Madame Anne PICHON et Monsieur Patrick GAUTIER"}]
[]
["SUD Santé Sociaux",{"$nulls":3},{"$f":"RECAPITULATIF!D21","v":35}]
[]
[]
[]
[]
["Tél :",{"$f":"RECAPITULATIF!D19","v":{"v":299212886,"d":"02 99 21 28 86"}}]
["Mél :",null,{"$f":"RECAPITULATIF!C23","v":"sudsante@ch-stmalo.fr"}]
[{"$f":"RECAPITULATIF!B25","v":"Site Départemental Sud"},{"$nulls":4},{"$f":"RECAPITULATIF!D25","v":"http://www.sudsantesociaux35.org"}]

{"sheet":"ISG IS G3 Echelon 10","index":51,"n_rows":72,"n_cols":20,"rows_kept":72,"merged":[[1,6,1,16],[2,6,2,11],[2,12,2,16],[8,12,9,14],[12,12,12,14],[15,0,15,14],[17,0,17,16],[19,0,19,3],[21,0,21,14],[23,0,23,4],[23,5,23,8],[23,10,23,12],[23,13,23,16],[26,5,27,17],[32,0,32,4],[32,5,32,6],[32,7,32,10],[32,11,32,12],[35,0,35,2],[35,8,35,9],[35,17,39,19],[39,0,39,7],[39,8,39,9],[39,10,39,13],[40,17,41,17],[40,18,41,18],[40,19,41,19],[42,0,42,12],[42,17,43,17],[42,18,43,18],[42,19,43,19],[44,17,45,17],[44,18,45,18],[44,19,45,19],[45,2,45,3],[45,5,45,7],[46,17,47,17],[46,18,47,18],[46,19,47,19],[48,0,48,5],[48,6,48,8],[48,17,49,17],[48,18,49,18],[48,19,49,19],[50,17,51,17],[50,18,51,18],[50,19,51,19],[52,17,53,17],[52,18,53,18],[52,19,53,19],[53,0,53,7],[53,8,53,9],[53,10,53,14],[54,0,54,11],[54,12,54,13],[54,17,55,17],[54,18,55,18],[54,19,55,19],[56,17,57,17],[56,18,57,18],[56,19,57,19],[57,0,57,16],[58,17,59,17],[58,18,59,18],[58,19,59,19],[59,0,59,16],[60,17,61,17],[60,18,61,18],[60,19,61,19],[62,0,62,16],[64,0,64,3],[69,1,69,4],[70,0,70,1],[70,2,70,7],[71,0,71,4],[71,5,71,12]]}
[]
[{"$nulls":6},"Commission Administrative"]
[{"$nulls":6},"Paritaire",{"$nulls":5},{"$f":"RECAPITULATIF!D7","v":"Locale"}]
[]
[]
[]
[]
[]
[{"$nulls":12},"Mme, Mr :"]
[]
[{"$nulls":12},"Grade :"]
[]
[{"$nulls":12},"Service :"]
[]
[]
["Votre ou vos représentant-e-s du personnel"]
[]
[{"$f":"RECAPITULATIF!B5","v":"Madame FERET Isabelle, Madame Anne PICHON et Monsieur Patrick GAUTIER"}]
[]
["SUD Santé Sociaux",{"$nulls":3},{"$f":"RECAPITULATIF!D21","v":35},"du:"]
[]
[{"$f":"RECAPITULATIF!B2","v":"Centre Hospitalier de Saint Malo"}]
[]
["siégeant auprès de la CAP",{"$nulls":4},{"$f":"RECAPITULATIF!D7","v":"Locale"},{"$nulls":3},"du :",{"$f":"RECAPITULATIF!D11","v":"2019-04-16"},null,null,"vous informe de votre :"]
[]
[]
[{"$nulls":5},"AVANCEMENT D’ECHELON"]
[]
[]
[]
[]
[]
["Vous passez à l’échelon :",{"$nulls":4},{"$f":"'GRILLE ISG IS G3'!B27","v":10},null,"Indice Majoré :",{"$nulls":3},{"$f":"'GRILLE ISG IS G3'!D27","v":650}]
[]
[]
["Date d'effet :",{"$nulls":4},"/",null,"/",{"$f":"RECAPITULATIF!D9","v":2019},{"$nulls":8},{"$f":"'GRILLE ISG IS G3'!B2","v":"I.B.O.D.E.  /  Puéricultrice\net  I.A.D.E.\n\nGrade 3"}]
[]
[]
[]
["Ce qui représente un gain mensuel de :",{"$nulls":7},{"$f":"'GRILLE ISG IS G3'!D27-'GRILLE ISG IS G3'!D25","v":29},null,"points d'indice."]
[{"$nulls":17},{"$f":"'GRILLE ISG IS G3'!B7","v":"Echelon"},{"$f":"'GRILLE ISG IS G3'!C7","v":"Durée\n(en mois)"},{"$f":"'GRILLE ISG IS G3'!D7","v":"Indice Majoré"}]
[]
["Pour information, la valeur brute du point d'indice",{"$nulls":16},{"$f":"'GRILLE ISG IS G3'!B9","v":1},{"$f":"'GRILLE ISG IS G3'!C9","v":24},{"$f":"'GRILLE ISG IS G3'!D9","v":433}]
[]
[{"$nulls":17},{"$f":"'GRILLE ISG IS G3'!B11","v":2},{"$f":"'GRILLE ISG IS G3'!C11","v":24},{"$f":"'GRILLE ISG IS G3'!D11","v":452}]
["est de",null,{"$f":"RECAPITULATIF!D13","v":{"v":4.686,"d":"4.686 €"}},null,"au",{"$f":"RECAPITULATIF!D15","v":"2019-01-01"}]
[{"$nulls":17},{"$f":"'GRILLE ISG IS G3'!B13","v":3},{"$f":"'GRILLE ISG IS G3'!C13","v":24},{"$f":"'GRILLE ISG IS G3'!D13","v":473}]
[]
["Soit un gain net mensuel de :",{"$nulls":5},{"$f":"I40*C46*0.8315","v":{"v":112.995861,"d":"113.00 €"}},{"$nulls":10},{"$f":"'GRILLE ISG IS G3'!B15","v":4},{"$f":"'GRILLE ISG IS G3'!C15","v":24},{"$f":"'GRILLE ISG IS G3'!D15","v":498}]
[]
[{"$nulls":17},{"$f":"'GRILLE ISG IS G3'!B17","v":5},{"$f":"'GRILLE ISG IS G3'!C17","v":24},{"$f":"'GRILLE ISG IS G3'!D17","v":522}]
[]
[{"$nulls":17},{"$f":"'GRILLE ISG IS G3'!B19","v":6},{"$f":"'GRILLE ISG IS G3'!C19","v":42},{"$f":"'GRILLE ISG IS G3'!D19","v":546}]
["Vos représentant-e-s SUD Santé Sociaux ",{"$nulls":7},{"$f":"RECAPITULATIF!D21","v":35},null,"sont à votre disposition"]
["pour tous renseignements complémentaires au poste :",{"$nulls":11},{"$f":"RECAPITULATIF!D17","v":2886},{"$nulls":4},{"$f":"'GRILLE ISG IS G3'!B21","v":7},{"$f":"'GRILLE ISG IS G3'!C21","v":48},{"$f":"'GRILLE ISG IS G3'!D21","v":573}]
[]
[{"$nulls":17},{"$f":"'GRILLE ISG IS G3'!B23","v":8},{"$f":"'GRILLE ISG IS G3'!C23","v":48},{"$f":"'GRILLE ISG IS G3'!D23","v":598}]
[]
[{"$nulls":17},{"$f":"'GRILLE ISG IS G3'!B25","v":9},{"$f":"'GRILLE ISG IS G3'!C25","v":48},{"$f":"'GRILLE ISG IS G3'!D25","v":621}]
["Recevez toutes nos salutations."]
[{"$nulls":17},{"$f":"'GRILLE ISG IS G3'!B27","v":10},{"$f":"'GRILLE ISG IS G3'!C27","v":0},{"$f":"'GRILLE ISG IS G3'!D27","v":650}]
[]
[{"$f":"RECAPITULATIF!B5","v":"Madame FERET Isabelle, Madame Anne PICHON et Monsieur Patrick GAUTIER"}]
[]
["SUD Santé Sociaux",{"$nulls":3},{"$f":"RECAPITULATIF!D21","v":35}]
[]
[]
[]
[]
["Tél :",{"$f":"RECAPITULATIF!D19","v":{"v":299212886,"d":"02 99 21 28 86"}}]
["Mél :",null,{"$f":"RECAPITULATIF!C23","v":"sudsante@ch-stmalo.fr"}]
[{"$f":"RECAPITULATIF!B25","v":"Site Départemental Sud"},{"$nulls":4},{"$f":"RECAPITULATIF!D25","v":"http://www.sudsantesociaux35.org"}]

{"sheet":"GRILLE IADE G1","index":52,"n_rows":27,"n_cols":4,"rows_kept":27,"merged":[[1,1,5,3],[6,1,7,1],[6,2,7,2],[6,3,7,3],[8,1,9,1],[8,2,9,2],[8,3,9,3],[10,1,11,1],[10,2,11,2],[10,3,11,3],[12,1,13,1],[12,2,13,2],[12,3,13,3],[14,1,15,1],[14,2,15,2],[14,3,15,3],[16,1,17,1],[16,2,17,2],[16,3,17,3],[18,1,19,1],[18,2,19,2],[18,3,19,3],[20,1,21,1],[20,2,21,2],[20,3,21,3],[22,1,23,1],[22,2,23,2],[22,3,23,3],[24,1,25,1],[24,2,25,2],[24,3,25,3],[26,1,27,1],[26,2,27,2],[26,3,27,3]]}
[]
[null,"I.A.D.E.\n\n1er Grade"]
[]
[]
[]
[]
[null,"Echelon","Durée\n(en mois)","Indice Majoré"]
[]
[null,1,24,433]
[]
[null,2,24,452]
[]
[null,3,24,473]
[]
[null,4,24,498]
[]
[null,5,24,522]
[]
[null,6,42,546]
[]
[null,7,48,573]
[]
[null,8,48,598]
[]
[null,9,48,621]
[]
[null,10,null,650]

{"sheet":"IMP GRILLE IADE G1","index":53,"n_rows":6,"n_cols":2,"rows_kept":6,"merged":[[1,1,1,9],[3,1,3,9],[5,1,5,9]]}
[]
[null,"1) Imprimez autant de feuilles que d'agents concernés."]
[]
[null,"2) Pliez en 3 au niveau du repère, deux petits traits noirs."]
[]
[null,"3) Inserrez ce courrier dans une enveloppe 110 X 220 à fenêtre."]

{"sheet":"IADE G1 Echelon 2","index":54,"n_rows":72,"n_cols":20,"rows_kept":72,"merged":[[1,6,1,16],[2,6,2,11],[2,12,2,16],[8,12,9,14],[12,12,12,14],[15,0,15,14],[17,0,17,16],[19,0,19,3],[21,0,21,14],[23,0,23,4],[23,5,23,8],[23,10,23,12],[23,13,23,16],[26,5,27,17],[32,0,32,4],[32,5,32,6],[32,7,32,10],[32,11,32,12],[35,0,35,2],[35,8,35,9],[35,17,39,19],[39,0,39,7],[39,8,39,9],[39,10,39,13],[40,17,41,17],[40,18,41,18],[40,19,41,19],[42,0,42,12],[42,17,43,17],[42,18,43,18],[42,19,43,19],[44,17,45,17],[44,18,45,18],[44,19,45,19],[45,2,45,3],[45,5,45,7],[46,17,47,17],[46,18,47,18],[46,19,47,19],[48,0,48,5],[48,6,48,8],[48,17,49,17],[48,18,49,18],[48,19,49,19],[50,17,51,17],[50,18,51,18],[50,19,51,19],[52,17,53,17],[52,18,53,18],[52,19,53,19],[53,0,53,7],[53,8,53,9],[53,10,53,14],[54,0,54,11],[54,12,54,13],[54,17,55,17],[54,18,55,18],[54,19,55,19],[56,17,57,17],[56,18,57,18],[56,19,57,19],[57,0,57,16],[58,17,59,17],[58,18,59,18],[58,19,59,19],[59,0,59,16],[60,17,61,17],[60,18,61,18],[60,19,61,19],[62,0,62,16],[64,0,64,3],[69,1,69,4],[70,0,70,1],[70,2,70,7],[71,0,71,4],[71,5,71,12]]}
[]
[{"$nulls":6},"Commission Administrative"]
[{"$nulls":6},"Paritaire",{"$nulls":5},{"$f":"RECAPITULATIF!D7","v":"Locale"}]
[]
[]
[]
[]
[]
[{"$nulls":12},"Mme, Mr :"]
[]
[{"$nulls":12},"Grade :"]
[]
[{"$nulls":12},"Service :"]
[]
[]
["Votre ou vos représentant-e-s du personnel"]
[]
[{"$f":"RECAPITULATIF!B5","v":"Madame FERET Isabelle, Madame Anne PICHON et Monsieur Patrick GAUTIER"}]
[]
["SUD Santé Sociaux",{"$nulls":3},{"$f":"RECAPITULATIF!D21","v":35},"du:"]
[]
[{"$f":"RECAPITULATIF!B2","v":"Centre Hospitalier de Saint Malo"}]
[]
["siégeant auprès de la CAP",{"$nulls":4},{"$f":"RECAPITULATIF!D7","v":"Locale"},{"$nulls":3},"du :",{"$f":"RECAPITULATIF!D11","v":"2019-04-16"},null,null,"vous informe de votre :"]
[]
[]
[{"$nulls":5},"AVANCEMENT D’ECHELON"]
[]
[]
[]
[]
[]
["Vous passez à l’échelon :",{"$nulls":4},{"$f":"'GRILLE IADE G1'!B11","v":2},null,"Indice Majoré :",{"$nulls":3},{"$f":"'GRILLE IADE G1'!D11","v":452}]
[]
[]
["Date d'effet :",{"$nulls":4},"/",null,"/",{"$f":"RECAPITULATIF!D9","v":2019},{"$nulls":8},{"$f":"'GRILLE IADE G1'!B2","v":"I.A.D.E.\n\n1er Grade"}]
[]
[]
[]
["Ce qui représente un gain mensuel de :",{"$nulls":7},{"$f":"'GRILLE IADE G1'!D11-'GRILLE IADE G1'!D9","v":19},null,"points d'indice."]
[{"$nulls":17},{"$f":"'GRILLE IADE G1'!B7","v":"Echelon"},{"$f":"'GRILLE IADE G1'!C7","v":"Durée\n(en mois)"},{"$f":"'GRILLE IADE G1'!D7","v":"Indice Majoré"}]
[]
["Pour information, la valeur brute du point d'indice",{"$nulls":16},{"$f":"'GRILLE IADE G1'!B9","v":1},{"$f":"'GRILLE IADE G1'!C9","v":24},{"$f":"'GRILLE IADE G1'!D9","v":433}]
[]
[{"$nulls":17},{"$f":"'GRILLE IADE G1'!B11","v":2},{"$f":"'GRILLE IADE G1'!C11","v":24},{"$f":"'GRILLE IADE G1'!D11","v":452}]
["est de",null,{"$f":"RECAPITULATIF!D13","v":{"v":4.686,"d":"4.686 €"}},null,"au",{"$f":"RECAPITULATIF!D15","v":"2019-01-01"}]
[{"$nulls":17},{"$f":"'GRILLE IADE G1'!B13","v":3},{"$f":"'GRILLE IADE G1'!C13","v":24},{"$f":"'GRILLE IADE G1'!D13","v":473}]
[]
["Soit un gain net mensuel de :",{"$nulls":5},{"$f":"I40*C46*0.8315","v":{"v":74.03177099999999,"d":"74.03 €"}},{"$nulls":10},{"$f":"'GRILLE IADE G1'!B15","v":4},{"$f":"'GRILLE IADE G1'!C15","v":24},{"$f":"'GRILLE IADE G1'!D15","v":498}]
[]
[{"$nulls":17},{"$f":"'GRILLE IADE G1'!B17","v":5},{"$f":"'GRILLE IADE G1'!C17","v":24},{"$f":"'GRILLE IADE G1'!D17","v":522}]
[]
[{"$nulls":17},{"$f":"'GRILLE IADE G1'!B19","v":6},{"$f":"'GRILLE IADE G1'!C19","v":42},{"$f":"'GRILLE IADE G1'!D19","v":546}]
["Vos représentant-e-s SUD Santé Sociaux ",{"$nulls":7},{"$f":"RECAPITULATIF!D21","v":35},null,"sont à votre disposition"]
["pour tous renseignements complémentaires au poste :",{"$nulls":11},{"$f":"RECAPITULATIF!D17","v":2886},{"$nulls":4},{"$f":"'GRILLE IADE G1'!B21","v":7},{"$f":"'GRILLE IADE G1'!C21","v":48},{"$f":"'GRILLE IADE G1'!D21","v":573}]
[]
[{"$nulls":17},{"$f":"'GRILLE IADE G1'!B23","v":8},{"$f":"'GRILLE IADE G1'!C23","v":48},{"$f":"'GRILLE IADE G1'!D23","v":598}]
[]
[{"$nulls":17},{"$f":"'GRILLE IADE G1'!B25","v":9},{"$f":"'GRILLE IADE G1'!C25","v":48},{"$f":"'GRILLE IADE G1'!D25","v":621}]
["Recevez toutes nos salutations."]
[{"$nulls":17},{"$f":"'GRILLE IADE G1'!B27","v":10},{"$f":"'GRILLE IADE G1'!C27","v":0},{"$f":"'GRILLE IADE G1'!D27","v":650}]
[]
[{"$f":"RECAPITULATIF!B5","v":"Madame FERET Isabelle, Madame Anne PICHON et Monsieur Patrick GAUTIER"}]
[]
["SUD Santé Sociaux",{"$nulls":3},{"$f":"RECAPITULATIF!D21","v":35}]
[]
[]
[]
[]
["Tél :",{"$f":"RECAPITULATIF!D19","v":{"v":299212886,"d":"02 99 21 28 86"}}]
["Mél :",null,{"$f":"RECAPITULATIF!C23","v":"sudsante@ch-stmalo.fr"}]
[{"$f":"RECAPITULATIF!B25","v":"Site Départemental Sud"},{"$nulls":4},{"$f":"RECAPITULATIF!D25","v":"http://www.sudsantesociaux35.org"}]

{"sheet":"IADE G1 Echelon 3","index":55,"n_rows":72,"n_cols":20,"rows_kept":72,"merged":[[1,6,1,16],[2,6,2,11],[2,12,2,16],[8,12,9,14],[12,12,12,14],[15,0,15,14],[17,0,17,16],[19,0,19,3],[21,0,21,14],[23,0,23,4],[23,5,23,8],[23,10,23,12],[23,13,23,16],[26,5,27,17],[32,0,32,4],[32,5,32,6],[32,7,32,10],[32,11,32,12],[35,0,35,2],[35,8,35,9],[35,17,39,19],[39,0,39,7],[39,8,39,9],[39,10,39,13],[40,17,41,17],[40,18,41,18],[40,19,41,19],[42,0,42,12],[42,17,43,17],[42,18,43,18],[42,19,43,19],[44,17,45,17],[44,18,45,18],[44,19,45,19],[45,2,45,3],[45,5,45,7],[46,17,47,17],[46,18,47,18],[46,19,47,19],[48,0,48,5],[48,6,48,8],[48,17,49,17],[48,18,49,18],[48,19,49,19],[50,17,51,17],[50,18,51,18],[50,19,51,19],[52,17,53,17],[52,18,53,18],[52,19,53,19],[53,0,53,7],[53,8,53,9],[53,10,53,14],[54,0,54,11],[54,12,54,13],[54,17,55,17],[54,18,55,18],[54,19,55,19],[56,17,57,17],[56,18,57,18],[56,19,57,19],[57,0,57,16],[58,17,59,17],[58,18,59,18],[58,19,59,19],[59,0,59,16],[60,17,61,17],[60,18,61,18],[60,19,61,19],[62,0,62,16],[64,0,64,3],[69,1,69,4],[70,0,70,1],[70,2,70,7],[71,0,71,4],[71,5,71,12]]}
[]
[{"$nulls":6},"Commission Administrative"]
[{"$nulls":6},"Paritaire",{"$nulls":5},{"$f":"RECAPITULATIF!D7","v":"Locale"}]
[]
[]
[]
[]
[]
[{"$nulls":12},"Mme, Mr :"]
[]
[{"$nulls":12},"Grade :"]
[]
[{"$nulls":12},"Service :"]
[]
[]
["Votre ou vos représentant-e-s du personnel"]
[]
[{"$f":"RECAPITULATIF!B5","v":"Madame FERET Isabelle, Madame Anne PICHON et Monsieur Patrick GAUTIER"}]
[]
["SUD Santé Sociaux",{"$nulls":3},{"$f":"RECAPITULATIF!D21","v":35},"du:"]
[]
[{"$f":"RECAPITULATIF!B2","v":"Centre Hospitalier de Saint Malo"}]
[]
["siégeant auprès de la CAP",{"$nulls":4},{"$f":"RECAPITULATIF!D7","v":"Locale"},{"$nulls":3},"du :",{"$f":"RECAPITULATIF!D11","v":"2019-04-16"},null,null,"vous informe de votre :"]
[]
[]
[{"$nulls":5},"AVANCEMENT D’ECHELON"]
[]
[]
[]
[]
[]
["Vous passez à l’échelon :",{"$nulls":4},{"$f":"'GRILLE IADE G1'!B13","v":3},null,"Indice Majoré :",{"$nulls":3},{"$f":"'GRILLE IADE G1'!D13","v":473}]
[]
[]
["Date d'effet :",{"$nulls":4},"/",null,"/",{"$f":"RECAPITULATIF!D9","v":2019},{"$nulls":8},{"$f":"'GRILLE IADE G1'!B2","v":"I.A.D.E.\n\n1er Grade"}]
[]
[]
[]
["Ce qui représente un gain mensuel de :",{"$nulls":7},{"$f":"'GRILLE IADE G1'!D13-'GRILLE IADE G1'!D11","v":21},null,"points d'indice."]
[{"$nulls":17},{"$f":"'GRILLE IADE G1'!B7","v":"Echelon"},{"$f":"'GRILLE IADE G1'!C7","v":"Durée\n(en mois)"},{"$f":"'GRILLE IADE G1'!D7","v":"Indice Majoré"}]
[]
["Pour information, la valeur brute du point d'indice",{"$nulls":16},{"$f":"'GRILLE IADE G1'!B9","v":1},{"$f":"'GRILLE IADE G1'!C9","v":24},{"$f":"'GRILLE IADE G1'!D9","v":433}]
[]
[{"$nulls":17},{"$f":"'GRILLE IADE G1'!B11","v":2},{"$f":"'GRILLE IADE G1'!C11","v":24},{"$f":"'GRILLE IADE G1'!D11","v":452}]
["est de",null,{"$f":"RECAPITULATIF!D13","v":{"v":4.686,"d":"4.686 €"}},null,"au",{"$f":"RECAPITULATIF!D15","v":"2019-01-01"}]
[{"$nulls":17},{"$f":"'GRILLE IADE G1'!B13","v":3},{"$f":"'GRILLE IADE G1'!C13","v":24},{"$f":"'GRILLE IADE G1'!D13","v":473}]
[]
["Soit un gain net mensuel de :",{"$nulls":5},{"$f":"I40*C46*0.8315","v":{"v":81.824589,"d":"81.82 €"}},{"$nulls":10},{"$f":"'GRILLE IADE G1'!B15","v":4},{"$f":"'GRILLE IADE G1'!C15","v":24},{"$f":"'GRILLE IADE G1'!D15","v":498}]
[]
[{"$nulls":17},{"$f":"'GRILLE IADE G1'!B17","v":5},{"$f":"'GRILLE IADE G1'!C17","v":24},{"$f":"'GRILLE IADE G1'!D17","v":522}]
[]
[{"$nulls":17},{"$f":"'GRILLE IADE G1'!B19","v":6},{"$f":"'GRILLE IADE G1'!C19","v":42},{"$f":"'GRILLE IADE G1'!D19","v":546}]
["Vos représentant-e-s SUD Santé Sociaux ",{"$nulls":7},{"$f":"RECAPITULATIF!D21","v":35},null,"sont à votre disposition"]
["pour tous renseignements complémentaires au poste :",{"$nulls":11},{"$f":"RECAPITULATIF!D17","v":2886},{"$nulls":4},{"$f":"'GRILLE IADE G1'!B21","v":7},{"$f":"'GRILLE IADE G1'!C21","v":48},{"$f":"'GRILLE IADE G1'!D21","v":573}]
[]
[{"$nulls":17},{"$f":"'GRILLE IADE G1'!B23","v":8},{"$f":"'GRILLE IADE G1'!C23","v":48},{"$f":"'GRILLE IADE G1'!D23","v":598}]
[]
[{"$nulls":17},{"$f":"'GRILLE IADE G1'!B25","v":9},{"$f":"'GRILLE IADE G1'!C25","v":48},{"$f":"'GRILLE IADE G1'!D25","v":621}]
["Recevez toutes nos salutations."]
[{"$nulls":17},{"$f":"'GRILLE IADE G1'!B27","v":10},{"$f":"'GRILLE IADE G1'!C27","v":0},{"$f":"'GRILLE IADE G1'!D27","v":650}]
[]
[{"$f":"RECAPITULATIF!B5","v":"Madame FERET Isabelle, Madame Anne PICHON et Monsieur Patrick GAUTIER"}]
[]
["SUD Santé Sociaux",{"$nulls":3},{"$f":"RECAPITULATIF!D21","v":35}]
[]
[]
[]
[]
["Tél :",{"$f":"RECAPITULATIF!D19","v":{"v":299212886,"d":"02 99 21 28 86"}}]
["Mél :",null,{"$f":"RECAPITULATIF!C23","v":"sudsante@ch-stmalo.fr"}]
[{"$f":"RECAPITULATIF!B25","v":"Site Départemental Sud"},{"$nulls":4},{"$f":"RECAPITULATIF!D25","v":"http://www.sudsantesociaux35.org"}]

{"sheet":"IADE G1 Echelon 4","index":56,"n_rows":72,"n_cols":20,"rows_kept":72,"merged":[[1,6,1,16],[2,6,2,11],[2,12,2,16],[8,12,9,14],[12,12,12,14],[15,0,15,14],[17,0,17,16],[19,0,19,3],[21,0,21,14],[23,0,23,4],[23,5,23,8],[23,10,23,12],[23,13,23,16],[26,5,27,17],[32,0,32,4],[32,5,32,6],[32,7,32,10],[32,11,32,12],[35,0,35,2],[35,8,35,9],[35,17,39,19],[39,0,39,7],[39,8,39,9],[39,10,39,13],[40,17,41,17],[40,18,41,18],[40,19,41,19],[42,0,42,12],[42,17,43,17],[42,18,43,18],[42,19,43,19],[44,17,45,17],[44,18,45,18],[44,19,45,19],[45,2,45,3],[45,5,45,7],[46,17,47,17],[46,18,47,18],[46,19,47,19],[48,0,48,5],[48,6,48,8],[48,17,49,17],[48,18,49,18],[48,19,49,19],[50,17,51,17],[50,18,51,18],[50,19,51,19],[52,17,53,17],[52,18,53,18],[52,19,53,19],[53,0,53,7],[53,8,53,9],[53,10,53,14],[54,0,54,11],[54,12,54,13],[54,17,55,17],[54,18,55,18],[54,19,55,19],[56,17,57,17],[56,18,57,18],[56,19,57,19],[57,0,57,16],[58,17,59,17],[58,18,59,18],[58,19,59,19],[59,0,59,16],[60,17,61,17],[60,18,61,18],[60,19,61,19],[62,0,62,16],[64,0,64,3],[69,1,69,4],[70,0,70,1],[70,2,70,7],[71,0,71,4],[71,5,71,12]]}
[]
[{"$nulls":6},"Commission Administrative"]
[{"$nulls":6},"Paritaire",{"$nulls":5},{"$f":"RECAPITULATIF!D7","v":"Locale"}]
[]
[]
[]
[]
[]
[{"$nulls":12},"Mme, Mr :"]
[]
[{"$nulls":12},"Grade :"]
[]
[{"$nulls":12},"Service :"]
[]
[]
["Votre ou vos représentant-e-s du personnel"]
[]
[{"$f":"RECAPITULATIF!B5","v":"Madame FERET Isabelle, Madame Anne PICHON et Monsieur Patrick GAUTIER"}]
[]
["SUD Santé Sociaux",{"$nulls":3},{"$f":"RECAPITULATIF!D21","v":35},"du:"]
[]
[{"$f":"RECAPITULATIF!B2","v":"Centre Hospitalier de Saint Malo"}]
[]
["siégeant auprès de la CAP",{"$nulls":4},{"$f":"RECAPITULATIF!D7","v":"Locale"},{"$nulls":3},"du :",{"$f":"RECAPITULATIF!D11","v":"2019-04-16"},null,null,"vous informe de votre :"]
[]
[]
[{"$nulls":5},"AVANCEMENT D’ECHELON"]
[]
[]
[]
[]
[]
["Vous passez à l’échelon :",{"$nulls":4},{"$f":"'GRILLE IADE G1'!B15","v":4},null,"Indice Majoré :",{"$nulls":3},{"$f":"'GRILLE IADE G1'!D15","v":498}]
[]
[]
["Date d'effet :",{"$nulls":4},"/",null,"/",{"$f":"RECAPITULATIF!D9","v":2019},{"$nulls":8},{"$f":"'GRILLE IADE G1'!B2","v":"I.A.D.E.\n\n1er Grade"}]
[]
[]
[]
["Ce qui représente un gain mensuel de :",{"$nulls":7},{"$f":"'GRILLE IADE G1'!D15-'GRILLE IADE G1'!D13","v":25},null,"points d'indice."]
[{"$nulls":17},{"$f":"'GRILLE IADE G1'!B7","v":"Echelon"},{"$f":"'GRILLE IADE G1'!C7","v":"Durée\n(en mois)"},{"$f":"'GRILLE IADE G1'!D7","v":"Indice Majoré"}]
[]
["Pour information, la valeur brute du point d'indice",{"$nulls":16},{"$f":"'GRILLE IADE G1'!B9","v":1},{"$f":"'GRILLE IADE G1'!C9","v":24},{"$f":"'GRILLE IADE G1'!D9","v":433}]
[]
[{"$nulls":17},{"$f":"'GRILLE IADE G1'!B11","v":2},{"$f":"'GRILLE IADE G1'!C11","v":24},{"$f":"'GRILLE IADE G1'!D11","v":452}]
["est de",null,{"$f":"RECAPITULATIF!D13","v":{"v":4.686,"d":"4.686 €"}},null,"au",{"$f":"RECAPITULATIF!D15","v":"2019-01-01"}]
[{"$nulls":17},{"$f":"'GRILLE IADE G1'!B13","v":3},{"$f":"'GRILLE IADE G1'!C13","v":24},{"$f":"'GRILLE IADE G1'!D13","v":473}]
[]
["Soit un gain net mensuel de :",{"$nulls":5},{"$f":"I40*C46*0.8315","v":{"v":97.41022500000001,"d":"97.41 €"}},{"$nulls":10},{"$f":"'GRILLE IADE G1'!B15","v":4},{"$f":"'GRILLE IADE G1'!C15","v":24},{"$f":"'GRILLE IADE G1'!D15","v":498}]
[]
[{"$nulls":17},{"$f":"'GRILLE IADE G1'!B17","v":5},{"$f":"'GRILLE IADE G1'!C17","v":24},{"$f":"'GRILLE IADE G1'!D17","v":522}]
[]
[{"$nulls":17},{"$f":"'GRILLE IADE G1'!B19","v":6},{"$f":"'GRILLE IADE G1'!C19","v":42},{"$f":"'GRILLE IADE G1'!D19","v":546}]
["Vos représentant-e-s SUD Santé Sociaux ",{"$nulls":7},{"$f":"RECAPITULATIF!D21","v":35},null,"sont à votre disposition"]
["pour tous renseignements complémentaires au poste :",{"$nulls":11},{"$f":"RECAPITULATIF!D17","v":2886},{"$nulls":4},{"$f":"'GRILLE IADE G1'!B21","v":7},{"$f":"'GRILLE IADE G1'!C21","v":48},{"$f":"'GRILLE IADE G1'!D21","v":573}]
[]
[{"$nulls":17},{"$f":"'GRILLE IADE G1'!B23","v":8},{"$f":"'GRILLE IADE G1'!C23","v":48},{"$f":"'GRILLE IADE G1'!D23","v":598}]
[]
[{"$nulls":17},{"$f":"'GRILLE IADE G1'!B25","v":9},{"$f":"'GRILLE IADE G1'!C25","v":48},{"$f":"'GRILLE IADE G1'!D25","v":621}]
["Recevez toutes nos salutations."]
[{"$nulls":17},{"$f":"'GRILLE IADE G1'!B27","v":10},{"$f":"'GRILLE IADE G1'!C27","v":0},{"$f":"'GRILLE IADE G1'!D27","v":650}]
[]
[{"$f":"RECAPITULATIF!B5","v":"Madame FERET Isabelle, Madame Anne PICHON et Monsieur Patrick GAUTIER"}]
[]
["SUD Santé Sociaux",{"$nulls":3},{"$f":"RECAPITULATIF!D21","v":35}]
[]
[]
[]
[]
["Tél :",{"$f":"RECAPITULATIF!D19","v":{"v":299212886,"d":"02 99 21 28 86"}}]
["Mél :",null,{"$f":"RECAPITULATIF!C23","v":"sudsante@ch-stmalo.fr"}]
[{"$f":"RECAPITULATIF!B25","v":"Site Départemental Sud"},{"$nulls":4},{"$f":"RECAPITULATIF!D25","v":"http://www.sudsantesociaux35.org"}]

{"sheet":"IADE G1 Echelon 5","index":57,"n_rows":72,"n_cols":20,"rows_kept":72,"merged":[[1,6,1,16],[2,6,2,11],[2,12,2,16],[8,12,9,14],[12,12,12,14],[15,0,15,14],[17,0,17,16],[19,0,19,3],[21,0,21,14],[23,0,23,4],[23,5,23,8],[23,10,23,12],[23,13,23,16],[26,5,27,17],[32,0,32,4],[32,5,32,6],[32,7,32,10],[32,11,32,12],[35,0,35,2],[35,8,35,9],[35,17,39,19],[39,0,39,7],[39,8,39,9],[39,10,39,13],[40,17,41,17],[40,18,41,18],[40,19,41,19],[42,0,42,12],[42,17,43,17],[42,18,43,18],[42,19,43,19],[44,17,45,17],[44,18,45,18],[44,19,45,19],[45,2,45,3],[45,5,45,7],[46,17,47,17],[46,18,47,18],[46,19,47,19],[48,0,48,5],[48,6,48,8],[48,17,49,17],[48,18,49,18],[48,19,49,19],[50,17,51,17],[50,18,51,18],[50,19,51,19],[52,17,53,17],[52,18,53,18],[52,19,53,19],[53,0,53,7],[53,8,53,9],[53,10,53,14],[54,0,54,11],[54,12,54,13],[54,17,55,17],[54,18,55,18],[54,19,55,19],[56,17,57,17],[56,18,57,18],[56,19,57,19],[57,0,57,16],[58,17,59,17],[58,18,59,18],[58,19,59,19],[59,0,59,16],[60,17,61,17],[60,18,61,18],[60,19,61,19],[62,0,62,16],[64,0,64,3],[69,1,69,4],[70,0,70,1],[70,2,70,7],[71,0,71,4],[71,5,71,12]]}
[]
[{"$nulls":6},"Commission Administrative"]
[{"$nulls":6},"Paritaire",{"$nulls":5},{"$f":"RECAPITULATIF!D7","v":"Locale"}]
[]
[]
[]
[]
[]
[{"$nulls":12},"Mme, Mr :"]
[]
[{"$nulls":12},"Grade :"]
[]
[{"$nulls":12},"Service :"]
[]
[]
["Votre ou vos représentant-e-s du personnel"]
[]
[{"$f":"RECAPITULATIF!B5","v":"Madame FERET Isabelle, Madame Anne PICHON et Monsieur Patrick GAUTIER"}]
[]
["SUD Santé Sociaux",{"$nulls":3},{"$f":"RECAPITULATIF!D21","v":35},"du:"]
[]
[{"$f":"RECAPITULATIF!B2","v":"Centre Hospitalier de Saint Malo"}]
[]
["siégeant auprès de la CAP",{"$nulls":4},{"$f":"RECAPITULATIF!D7","v":"Locale"},{"$nulls":3},"du :",{"$f":"RECAPITULATIF!D11","v":"2019-04-16"},null,null,"vous informe de votre :"]
[]
[]
[{"$nulls":5},"AVANCEMENT D’ECHELON"]
[]
[]
[]
[]
[]
["Vous passez à l’échelon :",{"$nulls":4},{"$f":"'GRILLE IADE G1'!B17","v":5},null,"Indice Majoré :",{"$nulls":3},{"$f":"'GRILLE IADE G1'!D17","v":522}]
[]
[]
["Date d'effet :",{"$nulls":4},"/",null,"/",{"$f":"RECAPITULATIF!D9","v":2019},{"$nulls":8},{"$f":"'GRILLE IADE G1'!B2","v":"I.A.D.E.\n\n1er Grade"}]
[]
[]
[]
["Ce qui représente un gain mensuel de :",{"$nulls":7},{"$f":"'GRILLE IADE G1'!D17-'GRILLE IADE G1'!D15","v":24},null,"points d'indice."]
[{"$nulls":17},{"$f":"'GRILLE IADE G1'!B7","v":"Echelon"},{"$f":"'GRILLE IADE G1'!C7","v":"Durée\n(en mois)"},{"$f":"'GRILLE IADE G1'!D7","v":"Indice Majoré"}]
[]
["Pour information, la valeur brute du point d'indice",{"$nulls":16},{"$f":"'GRILLE IADE G1'!B9","v":1},{"$f":"'GRILLE IADE G1'!C9","v":24},{"$f":"'GRILLE IADE G1'!D9","v":433}]
[]
[{"$nulls":17},{"$f":"'GRILLE IADE G1'!B11","v":2},{"$f":"'GRILLE IADE G1'!C11","v":24},{"$f":"'GRILLE IADE G1'!D11","v":452}]
["est de",null,{"$f":"RECAPITULATIF!D13","v":{"v":4.686,"d":"4.686 €"}},null,"au",{"$f":"RECAPITULATIF!D15","v":"2019-01-01"}]
[{"$nulls":17},{"$f":"'GRILLE IADE G1'!B13","v":3},{"$f":"'GRILLE IADE G1'!C13","v":24},{"$f":"'GRILLE IADE G1'!D13","v":473}]
[]
["Soit un gain net mensuel de :",{"$nulls":5},{"$f":"I40*C46*0.8315","v":{"v":93.513816,"d":"93.51 €"}},{"$nulls":10},{"$f":"'GRILLE IADE G1'!B15","v":4},{"$f":"'GRILLE IADE G1'!C15","v":24},{"$f":"'GRILLE IADE G1'!D15","v":498}]
[]
[{"$nulls":17},{"$f":"'GRILLE IADE G1'!B17","v":5},{"$f":"'GRILLE IADE G1'!C17","v":24},{"$f":"'GRILLE IADE G1'!D17","v":522}]
[]
[{"$nulls":17},{"$f":"'GRILLE IADE G1'!B19","v":6},{"$f":"'GRILLE IADE G1'!C19","v":42},{"$f":"'GRILLE IADE G1'!D19","v":546}]
["Vos représentant-e-s SUD Santé Sociaux ",{"$nulls":7},{"$f":"RECAPITULATIF!D21","v":35},null,"sont à votre disposition"]
["pour tous renseignements complémentaires au poste :",{"$nulls":11},{"$f":"RECAPITULATIF!D17","v":2886},{"$nulls":4},{"$f":"'GRILLE IADE G1'!B21","v":7},{"$f":"'GRILLE IADE G1'!C21","v":48},{"$f":"'GRILLE IADE G1'!D21","v":573}]
[]
[{"$nulls":17},{"$f":"'GRILLE IADE G1'!B23","v":8},{"$f":"'GRILLE IADE G1'!C23","v":48},{"$f":"'GRILLE IADE G1'!D23","v":598}]
[]
[{"$nulls":17},{"$f":"'GRILLE IADE G1'!B25","v":9},{"$f":"'GRILLE IADE G1'!C25","v":48},{"$f":"'GRILLE IADE G1'!D25","v":621}]
["Recevez toutes nos salutations."]
[{"$nulls":17},{"$f":"'GRILLE IADE G1'!B27","v":10},{"$f":"'GRILLE IADE G1'!C27","v":0},{"$f":"'GRILLE IADE G1'!D27","v":650}]
[]
[{"$f":"RECAPITULATIF!B5","v":"Madame FERET Isabelle, Madame Anne PICHON et Monsieur Patrick GAUTIER"}]
[]
["SUD Santé Sociaux",{"$nulls":3},{"$f":"RECAPITULATIF!D21","v":35}]
[]
[]
[]
[]
["Tél :",{"$f":"RECAPITULATIF!D19","v":{"v":299212886,"d":"02 99 21 28 86"}}]
["Mél :",null,{"$f":"RECAPITULATIF!C23","v":"sudsante@ch-stmalo.fr"}]
[{"$f":"RECAPITULATIF!B25","v":"Site Départemental Sud"},{"$nulls":4},{"$f":"RECAPITULATIF!D25","v":"http://www.sudsantesociaux35.org"}]

{"sheet":"IADE G1 Echelon 6","index":58,"n_rows":72,"n_cols":20,"rows_kept":72,"merged":[[1,6,1,16],[2,6,2,11],[2,12,2,16],[8,12,9,14],[12,12,12,14],[15,0,15,14],[17,0,17,16],[19,0,19,3],[21,0,21,14],[23,0,23,4],[23,5,23,8],[23,10,23,12],[23,13,23,16],[26,5,27,17],[32,0,32,4],[32,5,32,6],[32,7,32,10],[32,11,32,12],[35,0,35,2],[35,8,35,9],[35,17,39,19],[39,0,39,7],[39,8,39,9],[39,10,39,13],[40,17,41,17],[40,18,41,18],[40,19,41,19],[42,0,42,12],[42,17,43,17],[42,18,43,18],[42,19,43,19],[44,17,45,17],[44,18,45,18],[44,19,45,19],[45,2,45,3],[45,5,45,7],[46,17,47,17],[46,18,47,18],[46,19,47,19],[48,0,48,5],[48,6,48,8],[48,17,49,17],[48,18,49,18],[48,19,49,19],[50,17,51,17],[50,18,51,18],[50,19,51,19],[52,17,53,17],[52,18,53,18],[52,19,53,19],[53,0,53,7],[53,8,53,9],[53,10,53,14],[54,0,54,11],[54,12,54,13],[54,17,55,17],[54,18,55,18],[54,19,55,19],[56,17,57,17],[56,18,57,18],[56,19,57,19],[57,0,57,16],[58,17,59,17],[58,18,59,18],[58,19,59,19],[59,0,59,16],[60,17,61,17],[60,18,61,18],[60,19,61,19],[62,0,62,16],[64,0,64,3],[69,1,69,4],[70,0,70,1],[70,2,70,7],[71,0,71,4],[71,5,71,12]]}
[]
[{"$nulls":6},"Commission Administrative"]
[{"$nulls":6},"Paritaire",{"$nulls":5},{"$f":"RECAPITULATIF!D7","v":"Locale"}]
[]
[]
[]
[]
[]
[{"$nulls":12},"Mme, Mr :"]
[]
[{"$nulls":12},"Grade :"]
[]
[{"$nulls":12},"Service :"]
[]
[]
["Votre ou vos représentant-e-s du personnel"]
[]
[{"$f":"RECAPITULATIF!B5","v":"Madame FERET Isabelle, Madame Anne PICHON et Monsieur Patrick GAUTIER"}]
[]
["SUD Santé Sociaux",{"$nulls":3},{"$f":"RECAPITULATIF!D21","v":35},"du:"]
[]
[{"$f":"RECAPITULATIF!B2","v":"Centre Hospitalier de Saint Malo"}]
[]
["siégeant auprès de la CAP",{"$nulls":4},{"$f":"RECAPITULATIF!D7","v":"Locale"},{"$nulls":3},"du :",{"$f":"RECAPITULATIF!D11","v":"2019-04-16"},null,null,"vous informe de votre :"]
[]
[]
[{"$nulls":5},"AVANCEMENT D’ECHELON"]
[]
[]
[]
[]
[]
["Vous passez à l’échelon :",{"$nulls":4},{"$f":"'GRILLE IADE G1'!B19","v":6},null,"Indice Majoré :",{"$nulls":3},{"$f":"'GRILLE IADE G1'!D19","v":546}]
[]
[]
["Date d'effet :",{"$nulls":4},"/",null,"/",{"$f":"RECAPITULATIF!D9","v":2019},{"$nulls":8},{"$f":"'GRILLE IADE G1'!B2","v":"I.A.D.E.\n\n1er Grade"}]
[]
[]
[]
["Ce qui représente un gain mensuel de :",{"$nulls":7},{"$f":"'GRILLE IADE G1'!D19-'GRILLE IADE G1'!D17","v":24},null,"points d'indice."]
[{"$nulls":17},{"$f":"'GRILLE IADE G1'!B7","v":"Echelon"},{"$f":"'GRILLE IADE G1'!C7","v":"Durée\n(en mois)"},{"$f":"'GRILLE IADE G1'!D7","v":"Indice Majoré"}]
[]
["Pour information, la valeur brute du point d'indice",{"$nulls":16},{"$f":"'GRILLE IADE G1'!B9","v":1},{"$f":"'GRILLE IADE G1'!C9","v":24},{"$f":"'GRILLE IADE G1'!D9","v":433}]
[]
[{"$nulls":17},{"$f":"'GRILLE IADE G1'!B11","v":2},{"$f":"'GRILLE IADE G1'!C11","v":24},{"$f":"'GRILLE IADE G1'!D11","v":452}]
["est de",null,{"$f":"RECAPITULATIF!D13","v":{"v":4.686,"d":"4.686 €"}},null,"au",{"$f":"RECAPITULATIF!D15","v":"2019-01-01"}]
[{"$nulls":17},{"$f":"'GRILLE IADE G1'!B13","v":3},{"$f":"'GRILLE IADE G1'!C13","v":24},{"$f":"'GRILLE IADE G1'!D13","v":473}]
[]
["Soit un gain net mensuel de :",{"$nulls":5},{"$f":"I40*C46*0.8315","v":{"v":93.513816,"d":"93.51 €"}},{"$nulls":10},{"$f":"'GRILLE IADE G1'!B15","v":4},{"$f":"'GRILLE IADE G1'!C15","v":24},{"$f":"'GRILLE IADE G1'!D15","v":498}]
[]
[{"$nulls":17},{"$f":"'GRILLE IADE G1'!B17","v":5},{"$f":"'GRILLE IADE G1'!C17","v":24},{"$f":"'GRILLE IADE G1'!D17","v":522}]
[]
[{"$nulls":17},{"$f":"'GRILLE IADE G1'!B19","v":6},{"$f":"'GRILLE IADE G1'!C19","v":42},{"$f":"'GRILLE IADE G1'!D19","v":546}]
["Vos représentant-e-s SUD Santé Sociaux ",{"$nulls":7},{"$f":"RECAPITULATIF!D21","v":35},null,"sont à votre disposition"]
["pour tous renseignements complémentaires au poste :",{"$nulls":11},{"$f":"RECAPITULATIF!D17","v":2886},{"$nulls":4},{"$f":"'GRILLE IADE G1'!B21","v":7},{"$f":"'GRILLE IADE G1'!C21","v":48},{"$f":"'GRILLE IADE G1'!D21","v":573}]
[]
[{"$nulls":17},{"$f":"'GRILLE IADE G1'!B23","v":8},{"$f":"'GRILLE IADE G1'!C23","v":48},{"$f":"'GRILLE IADE G1'!D23","v":598}]
[]
[{"$nulls":17},{"$f":"'GRILLE IADE G1'!B25","v":9},{"$f":"'GRILLE IADE G1'!C25","v":48},{"$f":"'GRILLE IADE G1'!D25","v":621}]
["Recevez toutes nos salutations."]
[{"$nulls":17},{"$f":"'GRILLE IADE G1'!B27","v":10},{"$f":"'GRILLE IADE G1'!C27","v":0},{"$f":"'GRILLE IADE G1'!D27","v":650}]
[]
[{"$f":"RECAPITULATIF!B5","v":"Madame FERET Isabelle, Madame Anne PICHON et Monsieur Patrick GAUTIER"}]
[]
["SUD Santé Sociaux",{"$nulls":3},{"$f":"RECAPITULATIF!D21","v":35}]
[]
[]
[]
[]
["Tél :",{"$f":"RECAPITULATIF!D19","v":{"v":299212886,"d":"02 99 21 28 86"}}]
["Mél :",null,{"$f":"RECAPITULATIF!C23","v":"sudsante@ch-stmalo.fr"}]
[{"$f":"RECAPITULATIF!B25","v":"Site Départemental Sud"},{"$nulls":4},{"$f":"RECAPITULATIF!D25","v":"http://www.sudsantesociaux35.org"}]

{"sheet":"IADE G1 Echelon 7","index":59,"n_rows":72,"n_cols":20,"rows_kept":72,"merged":[[1,6,1,16],[2,6,2,11],[2,12,2,16],[8,12,9,14],[12,12,12,14],[15,0,15,14],[17,0,17,16],[19,0,19,3],[21,0,21,14],[23,0,23,4],[23,5,23,8],[23,10,23,12],[23,13,23,16],[26,5,27,17],[32,0,32,4],[32,5,32,6],[32,7,32,10],[32,11,32,12],[35,0,35,2],[35,8,35,9],[35,17,39,19],[39,0,39,7],[39,8,39,9],[39,10,39,13],[40,17,41,17],[40,18,41,18],[40,19,41,19],[42,0,42,12],[42,17,43,17],[42,18,43,18],[42,19,43,19],[44,17,45,17],[44,18,45,18],[44,19,45,19],[45,2,45,3],[45,5,45,7],[46,17,47,17],[46,18,47,18],[46,19,47,19],[48,0,48,5],[48,6,48,8],[48,17,49,17],[48,18,49,18],[48,19,49,19],[50,17,51,17],[50,18,51,18],[50,19,51,19],[52,17,53,17],[52,18,53,18],[52,19,53,19],[53,0,53,7],[53,8,53,9],[53,10,53,14],[54,0,54,11],[54,12,54,13],[54,17,55,17],[54,18,55,18],[54,19,55,19],[56,17,57,17],[56,18,57,18],[56,19,57,19],[57,0,57,16],[58,17,59,17],[58,18,59,18],[58,19,59,19],[59,0,59,16],[60,17,61,17],[60,18,61,18],[60,19,61,19],[62,0,62,16],[64,0,64,3],[69,1,69,4],[70,0,70,1],[70,2,70,7],[71,0,71,4],[71,5,71,12]]}
[]
[{"$nulls":6},"Commission Administrative"]
[{"$nulls":6},"Paritaire",{"$nulls":5},{"$f":"RECAPITULATIF!D7","v":"Locale"}]
[]
[]
[]
[]
[]
[{"$nulls":12},"Mme, Mr :"]
[]
[{"$nulls":12},"Grade :"]
[]
[{"$nulls":12},"Service :"]
[]
[]
["Votre ou vos représentant-e-s du personnel"]
[]
[{"$f":"RECAPITULATIF!B5","v":"Madame FERET Isabelle, Madame Anne PICHON et Monsieur Patrick GAUTIER"}]
[]
["SUD Santé Sociaux",{"$nulls":3},{"$f":"RECAPITULATIF!D21","v":35},"du:"]
[]
[{"$f":"RECAPITULATIF!B2","v":"Centre Hospitalier de Saint Malo"}]
[]
["siégeant auprès de la CAP",{"$nulls":4},{"$f":"RECAPITULATIF!D7","v":"Locale"},{"$nulls":3},"du :",{"$f":"RECAPITULATIF!D11","v":"2019-04-16"},null,null,"vous informe de votre :"]
[]
[]
[{"$nulls":5},"AVANCEMENT D’ECHELON"]
[]
[]
[]
[]
[]
["Vous passez à l’échelon :",{"$nulls":4},{"$f":"'GRILLE IADE G1'!B21","v":7},null,"Indice Majoré :",{"$nulls":3},{"$f":"'GRILLE IADE G1'!D21","v":573}]
[]
[]
["Date d'effet :",{"$nulls":4},"/",null,"/",{"$f":"RECAPITULATIF!D9","v":2019},{"$nulls":8},{"$f":"'GRILLE IADE G1'!B2","v":"I.A.D.E.\n\n1er Grade"}]
[]
[]
[]
["Ce qui représente un gain mensuel de :",{"$nulls":7},{"$f":"'GRILLE IADE G1'!D21-'GRILLE IADE G1'!D19","v":27},null,"points d'indice."]
[{"$nulls":17},{"$f":"'GRILLE IADE G1'!B7","v":"Echelon"},{"$f":"'GRILLE IADE G1'!C7","v":"Durée\n(en mois)"},{"$f":"'GRILLE IADE G1'!D7","v":"Indice Majoré"}]
[]
["Pour information, la valeur brute du point d'indice",{"$nulls":16},{"$f":"'GRILLE IADE G1'!B9","v":1},{"$f":"'GRILLE IADE G1'!C9","v":24},{"$f":"'GRILLE IADE G1'!D9","v":433}]
[]
[{"$nulls":17},{"$f":"'GRILLE IADE G1'!B11","v":2},{"$f":"'GRILLE IADE G1'!C11","v":24},{"$f":"'GRILLE IADE G1'!D11","v":452}]
["est de",null,{"$f":"RECAPITULATIF!D13","v":{"v":4.686,"d":"4.686 €"}},null,"au",{"$f":"RECAPITULATIF!D15","v":"2019-01-01"}]
[{"$nulls":17},{"$f":"'GRILLE IADE G1'!B13","v":3},{"$f":"'GRILLE IADE G1'!C13","v":24},{"$f":"'GRILLE IADE G1'!D13","v":473}]
[]
["Soit un gain net mensuel de :",{"$nulls":5},{"$f":"I40*C46*0.8315","v":{"v":105.203043,"d":"105.20 €"}},{"$nulls":10},{"$f":"'GRILLE IADE G1'!B15","v":4},{"$f":"'GRILLE IADE G1'!C15","v":24},{"$f":"'GRILLE IADE G1'!D15","v":498}]
[]
[{"$nulls":17},{"$f":"'GRILLE IADE G1'!B17","v":5},{"$f":"'GRILLE IADE G1'!C17","v":24},{"$f":"'GRILLE IADE G1'!D17","v":522}]
[]
[{"$nulls":17},{"$f":"'GRILLE IADE G1'!B19","v":6},{"$f":"'GRILLE IADE G1'!C19","v":42},{"$f":"'GRILLE IADE G1'!D19","v":546}]
["Vos représentant-e-s SUD Santé Sociaux ",{"$nulls":7},{"$f":"RECAPITULATIF!D21","v":35},null,"sont à votre disposition"]
["pour tous renseignements complémentaires au poste :",{"$nulls":11},{"$f":"RECAPITULATIF!D17","v":2886},{"$nulls":4},{"$f":"'GRILLE IADE G1'!B21","v":7},{"$f":"'GRILLE IADE G1'!C21","v":48},{"$f":"'GRILLE IADE G1'!D21","v":573}]
[]
[{"$nulls":17},{"$f":"'GRILLE IADE G1'!B23","v":8},{"$f":"'GRILLE IADE G1'!C23","v":48},{"$f":"'GRILLE IADE G1'!D23","v":598}]
[]
[{"$nulls":17},{"$f":"'GRILLE IADE G1'!B25","v":9},{"$f":"'GRILLE IADE G1'!C25","v":48},{"$f":"'GRILLE IADE G1'!D25","v":621}]
["Recevez toutes nos salutations."]
[{"$nulls":17},{"$f":"'GRILLE IADE G1'!B27","v":10},{"$f":"'GRILLE IADE G1'!C27","v":0},{"$f":"'GRILLE IADE G1'!D27","v":650}]
[]
[{"$f":"RECAPITULATIF!B5","v":"Madame FERET Isabelle, Madame Anne PICHON et Monsieur Patrick GAUTIER"}]
[]
["SUD Santé Sociaux",{"$nulls":3},{"$f":"RECAPITULATIF!D21","v":35}]
[]
[]
[]
[]
["Tél :",{"$f":"RECAPITULATIF!D19","v":{"v":299212886,"d":"02 99 21 28 86"}}]
["Mél :",null,{"$f":"RECAPITULATIF!C23","v":"sudsante@ch-stmalo.fr"}]
[{"$f":"RECAPITULATIF!B25","v":"Site Départemental Sud"},{"$nulls":4},{"$f":"RECAPITULATIF!D25","v":"http://www.sudsantesociaux35.org"}]

{"sheet":"IADE G1 Echelon 8","index":60,"n_rows":72,"n_cols":20,"rows_kept":72,"merged":[[1,6,1,16],[2,6,2,11],[2,12,2,16],[8,12,9,14],[12,12,12,14],[15,0,15,14],[17,0,17,16],[19,0,19,3],[21,0,21,14],[23,0,23,4],[23,5,23,8],[23,10,23,12],[23,13,23,16],[26,5,27,17],[32,0,32,4],[32,5,32,6],[32,7,32,10],[32,11,32,12],[35,0,35,2],[35,8,35,9],[35,17,39,19],[39,0,39,7],[39,8,39,9],[39,10,39,13],[40,17,41,17],[40,18,41,18],[40,19,41,19],[42,0,42,12],[42,17,43,17],[42,18,43,18],[42,19,43,19],[44,17,45,17],[44,18,45,18],[44,19,45,19],[45,2,45,3],[45,5,45,7],[46,17,47,17],[46,18,47,18],[46,19,47,19],[48,0,48,5],[48,6,48,8],[48,17,49,17],[48,18,49,18],[48,19,49,19],[50,17,51,17],[50,18,51,18],[50,19,51,19],[52,17,53,17],[52,18,53,18],[52,19,53,19],[53,0,53,7],[53,8,53,9],[53,10,53,14],[54,0,54,11],[54,12,54,13],[54,17,55,17],[54,18,55,18],[54,19,55,19],[56,17,57,17],[56,18,57,18],[56,19,57,19],[57,0,57,16],[58,17,59,17],[58,18,59,18],[58,19,59,19],[59,0,59,16],[60,17,61,17],[60,18,61,18],[60,19,61,19],[62,0,62,16],[64,0,64,3],[69,1,69,4],[70,0,70,1],[70,2,70,7],[71,0,71,4],[71,5,71,12]]}
[]
[{"$nulls":6},"Commission Administrative"]
[{"$nulls":6},"Paritaire",{"$nulls":5},{"$f":"RECAPITULATIF!D7","v":"Locale"}]
[]
[]
[]
[]
[]
[{"$nulls":12},"Mme, Mr :"]
[]
[{"$nulls":12},"Grade :"]
[]
[{"$nulls":12},"Service :"]
[]
[]
["Votre ou vos représentant-e-s du personnel"]
[]
[{"$f":"RECAPITULATIF!B5","v":"Madame FERET Isabelle, Madame Anne PICHON et Monsieur Patrick GAUTIER"}]
[]
["SUD Santé Sociaux",{"$nulls":3},{"$f":"RECAPITULATIF!D21","v":35},"du:"]
[]
[{"$f":"RECAPITULATIF!B2","v":"Centre Hospitalier de Saint Malo"}]
[]
["siégeant auprès de la CAP",{"$nulls":4},{"$f":"RECAPITULATIF!D7","v":"Locale"},{"$nulls":3},"du :",{"$f":"RECAPITULATIF!D11","v":"2019-04-16"},null,null,"vous informe de votre :"]
[]
[]
[{"$nulls":5},"AVANCEMENT D’ECHELON"]
[]
[]
[]
[]
[]
["Vous passez à l’échelon :",{"$nulls":4},{"$f":"'GRILLE IADE G1'!B23","v":8},null,"Indice Majoré :",{"$nulls":3},{"$f":"'GRILLE IADE G1'!D23","v":598}]
[]
[]
["Date d'effet :",{"$nulls":4},"/",null,"/",{"$f":"RECAPITULATIF!D9","v":2019},{"$nulls":8},{"$f":"'GRILLE IADE G1'!B2","v":"I.A.D.E.\n\n1er Grade"}]
[]
[]
[]
["Ce qui représente un gain mensuel de :",{"$nulls":7},{"$f":"'GRILLE IADE G1'!D23-'GRILLE IADE G1'!D21","v":25},null,"points d'indice."]
[{"$nulls":17},{"$f":"'GRILLE IADE G1'!B7","v":"Echelon"},{"$f":"'GRILLE IADE G1'!C7","v":"Durée\n(en mois)"},{"$f":"'GRILLE IADE G1'!D7","v":"Indice Majoré"}]
[]
["Pour information, la valeur brute du point d'indice",{"$nulls":16},{"$f":"'GRILLE IADE G1'!B9","v":1},{"$f":"'GRILLE IADE G1'!C9","v":24},{"$f":"'GRILLE IADE G1'!D9","v":433}]
[]
[{"$nulls":17},{"$f":"'GRILLE IADE G1'!B11","v":2},{"$f":"'GRILLE IADE G1'!C11","v":24},{"$f":"'GRILLE IADE G1'!D11","v":452}]
["est de",null,{"$f":"RECAPITULATIF!D13","v":{"v":4.686,"d":"4.686 €"}},null,"au",{"$f":"RECAPITULATIF!D15","v":"2019-01-01"}]
[{"$nulls":17},{"$f":"'GRILLE IADE G1'!B13","v":3},{"$f":"'GRILLE IADE G1'!C13","v":24},{"$f":"'GRILLE IADE G1'!D13","v":473}]
[]
["Soit un gain net mensuel de :",{"$nulls":5},{"$f":"I40*C46*0.8315","v":{"v":97.41022500000001,"d":"97.41 €"}},{"$nulls":10},{"$f":"'GRILLE IADE G1'!B15","v":4},{"$f":"'GRILLE IADE G1'!C15","v":24},{"$f":"'GRILLE IADE G1'!D15","v":498}]
[]
[{"$nulls":17},{"$f":"'GRILLE IADE G1'!B17","v":5},{"$f":"'GRILLE IADE G1'!C17","v":24},{"$f":"'GRILLE IADE G1'!D17","v":522}]
[]
[{"$nulls":17},{"$f":"'GRILLE IADE G1'!B19","v":6},{"$f":"'GRILLE IADE G1'!C19","v":42},{"$f":"'GRILLE IADE G1'!D19","v":546}]
["Vos représentant-e-s SUD Santé Sociaux ",{"$nulls":7},{"$f":"RECAPITULATIF!D21","v":35},null,"sont à votre disposition"]
["pour tous renseignements complémentaires au poste :",{"$nulls":11},{"$f":"RECAPITULATIF!D17","v":2886},{"$nulls":4},{"$f":"'GRILLE IADE G1'!B21","v":7},{"$f":"'GRILLE IADE G1'!C21","v":48},{"$f":"'GRILLE IADE G1'!D21","v":573}]
[]
[{"$nulls":17},{"$f":"'GRILLE IADE G1'!B23","v":8},{"$f":"'GRILLE IADE G1'!C23","v":48},{"$f":"'GRILLE IADE G1'!D23","v":598}]
[]
[{"$nulls":17},{"$f":"'GRILLE IADE G1'!B25","v":9},{"$f":"'GRILLE IADE G1'!C25","v":48},{"$f":"'GRILLE IADE G1'!D25","v":621}]
["Recevez toutes nos salutations."]
[{"$nulls":17},{"$f":"'GRILLE IADE G1'!B27","v":10},{"$f":"'GRILLE IADE G1'!C27","v":0},{"$f":"'GRILLE IADE G1'!D27","v":650}]
[]
[{"$f":"RECAPITULATIF!B5","v":"Madame FERET Isabelle, Madame Anne PICHON et Monsieur Patrick GAUTIER"}]
[]
["SUD Santé Sociaux",{"$nulls":3},{"$f":"RECAPITULATIF!D21","v":35}]
[]
[]
[]
[]
["Tél :",{"$f":"RECAPITULATIF!D19","v":{"v":299212886,"d":"02 99 21 28 86"}}]
["Mél :",null,{"$f":"RECAPITULATIF!C23","v":"sudsante@ch-stmalo.fr"}]
[{"$f":"RECAPITULATIF!B25","v":"Site Départemental Sud"},{"$nulls":4},{"$f":"RECAPITULATIF!D25","v":"http://www.sudsantesociaux35.org"}]

{"sheet":"IADE G1 Echelon 9","index":61,"n_rows":72,"n_cols":20,"rows_kept":72,"merged":[[1,6,1,16],[2,6,2,11],[2,12,2,16],[8,12,9,14],[12,12,12,14],[15,0,15,14],[17,0,17,16],[19,0,19,3],[21,0,21,14],[23,0,23,4],[23,5,23,8],[23,10,23,12],[23,13,23,16],[26,5,27,17],[32,0,32,4],[32,5,32,6],[32,7,32,10],[32,11,32,12],[35,0,35,2],[35,8,35,9],[35,17,39,19],[39,0,39,7],[39,8,39,9],[39,10,39,13],[40,17,41,17],[40,18,41,18],[40,19,41,19],[42,0,42,12],[42,17,43,17],[42,18,43,18],[42,19,43,19],[44,17,45,17],[44,18,45,18],[44,19,45,19],[45,2,45,3],[45,5,45,7],[46,17,47,17],[46,18,47,18],[46,19,47,19],[48,0,48,5],[48,6,48,8],[48,17,49,17],[48,18,49,18],[48,19,49,19],[50,17,51,17],[50,18,51,18],[50,19,51,19],[52,17,53,17],[52,18,53,18],[52,19,53,19],[53,0,53,7],[53,8,53,9],[53,10,53,14],[54,0,54,11],[54,12,54,13],[54,17,55,17],[54,18,55,18],[54,19,55,19],[56,17,57,17],[56,18,57,18],[56,19,57,19],[57,0,57,16],[58,17,59,17],[58,18,59,18],[58,19,59,19],[59,0,59,16],[60,17,61,17],[60,18,61,18],[60,19,61,19],[62,0,62,16],[64,0,64,3],[69,1,69,4],[70,0,70,1],[70,2,70,7],[71,0,71,4],[71,5,71,12]]}
[]
[{"$nulls":6},"Commission Administrative"]
[{"$nulls":6},"Paritaire",{"$nulls":5},{"$f":"RECAPITULATIF!D7","v":"Locale"}]
[]
[]
[]
[]
[]
[{"$nulls":12},"Mme, Mr :"]
[]
[{"$nulls":12},"Grade :"]
[]
[{"$nulls":12},"Service :"]
[]
[]
["Votre ou vos représentant-e-s du personnel"]
[]
[{"$f":"RECAPITULATIF!B5","v":"Madame FERET Isabelle, Madame Anne PICHON et Monsieur Patrick GAUTIER"}]
[]
["SUD Santé Sociaux",{"$nulls":3},{"$f":"RECAPITULATIF!D21","v":35},"du:"]
[]
[{"$f":"RECAPITULATIF!B2","v":"Centre Hospitalier de Saint Malo"}]
[]
["siégeant auprès de la CAP",{"$nulls":4},{"$f":"RECAPITULATIF!D7","v":"Locale"},{"$nulls":3},"du :",{"$f":"RECAPITULATIF!D11","v":"2019-04-16"},null,null,"vous informe de votre :"]
[]
[]
[{"$nulls":5},"AVANCEMENT D’ECHELON"]
[]
[]
[]
[]
[]
["Vous passez à l’échelon :",{"$nulls":4},{"$f":"'GRILLE IADE G1'!B25","v":9},null,"Indice Majoré :",{"$nulls":3},{"$f":"'GRILLE IADE G1'!D25","v":621}]
[]
[]
["Date d'effet :",{"$nulls":4},"/",null,"/",{"$f":"RECAPITULATIF!D9","v":2019},{"$nulls":8},{"$f":"'GRILLE IADE G1'!B2","v":"I.A.D.E.\n\n1er Grade"}]
[]
[]
[]
["Ce qui représente un gain mensuel de :",{"$nulls":7},{"$f":"'GRILLE IADE G1'!D25-'GRILLE IADE G1'!D23","v":23},null,"points d'indice."]
[{"$nulls":17},{"$f":"'GRILLE IADE G1'!B7","v":"Echelon"},{"$f":"'GRILLE IADE G1'!C7","v":"Durée\n(en mois)"},{"$f":"'GRILLE IADE G1'!D7","v":"Indice Majoré"}]
[]
["Pour information, la valeur brute du point d'indice",{"$nulls":16},{"$f":"'GRILLE IADE G1'!B9","v":1},{"$f":"'GRILLE IADE G1'!C9","v":24},{"$f":"'GRILLE IADE G1'!D9","v":433}]
[]
[{"$nulls":17},{"$f":"'GRILLE IADE G1'!B11","v":2},{"$f":"'GRILLE IADE G1'!C11","v":24},{"$f":"'GRILLE IADE G1'!D11","v":452}]
["est de",null,{"$f":"RECAPITULATIF!D13","v":{"v":4.686,"d":"4.686 €"}},null,"au",{"$f":"RECAPITULATIF!D15","v":"2019-01-01"}]
[{"$nulls":17},{"$f":"'GRILLE IADE G1'!B13","v":3},{"$f":"'GRILLE IADE G1'!C13","v":24},{"$f":"'GRILLE IADE G1'!D13","v":473}]
[]
["Soit un gain net mensuel de :",{"$nulls":5},{"$f":"I40*C46*0.8315","v":{"v":89.617407,"d":"89.62 €"}},{"$nulls":10},{"$f":"'GRILLE IADE G1'!B15","v":4},{"$f":"'GRILLE IADE G1'!C15","v":24},{"$f":"'GRILLE IADE G1'!D15","v":498}]
[]
[{"$nulls":17},{"$f":"'GRILLE IADE G1'!B17","v":5},{"$f":"'GRILLE IADE G1'!C17","v":24},{"$f":"'GRILLE IADE G1'!D17","v":522}]
[]
[{"$nulls":17},{"$f":"'GRILLE IADE G1'!B19","v":6},{"$f":"'GRILLE IADE G1'!C19","v":42},{"$f":"'GRILLE IADE G1'!D19","v":546}]
["Vos représentant-e-s SUD Santé Sociaux ",{"$nulls":7},{"$f":"RECAPITULATIF!D21","v":35},null,"sont à votre disposition"]
["pour tous renseignements complémentaires au poste :",{"$nulls":11},{"$f":"RECAPITULATIF!D17","v":2886},{"$nulls":4},{"$f":"'GRILLE IADE G1'!B21","v":7},{"$f":"'GRILLE IADE G1'!C21","v":48},{"$f":"'GRILLE IADE G1'!D21","v":573}]
[]
[{"$nulls":17},{"$f":"'GRILLE IADE G1'!B23","v":8},{"$f":"'GRILLE IADE G1'!C23","v":48},{"$f":"'GRILLE IADE G1'!D23","v":598}]
[]
[{"$nulls":17},{"$f":"'GRILLE IADE G1'!B25","v":9},{"$f":"'GRILLE IADE G1'!C25","v":48},{"$f":"'GRILLE IADE G1'!D25","v":621}]
["Recevez toutes nos salutations."]
[{"$nulls":17},{"$f":"'GRILLE IADE G1'!B27","v":10},{"$f":"'GRILLE IADE G1'!C27","v":0},{"$f":"'GRILLE IADE G1'!D27","v":650}]
[]
[{"$f":"RECAPITULATIF!B5","v":"Madame FERET Isabelle, Madame Anne PICHON et Monsieur Patrick GAUTIER"}]
[]
["SUD Santé Sociaux",{"$nulls":3},{"$f":"RECAPITULATIF!D21","v":35}]
[]
[]
[]
[]
["Tél :",{"$f":"RECAPITULATIF!D19","v":{"v":299212886,"d":"02 99 21 28 86"}}]
["Mél :",null,{"$f":"RECAPITULATIF!C23","v":"sudsante@ch-stmalo.fr"}]
[{"$f":"RECAPITULATIF!B25","v":"Site Départemental Sud"},{"$nulls":4},{"$f":"RECAPITULATIF!D25","v":"http://www.sudsantesociaux35.org"}]

{"sheet":"IADE G1 Echelon 10","index":62,"n_rows":72,"n_cols":20,"rows_kept":72,"merged":[[1,6,1,16],[2,6,2,11],[2,12,2,16],[8,12,9,14],[12,12,12,14],[15,0,15,14],[17,0,17,16],[19,0,19,3],[21,0,21,14],[23,0,23,4],[23,5,23,8],[23,10,23,12],[23,13,23,16],[26,5,27,17],[32,0,32,4],[32,5,32,6],[32,7,32,10],[32,11,32,12],[35,0,35,2],[35,8,35,9],[35,17,39,19],[39,0,39,7],[39,8,39,9],[39,10,39,13],[40,17,41,17],[40,18,41,18],[40,19,41,19],[42,0,42,12],[42,17,43,17],[42,18,43,18],[42,19,43,19],[44,17,45,17],[44,18,45,18],[44,19,45,19],[45,2,45,3],[45,5,45,7],[46,17,47,17],[46,18,47,18],[46,19,47,19],[48,0,48,5],[48,6,48,8],[48,17,49,17],[48,18,49,18],[48,19,49,19],[50,17,51,17],[50,18,51,18],[50,19,51,19],[52,17,53,17],[52,18,53,18],[52,19,53,19],[53,0,53,7],[53,8,53,9],[53,10,53,14],[54,0,54,11],[54,12,54,13],[54,17,55,17],[54,18,55,18],[54,19,55,19],[56,17,57,17],[56,18,57,18],[56,19,57,19],[57,0,57,16],[58,17,59,17],[58,18,59,18],[58,19,59,19],[59,0,59,16],[60,17,61,17],[60,18,61,18],[60,19,61,19],[62,0,62,16],[64,0,64,3],[69,1,69,4],[70,0,70,1],[70,2,70,7],[71,0,71,4],[71,5,71,12]]}
[]
[{"$nulls":6},"Commission Administrative"]
[{"$nulls":6},"Paritaire",{"$nulls":5},{"$f":"RECAPITULATIF!D7","v":"Locale"}]
[]
[]
[]
[]
[]
[{"$nulls":12},"Mme, Mr :"]
[]
[{"$nulls":12},"Grade :"]
[]
[{"$nulls":12},"Service :"]
[]
[]
["Votre ou vos représentant-e-s du personnel"]
[]
[{"$f":"RECAPITULATIF!B5","v":"Madame FERET Isabelle, Madame Anne PICHON et Monsieur Patrick GAUTIER"}]
[]
["SUD Santé Sociaux",{"$nulls":3},{"$f":"RECAPITULATIF!D21","v":35},"du:"]
[]
[{"$f":"RECAPITULATIF!B2","v":"Centre Hospitalier de Saint Malo"}]
[]
["siégeant auprès de la CAP",{"$nulls":4},{"$f":"RECAPITULATIF!D7","v":"Locale"},{"$nulls":3},"du :",{"$f":"RECAPITULATIF!D11","v":"2019-04-16"},null,null,"vous informe de votre :"]
[]
[]
[{"$nulls":5},"AVANCEMENT D’ECHELON"]
[]
[]
[]
[]
[]
["Vous passez à l’échelon :",{"$nulls":4},{"$f":"'GRILLE IADE G1'!B27","v":10},null,"Indice Majoré :",{"$nulls":3},{"$f":"'GRILLE IADE G1'!D27","v":650}]
[]
[]
["Date d'effet :",{"$nulls":4},"/",null,"/",{"$f":"RECAPITULATIF!D9","v":2019},{"$nulls":8},{"$f":"'GRILLE IADE G1'!B2","v":"I.A.D.E.\n\n1er Grade"}]
[]
[]
[]
["Ce qui représente un gain mensuel de :",{"$nulls":7},{"$f":"'GRILLE IADE G1'!D27-'GRILLE IADE G1'!D25","v":29},null,"points d'indice."]
[{"$nulls":17},{"$f":"'GRILLE IADE G1'!B7","v":"Echelon"},{"$f":"'GRILLE IADE G1'!C7","v":"Durée\n(en mois)"},{"$f":"'GRILLE IADE G1'!D7","v":"Indice Majoré"}]
[]
["Pour information, la valeur brute du point d'indice",{"$nulls":16},{"$f":"'GRILLE IADE G1'!B9","v":1},{"$f":"'GRILLE IADE G1'!C9","v":24},{"$f":"'GRILLE IADE G1'!D9","v":433}]
[]
[{"$nulls":17},{"$f":"'GRILLE IADE G1'!B11","v":2},{"$f":"'GRILLE IADE G1'!C11","v":24},{"$f":"'GRILLE IADE G1'!D11","v":452}]
["est de",null,{"$f":"RECAPITULATIF!D13","v":{"v":4.686,"d":"4.686 €"}},null,"au",{"$f":"RECAPITULATIF!D15","v":"2019-01-01"}]
[{"$nulls":17},{"$f":"'GRILLE IADE G1'!B13","v":3},{"$f":"'GRILLE IADE G1'!C13","v":24},{"$f":"'GRILLE IADE G1'!D13","v":473}]
[]
["Soit un gain net mensuel de :",{"$nulls":5},{"$f":"I40*C46*0.8315","v":{"v":112.995861,"d":"113.00 €"}},{"$nulls":10},{"$f":"'GRILLE IADE G1'!B15","v":4},{"$f":"'GRILLE IADE G1'!C15","v":24},{"$f":"'GRILLE IADE G1'!D15","v":498}]
[]
[{"$nulls":17},{"$f":"'GRILLE IADE G1'!B17","v":5},{"$f":"'GRILLE IADE G1'!C17","v":24},{"$f":"'GRILLE IADE G1'!D17","v":522}]
[]
[{"$nulls":17},{"$f":"'GRILLE IADE G1'!B19","v":6},{"$f":"'GRILLE IADE G1'!C19","v":42},{"$f":"'GRILLE IADE G1'!D19","v":546}]
["Vos représentant-e-s SUD Santé Sociaux ",{"$nulls":7},{"$f":"RECAPITULATIF!D21","v":35},null,"sont à votre disposition"]
["pour tous renseignements complémentaires au poste :",{"$nulls":11},{"$f":"RECAPITULATIF!D17","v":2886},{"$nulls":4},{"$f":"'GRILLE IADE G1'!B21","v":7},{"$f":"'GRILLE IADE G1'!C21","v":48},{"$f":"'GRILLE IADE G1'!D21","v":573}]
[]
[{"$nulls":17},{"$f":"'GRILLE IADE G1'!B23","v":8},{"$f":"'GRILLE IADE G1'!C23","v":48},{"$f":"'GRILLE IADE G1'!D23","v":598}]
[]
[{"$nulls":17},{"$f":"'GRILLE IADE G1'!B25","v":9},{"$f":"'GRILLE IADE G1'!C25","v":48},{"$f":"'GRILLE IADE G1'!D25","v":621}]
["Recevez toutes nos salutations."]
[{"$nulls":17},{"$f":"'GRILLE IADE G1'!B27","v":10},{"$f":"'GRILLE IADE G1'!C27","v":0},{"$f":"'GRILLE IADE G1'!D27","v":650}]
[]
[{"$f":"RECAPITULATIF!B5","v":"Madame FERET Isabelle, Madame Anne PICHON et Monsieur Patrick GAUTIER"}]
[]
["SUD Santé Sociaux",{"$nulls":3},{"$f":"RECAPITULATIF!D21","v":35}]
[]
[]
[]
[]
["Tél :",{"$f":"RECAPITULATIF!D19","v":{"v":299212886,"d":"02 99 21 28 86"}}]
["Mél :",null,{"$f":"RECAPITULATIF!C23","v":"sudsante@ch-stmalo.fr"}]
[{"$f":"RECAPITULATIF!B25","v":"Site Départemental Sud"},{"$nulls":4},{"$f":"RECAPITULATIF!D25","v":"http://www.sudsantesociaux35.org"}]

{"sheet":"GRILLE IADE G2","index":63,"n_rows":19,"n_cols":4,"rows_kept":19,"merged":[[1,1,5,3],[6,1,7,1],[6,2,7,2],[6,3,7,3],[8,1,9,1],[8,2,9,2],[8,3,9,3],[10,1,11,1],[10,2,11,2],[10,3,11,3],[12,1,13,1],[12,2,13,2],[12,3,13,3],[14,1,15,1],[14,2,15,2],[14,3,15,3],[16,1,17,1],[16,2,17,2],[16,3,17,3],[18,1,19,1],[18,2,19,2],[18,3,19,3]]}
[]
[null,"I.A.D.E.\n\n2ème Grade"]
[]
[]
[]
[]
[null,"Echelon","Durée\n(en mois)","Indice Majoré"]
[]
[null,1,24,548]
[]
[null,2,36,564]
[]
[null,3,48,587]
[]
[null,4,48,607]
[]
[null,5,48,629]
[]
[null,6,null,664]

{"sheet":"IMP GRILLE IADE G2","index":64,"n_rows":6,"n_cols":2,"rows_kept":6,"merged":[[1,1,1,9],[3,1,3,9],[5,1,5,9]]}
[]
[null,"1) Imprimez autant de feuilles que d'agents concernés."]
[]
[null,"2) Pliez en 3 au niveau du repère, deux petits traits noirs."]
[]
[null,"3) Inserrez ce courrier dans une enveloppe 110 X 220 à fenêtre."]

{"sheet":"IADE G2 Echelon 2","index":65,"n_rows":72,"n_cols":20,"rows_kept":72,"merged":[[1,6,1,16],[2,6,2,11],[2,12,2,16],[8,12,9,14],[12,12,12,14],[15,0,15,14],[17,0,17,16],[19,0,19,3],[21,0,21,14],[23,0,23,4],[23,5,23,8],[23,10,23,12],[23,13,23,16],[26,5,27,17],[32,0,32,4],[32,5,32,6],[32,7,32,10],[32,11,32,12],[35,0,35,2],[35,8,35,9],[35,17,39,19],[39,0,39,7],[39,8,39,9],[39,10,39,13],[40,17,41,17],[40,18,41,18],[40,19,41,19],[42,0,42,12],[42,17,43,17],[42,18,43,18],[42,19,43,19],[44,17,45,17],[44,18,45,18],[44,19,45,19],[45,2,45,3],[45,5,45,7],[46,17,47,17],[46,18,47,18],[46,19,47,19],[48,0,48,5],[48,6,48,8],[48,17,49,17],[48,18,49,18],[48,19,49,19],[50,17,51,17],[50,18,51,18],[50,19,51,19],[52,17,53,17],[52,18,53,18],[52,19,53,19],[53,0,53,7],[53,8,53,9],[53,10,53,14],[54,0,54,11],[54,12,54,13],[57,0,57,16],[59,0,59,16],[62,0,62,16],[64,0,64,3],[69,1,69,4],[70,0,70,1],[70,2,70,7],[71,0,71,4],[71,5,71,12]]}
[]
[{"$nulls":6},"Commission Administrative"]
[{"$nulls":6},"Paritaire",{"$nulls":5},{"$f":"RECAPITULATIF!D7","v":"Locale"}]
[]
[]
[]
[]
[]
[{"$nulls":12},"Mme, Mr :"]
[]
[{"$nulls":12},"Grade :"]
[]
[{"$nulls":12},"Service :"]
[]
[]
["Votre ou vos représentant-e-s du personnel"]
[]
[{"$f":"RECAPITULATIF!B5","v":"Madame FERET Isabelle, Madame Anne PICHON et Monsieur Patrick GAUTIER"}]
[]
["SUD Santé Sociaux",{"$nulls":3},{"$f":"RECAPITULATIF!D21","v":35},"du:"]
[]
[{"$f":"RECAPITULATIF!B2","v":"Centre Hospitalier de Saint Malo"}]
[]
["siégeant auprès de la CAP",{"$nulls":4},{"$f":"RECAPITULATIF!D7","v":"Locale"},{"$nulls":3},"du :",{"$f":"RECAPITULATIF!D11","v":"2019-04-16"},null,null,"vous informe de votre :"]
[]
[]
[{"$nulls":5},"AVANCEMENT D’ECHELON"]
[]
[]
[]
[]
[]
["Vous passez à l’échelon :",{"$nulls":4},{"$f":"'GRILLE IADE G2'!B11","v":2},null,"Indice Majoré :",{"$nulls":3},{"$f":"'GRILLE IADE G2'!D11","v":564}]
[]
[]
["Date d'effet :",{"$nulls":4},"/",null,"/",{"$f":"RECAPITULATIF!D9","v":2019},{"$nulls":8},{"$f":"'GRILLE IADE G2'!B2","v":"I.A.D.E.\n\n2ème Grade"}]
[]
[]
[]
["Ce qui représente un gain mensuel de :",{"$nulls":7},{"$f":"'GRILLE IADE G2'!D11-'GRILLE IADE G2'!D9","v":16},null,"points d'indice."]
[{"$nulls":17},{"$f":"'GRILLE IADE G2'!B7","v":"Echelon"},{"$f":"'GRILLE IADE G2'!C7","v":"Durée\n(en mois)"},{"$f":"'GRILLE IADE G2'!D7","v":"Indice Majoré"}]
[]
["Pour information, la valeur brute du point d'indice",{"$nulls":16},{"$f":"'GRILLE IADE G2'!B9","v":1},{"$f":"'GRILLE IADE G2'!C9","v":24},{"$f":"'GRILLE IADE G2'!D9","v":548}]
[]
[{"$nulls":17},{"$f":"'GRILLE IADE G2'!B11","v":2},{"$f":"'GRILLE IADE G2'!C11","v":36},{"$f":"'GRILLE IADE G2'!D11","v":564}]
["est de",null,{"$f":"RECAPITULATIF!D13","v":{"v":4.686,"d":"4.686 €"}},null,"au",{"$f":"RECAPITULATIF!D15","v":"2019-01-01"}]
[{"$nulls":17},{"$f":"'GRILLE IADE G2'!B13","v":3},{"$f":"'GRILLE IADE G2'!C13","v":48},{"$f":"'GRILLE IADE G2'!D13","v":587}]
[]
["Soit un gain net mensuel de :",{"$nulls":5},{"$f":"I40*C46*0.8315","v":{"v":62.342544000000004,"d":"62.34 €"}},{"$nulls":10},{"$f":"'GRILLE IADE G2'!B15","v":4},{"$f":"'GRILLE IADE G2'!C15","v":48},{"$f":"'GRILLE IADE G2'!D15","v":607}]
[]
[{"$nulls":17},{"$f":"'GRILLE IADE G2'!B17","v":5},{"$f":"'GRILLE IADE G2'!C17","v":48},{"$f":"'GRILLE IADE G2'!D17","v":629}]
[]
[{"$nulls":17},{"$f":"'GRILLE IADE G2'!B19","v":6},{"$f":"'GRILLE IADE G2'!C19","v":0},{"$f":"'GRILLE IADE G2'!D19","v":664}]
["Vos représentant-e-s SUD Santé Sociaux ",{"$nulls":7},{"$f":"RECAPITULATIF!D21","v":35},null,"sont à votre disposition"]
["pour tous renseignements complémentaires au poste :",{"$nulls":11},{"$f":"RECAPITULATIF!D17","v":2886}]
[]
[]
[]
[]
["Recevez toutes nos salutations."]
[]
[]
[{"$f":"RECAPITULATIF!B5","v":"Madame FERET Isabelle, Madame Anne PICHON et Monsieur Patrick GAUTIER"}]
[]
["SUD Santé Sociaux",{"$nulls":3},{"$f":"RECAPITULATIF!D21","v":35}]
[]
[]
[]
[]
["Tél :",{"$f":"RECAPITULATIF!D19","v":{"v":299212886,"d":"02 99 21 28 86"}}]
["Mél :",null,{"$f":"RECAPITULATIF!C23","v":"sudsante@ch-stmalo.fr"}]
[{"$f":"RECAPITULATIF!B25","v":"Site Départemental Sud"},{"$nulls":4},{"$f":"RECAPITULATIF!D25","v":"http://www.sudsantesociaux35.org"}]

{"sheet":"IADE G2 Echelon 3","index":66,"n_rows":72,"n_cols":20,"rows_kept":72,"merged":[[1,6,1,16],[2,6,2,11],[2,12,2,16],[8,12,9,14],[12,12,12,14],[15,0,15,14],[17,0,17,16],[19,0,19,3],[21,0,21,14],[23,0,23,4],[23,5,23,8],[23,10,23,12],[23,13,23,16],[26,5,27,17],[32,0,32,4],[32,5,32,6],[32,7,32,10],[32,11,32,12],[35,0,35,2],[35,8,35,9],[35,17,39,19],[39,0,39,7],[39,8,39,9],[39,10,39,13],[40,17,41,17],[40,18,41,18],[40,19,41,19],[42,0,42,12],[42,17,43,17],[42,18,43,18],[42,19,43,19],[44,17,45,17],[44,18,45,18],[44,19,45,19],[45,2,45,3],[45,5,45,7],[46,17,47,17],[46,18,47,18],[46,19,47,19],[48,0,48,5],[48,6,48,8],[48,17,49,17],[48,18,49,18],[48,19,49,19],[50,17,51,17],[50,18,51,18],[50,19,51,19],[52,17,53,17],[52,18,53,18],[52,19,53,19],[53,0,53,7],[53,8,53,9],[53,10,53,14],[54,0,54,11],[54,12,54,13],[59,0,59,16],[62,0,62,16],[64,0,64,3],[69,1,69,4],[70,0,70,1],[70,2,70,7],[71,0,71,4],[71,5,71,12]]}
[]
[{"$nulls":6},"Commission Administrative"]
[{"$nulls":6},"Paritaire",{"$nulls":5},{"$f":"RECAPITULATIF!D7","v":"Locale"}]
[]
[]
[]
[]
[]
[{"$nulls":12},"Mme, Mr :"]
[]
[{"$nulls":12},"Grade :"]
[]
[{"$nulls":12},"Service :"]
[]
[]
["Votre ou vos représentant-e-s du personnel"]
[]
[{"$f":"RECAPITULATIF!B5","v":"Madame FERET Isabelle, Madame Anne PICHON et Monsieur Patrick GAUTIER"}]
[]
["SUD Santé Sociaux",{"$nulls":3},{"$f":"RECAPITULATIF!D21","v":35},"du:"]
[]
[{"$f":"RECAPITULATIF!B2","v":"Centre Hospitalier de Saint Malo"}]
[]
["siégeant auprès de la CAP",{"$nulls":4},{"$f":"RECAPITULATIF!D7","v":"Locale"},{"$nulls":3},"du :",{"$f":"RECAPITULATIF!D11","v":"2019-04-16"},null,null,"vous informe de votre :"]
[]
[]
[{"$nulls":5},"AVANCEMENT D’ECHELON"]
[]
[]
[]
[]
[]
["Vous passez à l’échelon :",{"$nulls":4},{"$f":"'GRILLE IADE G2'!B13","v":3},null,"Indice Majoré :",{"$nulls":3},{"$f":"'GRILLE IADE G2'!D13","v":587}]
[]
[]
["Date d'effet :",{"$nulls":4},"/",null,"/",{"$f":"RECAPITULATIF!D9","v":2019},{"$nulls":8},{"$f":"'GRILLE IADE G2'!B2","v":"I.A.D.E.\n\n2ème Grade"}]
[]
[]
[]
["Ce qui représente un gain mensuel de :",{"$nulls":7},{"$f":"'GRILLE IADE G2'!D13-'GRILLE IADE G2'!D11","v":23},null,"points d'indice."]
[{"$nulls":17},{"$f":"'GRILLE IADE G2'!B7","v":"Echelon"},{"$f":"'GRILLE IADE G2'!C7","v":"Durée\n(en mois)"},{"$f":"'GRILLE IADE G2'!D7","v":"Indice Majoré"}]
[]
["Pour information, la valeur brute du point d'indice",{"$nulls":16},{"$f":"'GRILLE IADE G2'!B9","v":1},{"$f":"'GRILLE IADE G2'!C9","v":24},{"$f":"'GRILLE IADE G2'!D9","v":548}]
[]
[{"$nulls":17},{"$f":"'GRILLE IADE G2'!B11","v":2},{"$f":"'GRILLE IADE G2'!C11","v":36},{"$f":"'GRILLE IADE G2'!D11","v":564}]
["est de",null,{"$f":"RECAPITULATIF!D13","v":{"v":4.686,"d":"4.686 €"}},null,"au",{"$f":"RECAPITULATIF!D15","v":"2019-01-01"}]
[{"$nulls":17},{"$f":"'GRILLE IADE G2'!B13","v":3},{"$f":"'GRILLE IADE G2'!C13","v":48},{"$f":"'GRILLE IADE G2'!D13","v":587}]
[]
["Soit un gain net mensuel de :",{"$nulls":5},{"$f":"I40*C46*0.8315","v":{"v":89.617407,"d":"89.62 €"}},{"$nulls":10},{"$f":"'GRILLE IADE G2'!B15","v":4},{"$f":"'GRILLE IADE G2'!C15","v":48},{"$f":"'GRILLE IADE G2'!D15","v":607}]
[]
[{"$nulls":17},{"$f":"'GRILLE IADE G2'!B17","v":5},{"$f":"'GRILLE IADE G2'!C17","v":48},{"$f":"'GRILLE IADE G2'!D17","v":629}]
[]
[{"$nulls":17},{"$f":"'GRILLE IADE G2'!B19","v":6},{"$f":"'GRILLE IADE G2'!C19","v":0},{"$f":"'GRILLE IADE G2'!D19","v":664}]
["Vos représentant-e-s SUD Santé Sociaux ",{"$nulls":7},{"$f":"RECAPITULATIF!D21","v":35},null,"sont à votre disposition"]
["pour tous renseignements complémentaires au poste :",{"$nulls":11},{"$f":"RECAPITULATIF!D17","v":2886}]
[]
[]
[]
[]
["Recevez toutes nos salutations."]
[]
[]
[{"$f":"RECAPITULATIF!B5","v":"Madame FERET Isabelle, Madame Anne PICHON et Monsieur Patrick GAUTIER"}]
[]
["SUD Santé Sociaux",{"$nulls":3},{"$f":"RECAPITULATIF!D21","v":35}]
[]
[]
[]
[]
["Tél :",{"$f":"RECAPITULATIF!D19","v":{"v":299212886,"d":"02 99 21 28 86"}}]
["Mél :",null,{"$f":"RECAPITULATIF!C23","v":"sudsante@ch-stmalo.fr"}]
[{"$f":"RECAPITULATIF!B25","v":"Site Départemental Sud"},{"$nulls":4},{"$f":"RECAPITULATIF!D25","v":"http://www.sudsantesociaux35.org"}]

{"sheet":"IADE G2 Echelon 4","index":67,"n_rows":72,"n_cols":20,"rows_kept":72,"merged":[[1,6,1,16],[2,6,2,11],[2,12,2,16],[8,12,9,14],[12,12,12,14],[15,0,15,14],[17,0,17,16],[19,0,19,3],[21,0,21,14],[23,0,23,4],[23,5,23,8],[23,10,23,12],[23,13,23,16],[26,5,27,17],[32,0,32,4],[32,5,32,6],[32,7,32,10],[32,11,32,12],[35,0,35,2],[35,8,35,9],[35,17,39,19],[39,0,39,7],[39,8,39,9],[39,10,39,13],[40,17,41,17],[40,18,41,18],[40,19,41,19],[42,0,42,12],[42,17,43,17],[42,18,43,18],[42,19,43,19],[44,17,45,17],[44,18,45,18],[44,19,45,19],[45,2,45,3],[45,5,45,7],[46,17,47,17],[46,18,47,18],[46,19,47,19],[48,0,48,5],[48,6,48,8],[48,17,49,17],[48,18,49,18],[48,19,49,19],[50,17,51,17],[50,18,51,18],[50,19,51,19],[52,17,53,17],[52,18,53,18],[52,19,53,19],[53,0,53,7],[53,8,53,9],[53,10,53,14],[54,0,54,11],[54,12,54,13],[57,0,57,16],[59,0,59,16],[62,0,62,16],[64,0,64,3],[69,1,69,4],[70,0,70,1],[70,2,70,7],[71,0,71,4],[71,5,71,12]]}
[]
[{"$nulls":6},"Commission Administrative"]
[{"$nulls":6},"Paritaire",{"$nulls":5},{"$f":"RECAPITULATIF!D7","v":"Locale"}]
[]
[]
[]
[]
[]
[{"$nulls":12},"Mme, Mr :"]
[]
[{"$nulls":12},"Grade :"]
[]
[{"$nulls":12},"Service :"]
[]
[]
["Votre ou vos représentant-e-s du personnel"]
[]
[{"$f":"RECAPITULATIF!B5","v":"Madame FERET Isabelle, Madame Anne PICHON et Monsieur Patrick GAUTIER"}]
[]
["SUD Santé Sociaux",{"$nulls":3},{"$f":"RECAPITULATIF!D21","v":35},"du:"]
[]
[{"$f":"RECAPITULATIF!B2","v":"Centre Hospitalier de Saint Malo"}]
[]
["siégeant auprès de la CAP",{"$nulls":4},{"$f":"RECAPITULATIF!D7","v":"Locale"},{"$nulls":3},"du :",{"$f":"RECAPITULATIF!D11","v":"2019-04-16"},null,null,"vous informe de votre :"]
[]
[]
[{"$nulls":5},"AVANCEMENT D’ECHELON"]
[]
[]
[]
[]
[]
["Vous passez à l’échelon :",{"$nulls":4},{"$f":"'GRILLE IADE G2'!B15","v":4},null,"Indice Majoré :",{"$nulls":3},{"$f":"'GRILLE IADE G2'!D15","v":607}]
[]
[]
["Date d'effet :",{"$nulls":4},"/",null,"/",{"$f":"RECAPITULATIF!D9","v":2019},{"$nulls":8},{"$f":"'GRILLE IADE G2'!B2","v":"I.A.D.E.\n\n2ème Grade"}]
[]
[]
[]
["Ce qui représente un gain mensuel de :",{"$nulls":7},{"$f":"'GRILLE IADE G2'!D15-'GRILLE IADE G2'!D13","v":20},null,"points d'indice."]
[{"$nulls":17},{"$f":"'GRILLE IADE G2'!B7","v":"Echelon"},{"$f":"'GRILLE IADE G2'!C7","v":"Durée\n(en mois)"},{"$f":"'GRILLE IADE G2'!D7","v":"Indice Majoré"}]
[]
["Pour information, la valeur brute du point d'indice",{"$nulls":16},{"$f":"'GRILLE IADE G2'!B9","v":1},{"$f":"'GRILLE IADE G2'!C9","v":24},{"$f":"'GRILLE IADE G2'!D9","v":548}]
[]
[{"$nulls":17},{"$f":"'GRILLE IADE G2'!B11","v":2},{"$f":"'GRILLE IADE G2'!C11","v":36},{"$f":"'GRILLE IADE G2'!D11","v":564}]
["est de",null,{"$f":"RECAPITULATIF!D13","v":{"v":4.686,"d":"4.686 €"}},null,"au",{"$f":"RECAPITULATIF!D15","v":"2019-01-01"}]
[{"$nulls":17},{"$f":"'GRILLE IADE G2'!B13","v":3},{"$f":"'GRILLE IADE G2'!C13","v":48},{"$f":"'GRILLE IADE G2'!D13","v":587}]
[]
["Soit un gain net mensuel de :",{"$nulls":5},{"$f":"I40*C46*0.8315","v":{"v":77.92818,"d":"77.93 €"}},{"$nulls":10},{"$f":"'GRILLE IADE G2'!B15","v":4},{"$f":"'GRILLE IADE G2'!C15","v":48},{"$f":"'GRILLE IADE G2'!D15","v":607}]
[]
[{"$nulls":17},{"$f":"'GRILLE IADE G2'!B17","v":5},{"$f":"'GRILLE IADE G2'!C17","v":48},{"$f":"'GRILLE IADE G2'!D17","v":629}]
[]
[{"$nulls":17},{"$f":"'GRILLE IADE G2'!B19","v":6},{"$f":"'GRILLE IADE G2'!C19","v":0},{"$f":"'GRILLE IADE G2'!D19","v":664}]
["Vos représentant-e-s SUD Santé Sociaux ",{"$nulls":7},{"$f":"RECAPITULATIF!D21","v":35},null,"sont à votre disposition"]
["pour tous renseignements complémentaires au poste :",{"$nulls":11},{"$f":"RECAPITULATIF!D17","v":2886}]
[]
[]
[]
[]
["Recevez toutes nos salutations."]
[]
[]
[{"$f":"RECAPITULATIF!B5","v":"Madame FERET Isabelle, Madame Anne PICHON et Monsieur Patrick GAUTIER"}]
[]
["SUD Santé Sociaux",{"$nulls":3},{"$f":"RECAPITULATIF!D21","v":35}]
[]
[]
[]
[]
["Tél :",{"$f":"RECAPITULATIF!D19","v":{"v":299212886,"d":"02 99 21 28 86"}}]
["Mél :",null,{"$f":"RECAPITULATIF!C23","v":"sudsante@ch-stmalo.fr"}]
[{"$f":"RECAPITULATIF!B25","v":"Site Départemental Sud"},{"$nulls":4},{"$f":"RECAPITULATIF!D25","v":"http://www.sudsantesociaux35.org"}]

{"sheet":"IADE G2 Echelon 5","index":68,"n_rows":72,"n_cols":20,"rows_kept":72,"merged":[[1,6,1,16],[2,6,2,11],[2,12,2,16],[8,12,9,14],[12,12,12,14],[15,0,15,14],[17,0,17,16],[19,0,19,3],[21,0,21,14],[23,0,23,4],[23,5,23,8],[23,10,23,12],[23,13,23,16],[26,5,27,17],[32,0,32,4],[32,5,32,6],[32,7,32,10],[32,11,32,12],[35,0,35,2],[35,8,35,9],[35,17,39,19],[39,0,39,7],[39,8,39,9],[39,10,39,13],[40,17,41,17],[40,18,41,18],[40,19,41,19],[42,0,42,12],[42,17,43,17],[42,18,43,18],[42,19,43,19],[44,17,45,17],[44,18,45,18],[44,19,45,19],[45,2,45,3],[45,5,45,7],[46,17,47,17],[46,18,47,18],[46,19,47,19],[48,0,48,5],[48,6,48,8],[48,17,49,17],[48,18,49,18],[48,19,49,19],[50,17,51,17],[50,18,51,18],[50,19,51,19],[52,17,53,17],[52,18,53,18],[52,19,53,19],[53,0,53,7],[53,8,53,9],[53,10,53,14],[54,0,54,11],[54,12,54,13],[57,0,57,16],[59,0,59,16],[62,0,62,16],[64,0,64,3],[69,1,69,4],[70,0,70,1],[70,2,70,7],[71,0,71,4],[71,5,71,12]]}
[]
[{"$nulls":6},"Commission Administrative"]
[{"$nulls":6},"Paritaire",{"$nulls":5},{"$f":"RECAPITULATIF!D7","v":"Locale"}]
[]
[]
[]
[]
[]
[{"$nulls":12},"Mme, Mr :"]
[]
[{"$nulls":12},"Grade :"]
[]
[{"$nulls":12},"Service :"]
[]
[]
["Votre ou vos représentant-e-s du personnel"]
[]
[{"$f":"RECAPITULATIF!B5","v":"Madame FERET Isabelle, Madame Anne PICHON et Monsieur Patrick GAUTIER"}]
[]
["SUD Santé Sociaux",{"$nulls":3},{"$f":"RECAPITULATIF!D21","v":35},"du:"]
[]
[{"$f":"RECAPITULATIF!B2","v":"Centre Hospitalier de Saint Malo"}]
[]
["siégeant auprès de la CAP",{"$nulls":4},{"$f":"RECAPITULATIF!D7","v":"Locale"},{"$nulls":3},"du :",{"$f":"RECAPITULATIF!D11","v":"2019-04-16"},null,null,"vous informe de votre :"]
[]
[]
[{"$nulls":5},"AVANCEMENT D’ECHELON"]
[]
[]
[]
[]
[]
["Vous passez à l’échelon :",{"$nulls":4},{"$f":"'GRILLE IADE G2'!B17","v":5},null,"Indice Majoré :",{"$nulls":3},{"$f":"'GRILLE IADE G2'!D17","v":629}]
[]
[]
["Date d'effet :",{"$nulls":4},"/",null,"/",{"$f":"RECAPITULATIF!D9","v":2019},{"$nulls":8},{"$f":"'GRILLE IADE G2'!B2","v":"I.A.D.E.\n\n2ème Grade"}]
[]
[]
[]
["Ce qui représente un gain mensuel de :",{"$nulls":7},{"$f":"'GRILLE IADE G2'!D17-'GRILLE IADE G2'!D15","v":22},null,"points d'indice."]
[{"$nulls":17},{"$f":"'GRILLE IADE G2'!B7","v":"Echelon"},{"$f":"'GRILLE IADE G2'!C7","v":"Durée\n(en mois)"},{"$f":"'GRILLE IADE G2'!D7","v":"Indice Majoré"}]
[]
["Pour information, la valeur brute du point d'indice",{"$nulls":16},{"$f":"'GRILLE IADE G2'!B9","v":1},{"$f":"'GRILLE IADE G2'!C9","v":24},{"$f":"'GRILLE IADE G2'!D9","v":548}]
[]
[{"$nulls":17},{"$f":"'GRILLE IADE G2'!B11","v":2},{"$f":"'GRILLE IADE G2'!C11","v":36},{"$f":"'GRILLE IADE G2'!D11","v":564}]
["est de",null,{"$f":"RECAPITULATIF!D13","v":{"v":4.686,"d":"4.686 €"}},null,"au",{"$f":"RECAPITULATIF!D15","v":"2019-01-01"}]
[{"$nulls":17},{"$f":"'GRILLE IADE G2'!B13","v":3},{"$f":"'GRILLE IADE G2'!C13","v":48},{"$f":"'GRILLE IADE G2'!D13","v":587}]
[]
["Soit un gain net mensuel de :",{"$nulls":5},{"$f":"I40*C46*0.8315","v":{"v":85.720998,"d":"85.72 €"}},{"$nulls":10},{"$f":"'GRILLE IADE G2'!B15","v":4},{"$f":"'GRILLE IADE G2'!C15","v":48},{"$f":"'GRILLE IADE G2'!D15","v":607}]
[]
[{"$nulls":17},{"$f":"'GRILLE IADE G2'!B17","v":5},{"$f":"'GRILLE IADE G2'!C17","v":48},{"$f":"'GRILLE IADE G2'!D17","v":629}]
[]
[{"$nulls":17},{"$f":"'GRILLE IADE G2'!B19","v":6},{"$f":"'GRILLE IADE G2'!C19","v":0},{"$f":"'GRILLE IADE G2'!D19","v":664}]
["Vos représentant-e-s SUD Santé Sociaux ",{"$nulls":7},{"$f":"RECAPITULATIF!D21","v":35},null,"sont à votre disposition"]
["pour tous renseignements complémentaires au poste :",{"$nulls":11},{"$f":"RECAPITULATIF!D17","v":2886}]
[]
[]
[]
[]
["Recevez toutes nos salutations."]
[]
[]
[{"$f":"RECAPITULATIF!B5","v":"Madame FERET Isabelle, Madame Anne PICHON et Monsieur Patrick GAUTIER"}]
[]
["SUD Santé Sociaux",{"$nulls":3},{"$f":"RECAPITULATIF!D21","v":35}]
[]
[]
[]
[]
["Tél :",{"$f":"RECAPITULATIF!D19","v":{"v":299212886,"d":"02 99 21 28 86"}}]
["Mél :",null,{"$f":"RECAPITULATIF!C23","v":"sudsante@ch-stmalo.fr"}]
[{"$f":"RECAPITULATIF!B25","v":"Site Départemental Sud"},{"$nulls":4},{"$f":"RECAPITULATIF!D25","v":"http://www.sudsantesociaux35.org"}]

{"sheet":"IADE G2 Echelon 6","index":69,"n_rows":72,"n_cols":20,"rows_kept":72,"merged":[[1,6,1,16],[2,6,2,11],[2,12,2,16],[8,12,9,14],[12,12,12,14],[15,0,15,14],[17,0,17,16],[19,0,19,3],[21,0,21,14],[23,0,23,4],[23,5,23,8],[23,10,23,12],[23,13,23,16],[26,5,27,17],[32,0,32,4],[32,5,32,6],[32,7,32,10],[32,11,32,12],[35,0,35,2],[35,8,35,9],[35,17,39,19],[39,0,39,7],[39,8,39,9],[39,10,39,13],[40,17,41,17],[40,18,41,18],[40,19,41,19],[42,0,42,12],[42,17,43,17],[42,18,43,18],[42,19,43,19],[44,17,45,17],[44,18,45,18],[44,19,45,19],[45,2,45,3],[45,5,45,7],[46,17,47,17],[46,18,47,18],[46,19,47,19],[48,0,48,5],[48,6,48,8],[48,17,49,17],[48,18,49,18],[48,19,49,19],[50,17,51,17],[50,18,51,18],[50,19,51,19],[52,17,53,17],[52,18,53,18],[52,19,53,19],[53,0,53,7],[53,8,53,9],[53,10,53,14],[54,0,54,11],[54,12,54,13],[57,0,57,16],[59,0,59,16],[62,0,62,16],[64,0,64,3],[69,1,69,4],[70,0,70,1],[70,2,70,7],[71,0,71,4],[71,5,71,12]]}
[]
[{"$nulls":6},"Commission Administrative"]
[{"$nulls":6},"Paritaire",{"$nulls":5},{"$f":"RECAPITULATIF!D7","v":"Locale"}]
[]
[]
[]
[]
[]
[{"$nulls":12},"Mme, Mr :"]
[]
[{"$nulls":12},"Grade :"]
[]
[{"$nulls":12},"Service :"]
[]
[]
["Votre ou vos représentant-e-s du personnel"]
[]
[{"$f":"RECAPITULATIF!B5","v":"Madame FERET Isabelle, Madame Anne PICHON et Monsieur Patrick GAUTIER"}]
[]
["SUD Santé Sociaux",{"$nulls":3},{"$f":"RECAPITULATIF!D21","v":35},"du:"]
[]
[{"$f":"RECAPITULATIF!B2","v":"Centre Hospitalier de Saint Malo"}]
[]
["siégeant auprès de la CAP",{"$nulls":4},{"$f":"RECAPITULATIF!D7","v":"Locale"},{"$nulls":3},"du :",{"$f":"RECAPITULATIF!D11","v":"2019-04-16"},null,null,"vous informe de votre :"]
[]
[]
[{"$nulls":5},"AVANCEMENT D’ECHELON"]
[]
[]
[]
[]
[]
["Vous passez à l’échelon :",{"$nulls":4},{"$f":"'GRILLE IADE G2'!B19","v":6},null,"Indice Majoré :",{"$nulls":3},{"$f":"'GRILLE IADE G2'!D19","v":664}]
[]
[]
["Date d'effet :",{"$nulls":4},"/",null,"/",{"$f":"RECAPITULATIF!D9","v":2019},{"$nulls":8},{"$f":"'GRILLE IADE G2'!B2","v":"I.A.D.E.\n\n2ème Grade"}]
[]
[]
[]
["Ce qui représente un gain mensuel de :",{"$nulls":7},{"$f":"'GRILLE IADE G2'!D19-'GRILLE IADE G2'!D17","v":35},null,"points d'indice."]
[{"$nulls":17},{"$f":"'GRILLE IADE G2'!B7","v":"Echelon"},{"$f":"'GRILLE IADE G2'!C7","v":"Durée\n(en mois)"},{"$f":"'GRILLE IADE G2'!D7","v":"Indice Majoré"}]
[]
["Pour information, la valeur brute du point d'indice",{"$nulls":16},{"$f":"'GRILLE IADE G2'!B9","v":1},{"$f":"'GRILLE IADE G2'!C9","v":24},{"$f":"'GRILLE IADE G2'!D9","v":548}]
[]
[{"$nulls":17},{"$f":"'GRILLE IADE G2'!B11","v":2},{"$f":"'GRILLE IADE G2'!C11","v":36},{"$f":"'GRILLE IADE G2'!D11","v":564}]
["est de",null,{"$f":"RECAPITULATIF!D13","v":{"v":4.686,"d":"4.686 €"}},null,"au",{"$f":"RECAPITULATIF!D15","v":"2019-01-01"}]
[{"$nulls":17},{"$f":"'GRILLE IADE G2'!B13","v":3},{"$f":"'GRILLE IADE G2'!C13","v":48},{"$f":"'GRILLE IADE G2'!D13","v":587}]
[]
["Soit un gain net mensuel de :",{"$nulls":5},{"$f":"I40*C46*0.8315","v":{"v":136.374315,"d":"136.37 €"}},{"$nulls":10},{"$f":"'GRILLE IADE G2'!B15","v":4},{"$f":"'GRILLE IADE G2'!C15","v":48},{"$f":"'GRILLE IADE G2'!D15","v":607}]
[]
[{"$nulls":17},{"$f":"'GRILLE IADE G2'!B17","v":5},{"$f":"'GRILLE IADE G2'!C17","v":48},{"$f":"'GRILLE IADE G2'!D17","v":629}]
[]
[{"$nulls":17},{"$f":"'GRILLE IADE G2'!B19","v":6},{"$f":"'GRILLE IADE G2'!C19","v":0},{"$f":"'GRILLE IADE G2'!D19","v":664}]
["Vos représentant-e-s SUD Santé Sociaux ",{"$nulls":7},{"$f":"RECAPITULATIF!D21","v":35},null,"sont à votre disposition"]
["pour tous renseignements complémentaires au poste :",{"$nulls":11},{"$f":"RECAPITULATIF!D17","v":2886}]
[]
[]
[]
[]
["Recevez toutes nos salutations."]
[]
[]
[{"$f":"RECAPITULATIF!B5","v":"Madame FERET Isabelle, Madame Anne PICHON et Monsieur Patrick GAUTIER"}]
[]
["SUD Santé Sociaux",{"$nulls":3},{"$f":"RECAPITULATIF!D21","v":35}]
[]
[]
[]
[]
["Tél :",{"$f":"RECAPITULATIF!D19","v":{"v":299212886,"d":"02 99 21 28 86"}}]
["Mél :",null,{"$f":"RECAPITULATIF!C23","v":"sudsante@ch-stmalo.fr"}]
[{"$f":"RECAPITULATIF!B25","v":"Site Départemental Sud"},{"$nulls":4},{"$f":"RECAPITULATIF!D25","v":"http://www.sudsantesociaux35.org"}]

{"sheet":"GRILLE IBODE CN EXT","index":70,"n_rows":23,"n_cols":4,"rows_kept":23,"merged":[[1,1,5,3],[6,1,7,1],[6,2,7,2],[6,3,7,3],[8,1,9,1],[8,2,9,2],[8,3,9,3],[10,1,11,1],[10,2,11,2],[10,3,11,3],[12,1,13,1],[12,2,13,2],[12,3,13,3],[14,1,15,1],[14,2,15,2],[14,3,15,3],[16,1,17,1],[16,2,17,2],[16,3,17,3],[18,1,19,1],[18,2,19,2],[18,3,19,3],[20,1,21,1],[20,2,21,2],[20,3,21,3],[22,1,23,1],[22,2,23,2],[22,3,23,3]]}
[]
[null,"Infirmier de Bloc Opératoire Classe Normale\nPuéricultrice Classe Normale\n\nExtinction"]
[]
[]
[]
[]
[null,"Echelon","Durée\n(en mois)","Indice\nMajoré"]
[]
[null,1,12,353]
[]
[null,2,24,379]
[]
[null,3,36,398]
[]
[null,4,36,423]
[]
[null,5,48,442]
[]
[null,6,48,469]
[]
[null,7,48,499]
[]
[null,8,null,525]

{"sheet":"IMP GRILLE IBODE CN EXT","index":71,"n_rows":6,"n_cols":2,"rows_kept":6,"merged":[[1,1,1,9],[3,1,3,9],[5,1,5,9]]}
[]
[null,"1) Imprimez autant de feuilles que d'agents concernés."]
[]
[null,"2) Pliez en 3 au niveau du repère, deux petits traits noirs."]
[]
[null,"3) Inserrez ce courrier dans une enveloppe 110 X 220 à fenêtre."]

{"sheet":"IBODE CN EXT Echelon 2","index":72,"n_rows":72,"n_cols":20,"rows_kept":72,"merged":[[1,6,1,16],[2,6,2,11],[2,12,2,16],[8,12,9,14],[12,12,12,14],[15,0,15,14],[17,0,17,16],[19,0,19,3],[21,0,21,14],[23,0,23,4],[23,5,23,8],[23,10,23,12],[23,13,23,16],[26,5,27,17],[32,0,32,4],[32,5,32,6],[32,7,32,10],[32,11,32,12],[35,0,35,2],[35,8,35,9],[35,17,39,19],[39,0,39,7],[39,8,39,9],[39,10,39,13],[40,17,41,17],[40,18,41,18],[40,19,41,19],[42,0,42,12],[42,17,43,17],[42,18,43,18],[42,19,43,19],[44,17,45,17],[44,18,45,18],[44,19,45,19],[45,2,45,3],[45,5,45,7],[46,17,47,17],[46,18,47,18],[46,19,47,19],[48,0,48,5],[48,6,48,8],[48,17,49,17],[48,18,49,18],[48,19,49,19],[50,17,51,17],[50,18,51,18],[50,19,51,19],[52,17,53,17],[52,18,53,18],[52,19,53,19],[53,0,53,7],[53,8,53,9],[53,10,53,14],[54,0,54,11],[54,12,54,13],[54,17,55,17],[54,18,55,18],[54,19,55,19],[56,17,57,17],[56,18,57,18],[56,19,57,19],[57,0,57,16],[59,0,59,16],[62,0,62,16],[64,0,64,3],[69,1,69,4],[70,0,70,1],[70,2,70,7],[71,0,71,4],[71,5,71,12]]}
[]
[{"$nulls":6},"Commission Administrative"]
[{"$nulls":6},"Paritaire",{"$nulls":5},{"$f":"RECAPITULATIF!D7","v":"Locale"}]
[]
[]
[]
[]
[]
[{"$nulls":12},"Mme, Mr :"]
[]
[{"$nulls":12},"Grade :"]
[]
[{"$nulls":12},"Service :"]
[]
[]
["Votre ou vos représentant-e-s du personnel"]
[]
[{"$f":"RECAPITULATIF!B5","v":"Madame FERET Isabelle, Madame Anne PICHON et Monsieur Patrick GAUTIER"}]
[]
["SUD Santé Sociaux",{"$nulls":3},{"$f":"RECAPITULATIF!D21","v":35},"du:"]
[]
[{"$f":"RECAPITULATIF!B2","v":"Centre Hospitalier de Saint Malo"}]
[]
["siégeant auprès de la CAP",{"$nulls":4},{"$f":"RECAPITULATIF!D7","v":"Locale"},{"$nulls":3},"du :",{"$f":"RECAPITULATIF!D11","v":"2019-04-16"},null,null,"vous informe de votre :"]
[]
[]
[{"$nulls":5},"AVANCEMENT D’ECHELON"]
[]
[]
[]
[]
[]
["Vous passez à l’échelon :",{"$nulls":4},{"$f":"'GRILLE IBODE CN EXT'!B11","v":2},null,"Indice Majoré :",{"$nulls":3},{"$f":"'GRILLE IBODE CN EXT'!D11","v":379}]
[]
[]
["Date d'effet :",{"$nulls":4},"/",null,"/",{"$f":"RECAPITULATIF!D9","v":2019},{"$nulls":8},{"$f":"'GRILLE IBODE CN EXT'!B2","v":"Infirmier de Bloc Opératoire Classe Normale\nPuéricultrice Classe Normale\n\nExtinction"}]
[]
[]
[]
["Ce qui représente un gain mensuel de :",{"$nulls":7},{"$f":"'GRILLE IBODE CN EXT'!D11-'GRILLE IBODE CN EXT'!D9","v":26},null,"points d'indice."]
[{"$nulls":17},{"$f":"'GRILLE IBODE CN EXT'!B7","v":"Echelon"},{"$f":"'GRILLE IBODE CN EXT'!C7","v":"Durée\n(en mois)"},{"$f":"'GRILLE IBODE CN EXT'!D7","v":"Indice\nMajoré"}]
[]
["Pour information, la valeur brute du point d'indice",{"$nulls":16},{"$f":"'GRILLE IBODE CN EXT'!B9","v":1},{"$f":"'GRILLE IBODE CN EXT'!C9","v":12},{"$f":"'GRILLE IBODE CN EXT'!D9","v":353}]
[]
[{"$nulls":17},{"$f":"'GRILLE IBODE CN EXT'!B11","v":2},{"$f":"'GRILLE IBODE CN EXT'!C11","v":24},{"$f":"'GRILLE IBODE CN EXT'!D11","v":379}]
["est de",null,{"$f":"RECAPITULATIF!D13","v":{"v":4.686,"d":"4.686 €"}},null,"au",{"$f":"RECAPITULATIF!D15","v":"2019-01-01"}]
[{"$nulls":17},{"$f":"'GRILLE IBODE CN EXT'!B13","v":3},{"$f":"'GRILLE IBODE CN EXT'!C13","v":36},{"$f":"'GRILLE IBODE CN EXT'!D13","v":398}]
[]
["Soit un gain net mensuel de :",{"$nulls":5},{"$f":"I40*C46*0.8315","v":{"v":101.306634,"d":"101.31 €"}},{"$nulls":10},{"$f":"'GRILLE IBODE CN EXT'!B15","v":4},{"$f":"'GRILLE IBODE CN EXT'!C15","v":36},{"$f":"'GRILLE IBODE CN EXT'!D15","v":423}]
[]
[{"$nulls":17},{"$f":"'GRILLE IBODE CN EXT'!B17","v":5},{"$f":"'GRILLE IBODE CN EXT'!C17","v":48},{"$f":"'GRILLE IBODE CN EXT'!D17","v":442}]
[]
[{"$nulls":17},{"$f":"'GRILLE IBODE CN EXT'!B19","v":6},{"$f":"'GRILLE IBODE CN EXT'!C19","v":48},{"$f":"'GRILLE IBODE CN EXT'!D19","v":469}]
["Vos représentant-e-s SUD Santé Sociaux ",{"$nulls":7},{"$f":"RECAPITULATIF!D21","v":35},null,"sont à votre disposition"]
["pour tous renseignements complémentaires au poste :",{"$nulls":11},{"$f":"RECAPITULATIF!D17","v":2886},{"$nulls":4},{"$f":"'GRILLE IBODE CN EXT'!B21","v":7},{"$f":"'GRILLE IBODE CN EXT'!C21","v":48},{"$f":"'GRILLE IBODE CN EXT'!D21","v":499}]
[]
[{"$nulls":17},{"$f":"'GRILLE IBODE CN EXT'!B23","v":8},{"$f":"'GRILLE IBODE CN EXT'!C23","v":0},{"$f":"'GRILLE IBODE CN EXT'!D23","v":525}]
[]
[]
["Recevez toutes nos salutations."]
[]
[]
[{"$f":"RECAPITULATIF!B5","v":"Madame FERET Isabelle, Madame Anne PICHON et Monsieur Patrick GAUTIER"}]
[]
["SUD Santé Sociaux",{"$nulls":3},{"$f":"RECAPITULATIF!D21","v":35}]
[]
[]
[]
[]
["Tél :",{"$f":"RECAPITULATIF!D19","v":{"v":299212886,"d":"02 99 21 28 86"}}]
["Mél :",null,{"$f":"RECAPITULATIF!C23","v":"sudsante@ch-stmalo.fr"}]
[{"$f":"RECAPITULATIF!B25","v":"Site Départemental Sud"},{"$nulls":4},{"$f":"RECAPITULATIF!D25","v":"http://www.sudsantesociaux35.org"}]

{"sheet":"IBODE CN EXT Echelon 3","index":73,"n_rows":72,"n_cols":20,"rows_kept":72,"merged":[[1,6,1,16],[2,6,2,11],[2,12,2,16],[8,12,9,14],[12,12,12,14],[15,0,15,14],[17,0,17,16],[19,0,19,3],[21,0,21,14],[23,0,23,4],[23,5,23,8],[23,10,23,12],[23,13,23,16],[26,5,27,17],[32,0,32,4],[32,5,32,6],[32,7,32,10],[32,11,32,12],[35,0,35,2],[35,8,35,9],[35,17,39,19],[39,0,39,7],[39,8,39,9],[39,10,39,13],[40,17,41,17],[40,18,41,18],[40,19,41,19],[42,0,42,12],[42,17,43,17],[42,18,43,18],[42,19,43,19],[44,17,45,17],[44,18,45,18],[44,19,45,19],[45,2,45,3],[45,5,45,7],[46,17,47,17],[46,18,47,18],[46,19,47,19],[48,0,48,5],[48,6,48,8],[48,17,49,17],[48,18,49,18],[48,19,49,19],[50,17,51,17],[50,18,51,18],[50,19,51,19],[52,17,53,17],[52,18,53,18],[52,19,53,19],[53,0,53,7],[53,8,53,9],[53,10,53,14],[54,0,54,11],[54,12,54,13],[54,17,55,17],[54,18,55,18],[54,19,55,19],[56,17,57,17],[56,18,57,18],[56,19,57,19],[57,0,57,16],[59,0,59,16],[62,0,62,16],[64,0,64,3],[69,1,69,4],[70,0,70,1],[70,2,70,7],[71,0,71,4],[71,5,71,12]]}
[]
[{"$nulls":6},"Commission Administrative"]
[{"$nulls":6},"Paritaire",{"$nulls":5},{"$f":"RECAPITULATIF!D7","v":"Locale"}]
[]
[]
[]
[]
[]
[{"$nulls":12},"Mme, Mr :"]
[]
[{"$nulls":12},"Grade :"]
[]
[{"$nulls":12},"Service :"]
[]
[]
["Votre ou vos représentant-e-s du personnel"]
[]
[{"$f":"RECAPITULATIF!B5","v":"Madame FERET Isabelle, Madame Anne PICHON et Monsieur Patrick GAUTIER"}]
[]
["SUD Santé Sociaux",{"$nulls":3},{"$f":"RECAPITULATIF!D21","v":35},"du:"]
[]
[{"$f":"RECAPITULATIF!B2","v":"Centre Hospitalier de Saint Malo"}]
[]
["siégeant auprès de la CAP",{"$nulls":4},{"$f":"RECAPITULATIF!D7","v":"Locale"},{"$nulls":3},"du :",{"$f":"RECAPITULATIF!D11","v":"2019-04-16"},null,null,"vous informe de votre :"]
[]
[]
[{"$nulls":5},"AVANCEMENT D’ECHELON"]
[]
[]
[]
[]
[]
["Vous passez à l’échelon :",{"$nulls":4},{"$f":"'GRILLE IBODE CN EXT'!B13","v":3},null,"Indice Majoré :",{"$nulls":3},{"$f":"'GRILLE IBODE CN EXT'!D13","v":398}]
[]
[]
["Date d'effet :",{"$nulls":4},"/",null,"/",{"$f":"RECAPITULATIF!D9","v":2019},{"$nulls":8},{"$f":"'GRILLE IBODE CN EXT'!B2","v":"Infirmier de Bloc Opératoire Classe Normale\nPuéricultrice Classe Normale\n\nExtinction"}]
[]
[]
[]
["Ce qui représente un gain mensuel de :",{"$nulls":7},{"$f":"'GRILLE IBODE CN EXT'!D13-'GRILLE IBODE CN EXT'!D11","v":19},null,"points d'indice."]
[{"$nulls":17},{"$f":"'GRILLE IBODE CN EXT'!B7","v":"Echelon"},{"$f":"'GRILLE IBODE CN EXT'!C7","v":"Durée\n(en mois)"},{"$f":"'GRILLE IBODE CN EXT'!D7","v":"Indice\nMajoré"}]
[]
["Pour information, la valeur brute du point d'indice",{"$nulls":16},{"$f":"'GRILLE IBODE CN EXT'!B9","v":1},{"$f":"'GRILLE IBODE CN EXT'!C9","v":12},{"$f":"'GRILLE IBODE CN EXT'!D9","v":353}]
[]
[{"$nulls":17},{"$f":"'GRILLE IBODE CN EXT'!B11","v":2},{"$f":"'GRILLE IBODE CN EXT'!C11","v":24},{"$f":"'GRILLE IBODE CN EXT'!D11","v":379}]
["est de",null,{"$f":"RECAPITULATIF!D13","v":{"v":4.686,"d":"4.686 €"}},null,"au",{"$f":"RECAPITULATIF!D15","v":"2019-01-01"}]
[{"$nulls":17},{"$f":"'GRILLE IBODE CN EXT'!B13","v":3},{"$f":"'GRILLE IBODE CN EXT'!C13","v":36},{"$f":"'GRILLE IBODE CN EXT'!D13","v":398}]
[]
["Soit un gain net mensuel de :",{"$nulls":5},{"$f":"I40*C46*0.8315","v":{"v":74.03177099999999,"d":"74.03 €"}},{"$nulls":10},{"$f":"'GRILLE IBODE CN EXT'!B15","v":4},{"$f":"'GRILLE IBODE CN EXT'!C15","v":36},{"$f":"'GRILLE IBODE CN EXT'!D15","v":423}]
[]
[{"$nulls":17},{"$f":"'GRILLE IBODE CN EXT'!B17","v":5},{"$f":"'GRILLE IBODE CN EXT'!C17","v":48},{"$f":"'GRILLE IBODE CN EXT'!D17","v":442}]
[]
[{"$nulls":17},{"$f":"'GRILLE IBODE CN EXT'!B19","v":6},{"$f":"'GRILLE IBODE CN EXT'!C19","v":48},{"$f":"'GRILLE IBODE CN EXT'!D19","v":469}]
["Vos représentant-e-s SUD Santé Sociaux ",{"$nulls":7},{"$f":"RECAPITULATIF!D21","v":35},null,"sont à votre disposition"]
["pour tous renseignements complémentaires au poste :",{"$nulls":11},{"$f":"RECAPITULATIF!D17","v":2886},{"$nulls":4},{"$f":"'GRILLE IBODE CN EXT'!B21","v":7},{"$f":"'GRILLE IBODE CN EXT'!C21","v":48},{"$f":"'GRILLE IBODE CN EXT'!D21","v":499}]
[]
[{"$nulls":17},{"$f":"'GRILLE IBODE CN EXT'!B23","v":8},{"$f":"'GRILLE IBODE CN EXT'!C23","v":0},{"$f":"'GRILLE IBODE CN EXT'!D23","v":525}]
[]
[]
["Recevez toutes nos salutations."]
[]
[]
[{"$f":"RECAPITULATIF!B5","v":"Madame FERET Isabelle, Madame Anne PICHON et Monsieur Patrick GAUTIER"}]
[]
["SUD Santé Sociaux",{"$nulls":3},{"$f":"RECAPITULATIF!D21","v":35}]
[]
[]
[]
[]
["Tél :",{"$f":"RECAPITULATIF!D19","v":{"v":299212886,"d":"02 99 21 28 86"}}]
["Mél :",null,{"$f":"RECAPITULATIF!C23","v":"sudsante@ch-stmalo.fr"}]
[{"$f":"RECAPITULATIF!B25","v":"Site Départemental Sud"},{"$nulls":4},{"$f":"RECAPITULATIF!D25","v":"http://www.sudsantesociaux35.org"}]

{"sheet":"IBODE CN EXT Echelon 4","index":74,"n_rows":72,"n_cols":20,"rows_kept":72,"merged":[[1,6,1,16],[2,6,2,11],[2,12,2,16],[8,12,9,14],[12,12,12,14],[15,0,15,14],[17,0,17,16],[19,0,19,3],[21,0,21,14],[23,0,23,4],[23,5,23,8],[23,10,23,12],[23,13,23,16],[26,5,27,17],[32,0,32,4],[32,5,32,6],[32,7,32,10],[32,11,32,12],[35,0,35,2],[35,8,35,9],[35,17,39,19],[39,0,39,7],[39,8,39,9],[39,10,39,13],[40,17,41,17],[40,18,41,18],[40,19,41,19],[42,0,42,12],[42,17,43,17],[42,18,43,18],[42,19,43,19],[44,17,45,17],[44,18,45,18],[44,19,45,19],[45,2,45,3],[45,5,45,7],[46,17,47,17],[46,18,47,18],[46,19,47,19],[48,0,48,5],[48,6,48,8],[48,17,49,17],[48,18,49,18],[48,19,49,19],[50,17,51,17],[50,18,51,18],[50,19,51,19],[52,17,53,17],[52,18,53,18],[52,19,53,19],[53,0,53,7],[53,8,53,9],[53,10,53,14],[54,0,54,11],[54,12,54,13],[54,17,55,17],[54,18,55,18],[54,19,55,19],[56,17,57,17],[56,18,57,18],[56,19,57,19],[57,0,57,16],[59,0,59,16],[62,0,62,16],[64,0,64,3],[69,1,69,4],[70,0,70,1],[70,2,70,7],[71,0,71,4],[71,5,71,12]]}
[]
[{"$nulls":6},"Commission Administrative"]
[{"$nulls":6},"Paritaire",{"$nulls":5},{"$f":"RECAPITULATIF!D7","v":"Locale"}]
[]
[]
[]
[]
[]
[{"$nulls":12},"Mme, Mr :"]
[]
[{"$nulls":12},"Grade :"]
[]
[{"$nulls":12},"Service :"]
[]
[]
["Votre ou vos représentant-e-s du personnel"]
[]
[{"$f":"RECAPITULATIF!B5","v":"Madame FERET Isabelle, Madame Anne PICHON et Monsieur Patrick GAUTIER"}]
[]
["SUD Santé Sociaux",{"$nulls":3},{"$f":"RECAPITULATIF!D21","v":35},"du:"]
[]
[{"$f":"RECAPITULATIF!B2","v":"Centre Hospitalier de Saint Malo"}]
[]
["siégeant auprès de la CAP",{"$nulls":4},{"$f":"RECAPITULATIF!D7","v":"Locale"},{"$nulls":3},"du :",{"$f":"RECAPITULATIF!D11","v":"2019-04-16"},null,null,"vous informe de votre :"]
[]
[]
[{"$nulls":5},"AVANCEMENT D’ECHELON"]
[]
[]
[]
[]
[]
["Vous passez à l’échelon :",{"$nulls":4},{"$f":"'GRILLE IBODE CN EXT'!B15","v":4},null,"Indice Majoré :",{"$nulls":3},{"$f":"'GRILLE IBODE CN EXT'!D15","v":423}]
[]
[]
["Date d'effet :",{"$nulls":4},"/",null,"/",{"$f":"RECAPITULATIF!D9","v":2019},{"$nulls":8},{"$f":"'GRILLE IBODE CN EXT'!B2","v":"Infirmier de Bloc Opératoire Classe Normale\nPuéricultrice Classe Normale\n\nExtinction"}]
[]
[]
[]
["Ce qui représente un gain mensuel de :",{"$nulls":7},{"$f":"'GRILLE IBODE CN EXT'!D15-'GRILLE IBODE CN EXT'!D13","v":25},null,"points d'indice."]
[{"$nulls":17},{"$f":"'GRILLE IBODE CN EXT'!B7","v":"Echelon"},{"$f":"'GRILLE IBODE CN EXT'!C7","v":"Durée\n(en mois)"},{"$f":"'GRILLE IBODE CN EXT'!D7","v":"Indice\nMajoré"}]
[]
["Pour information, la valeur brute du point d'indice",{"$nulls":16},{"$f":"'GRILLE IBODE CN EXT'!B9","v":1},{"$f":"'GRILLE IBODE CN EXT'!C9","v":12},{"$f":"'GRILLE IBODE CN EXT'!D9","v":353}]
[]
[{"$nulls":17},{"$f":"'GRILLE IBODE CN EXT'!B11","v":2},{"$f":"'GRILLE IBODE CN EXT'!C11","v":24},{"$f":"'GRILLE IBODE CN EXT'!D11","v":379}]
["est de",null,{"$f":"RECAPITULATIF!D13","v":{"v":4.686,"d":"4.686 €"}},null,"au",{"$f":"RECAPITULATIF!D15","v":"2019-01-01"}]
[{"$nulls":17},{"$f":"'GRILLE IBODE CN EXT'!B13","v":3},{"$f":"'GRILLE IBODE CN EXT'!C13","v":36},{"$f":"'GRILLE IBODE CN EXT'!D13","v":398}]
[]
["Soit un gain net mensuel de :",{"$nulls":5},{"$f":"I40*C46*0.8315","v":{"v":97.41022500000001,"d":"97.41 €"}},{"$nulls":10},{"$f":"'GRILLE IBODE CN EXT'!B15","v":4},{"$f":"'GRILLE IBODE CN EXT'!C15","v":36},{"$f":"'GRILLE IBODE CN EXT'!D15","v":423}]
[]
[{"$nulls":17},{"$f":"'GRILLE IBODE CN EXT'!B17","v":5},{"$f":"'GRILLE IBODE CN EXT'!C17","v":48},{"$f":"'GRILLE IBODE CN EXT'!D17","v":442}]
[]
[{"$nulls":17},{"$f":"'GRILLE IBODE CN EXT'!B19","v":6},{"$f":"'GRILLE IBODE CN EXT'!C19","v":48},{"$f":"'GRILLE IBODE CN EXT'!D19","v":469}]
["Vos représentant-e-s SUD Santé Sociaux ",{"$nulls":7},{"$f":"RECAPITULATIF!D21","v":35},null,"sont à votre disposition"]
["pour tous renseignements complémentaires au poste :",{"$nulls":11},{"$f":"RECAPITULATIF!D17","v":2886},{"$nulls":4},{"$f":"'GRILLE IBODE CN EXT'!B21","v":7},{"$f":"'GRILLE IBODE CN EXT'!C21","v":48},{"$f":"'GRILLE IBODE CN EXT'!D21","v":499}]
[]
[{"$nulls":17},{"$f":"'GRILLE IBODE CN EXT'!B23","v":8},{"$f":"'GRILLE IBODE CN EXT'!C23","v":0},{"$f":"'GRILLE IBODE CN EXT'!D23","v":525}]
[]
[]
["Recevez toutes nos salutations."]
[]
[]
[{"$f":"RECAPITULATIF!B5","v":"Madame FERET Isabelle, Madame Anne PICHON et Monsieur Patrick GAUTIER"}]
[]
["SUD Santé Sociaux",{"$nulls":3},{"$f":"RECAPITULATIF!D21","v":35}]
[]
[]
[]
[]
["Tél :",{"$f":"RECAPITULATIF!D19","v":{"v":299212886,"d":"02 99 21 28 86"}}]
["Mél :",null,{"$f":"RECAPITULATIF!C23","v":"sudsante@ch-stmalo.fr"}]
[{"$f":"RECAPITULATIF!B25","v":"Site Départemental Sud"},{"$nulls":4},{"$f":"RECAPITULATIF!D25","v":"http://www.sudsantesociaux35.org"}]

{"sheet":"IBODE CN EXT Echelon 5","index":75,"n_rows":72,"n_cols":20,"rows_kept":72,"merged":[[1,6,1,16],[2,6,2,11],[2,12,2,16],[8,12,9,14],[12,12,12,14],[15,0,15,14],[17,0,17,16],[19,0,19,3],[21,0,21,14],[23,0,23,4],[23,5,23,8],[23,10,23,12],[23,13,23,16],[26,5,27,17],[32,0,32,4],[32,5,32,6],[32,7,32,10],[32,11,32,12],[35,0,35,2],[35,8,35,9],[35,17,39,19],[39,0,39,7],[39,8,39,9],[39,10,39,13],[40,17,41,17],[40,18,41,18],[40,19,41,19],[42,0,42,12],[42,17,43,17],[42,18,43,18],[42,19,43,19],[44,17,45,17],[44,18,45,18],[44,19,45,19],[45,2,45,3],[45,5,45,7],[46,17,47,17],[46,18,47,18],[46,19,47,19],[48,0,48,5],[48,6,48,8],[48,17,49,17],[48,18,49,18],[48,19,49,19],[50,17,51,17],[50,18,51,18],[50,19,51,19],[52,17,53,17],[52,18,53,18],[52,19,53,19],[53,0,53,7],[53,8,53,9],[53,10,53,14],[54,0,54,11],[54,12,54,13],[54,17,55,17],[54,18,55,18],[54,19,55,19],[56,17,57,17],[56,18,57,18],[56,19,57,19],[57,0,57,16],[59,0,59,16],[62,0,62,16],[64,0,64,3],[69,1,69,4],[70,0,70,1],[70,2,70,7],[71,0,71,4],[71,5,71,12]]}
[]
[{"$nulls":6},"Commission Administrative"]
[{"$nulls":6},"Paritaire",{"$nulls":5},{"$f":"RECAPITULATIF!D7","v":"Locale"}]
[]
[]
[]
[]
[]
[{"$nulls":12},"Mme, Mr :"]
[]
[{"$nulls":12},"Grade :"]
[]
[{"$nulls":12},"Service :"]
[]
[]
["Votre ou vos représentant-e-s du personnel"]
[]
[{"$f":"RECAPITULATIF!B5","v":"Madame FERET Isabelle, Madame Anne PICHON et Monsieur Patrick GAUTIER"}]
[]
["SUD Santé Sociaux",{"$nulls":3},{"$f":"RECAPITULATIF!D21","v":35},"du:"]
[]
[{"$f":"RECAPITULATIF!B2","v":"Centre Hospitalier de Saint Malo"}]
[]
["siégeant auprès de la CAP",{"$nulls":4},{"$f":"RECAPITULATIF!D7","v":"Locale"},{"$nulls":3},"du :",{"$f":"RECAPITULATIF!D11","v":"2019-04-16"},null,null,"vous informe de votre :"]
[]
[]
[{"$nulls":5},"AVANCEMENT D’ECHELON"]
[]
[]
[]
[]
[]
["Vous passez à l’échelon :",{"$nulls":4},{"$f":"'GRILLE IBODE CN EXT'!B17","v":5},null,"Indice Majoré :",{"$nulls":3},{"$f":"'GRILLE IBODE CN EXT'!D17","v":442}]
[]
[]
["Date d'effet :",{"$nulls":4},"/",null,"/",{"$f":"RECAPITULATIF!D9","v":2019},{"$nulls":8},{"$f":"'GRILLE IBODE CN EXT'!B2","v":"Infirmier de Bloc Opératoire Classe Normale\nPuéricultrice Classe Normale\n\nExtinction"}]
[]
[]
[]
["Ce qui représente un gain mensuel de :",{"$nulls":7},{"$f":"'GRILLE IBODE CN EXT'!D17-'GRILLE IBODE CN EXT'!D15","v":19},null,"points d'indice."]
[{"$nulls":17},{"$f":"'GRILLE IBODE CN EXT'!B7","v":"Echelon"},{"$f":"'GRILLE IBODE CN EXT'!C7","v":"Durée\n(en mois)"},{"$f":"'GRILLE IBODE CN EXT'!D7","v":"Indice\nMajoré"}]
[]
["Pour information, la valeur brute du point d'indice",{"$nulls":16},{"$f":"'GRILLE IBODE CN EXT'!B9","v":1},{"$f":"'GRILLE IBODE CN EXT'!C9","v":12},{"$f":"'GRILLE IBODE CN EXT'!D9","v":353}]
[]
[{"$nulls":17},{"$f":"'GRILLE IBODE CN EXT'!B11","v":2},{"$f":"'GRILLE IBODE CN EXT'!C11","v":24},{"$f":"'GRILLE IBODE CN EXT'!D11","v":379}]
["est de",null,{"$f":"RECAPITULATIF!D13","v":{"v":4.686,"d":"4.686 €"}},null,"au",{"$f":"RECAPITULATIF!D15","v":"2019-01-01"}]
[{"$nulls":17},{"$f":"'GRILLE IBODE CN EXT'!B13","v":3},{"$f":"'GRILLE IBODE CN EXT'!C13","v":36},{"$f":"'GRILLE IBODE CN EXT'!D13","v":398}]
[]
["Soit un gain net mensuel de :",{"$nulls":5},{"$f":"I40*C46*0.8315","v":{"v":74.03177099999999,"d":"74.03 €"}},{"$nulls":10},{"$f":"'GRILLE IBODE CN EXT'!B15","v":4},{"$f":"'GRILLE IBODE CN EXT'!C15","v":36},{"$f":"'GRILLE IBODE CN EXT'!D15","v":423}]
[]
[{"$nulls":17},{"$f":"'GRILLE IBODE CN EXT'!B17","v":5},{"$f":"'GRILLE IBODE CN EXT'!C17","v":48},{"$f":"'GRILLE IBODE CN EXT'!D17","v":442}]
[]
[{"$nulls":17},{"$f":"'GRILLE IBODE CN EXT'!B19","v":6},{"$f":"'GRILLE IBODE CN EXT'!C19","v":48},{"$f":"'GRILLE IBODE CN EXT'!D19","v":469}]
["Vos représentant-e-s SUD Santé Sociaux ",{"$nulls":7},{"$f":"RECAPITULATIF!D21","v":35},null,"sont à votre disposition"]
["pour tous renseignements complémentaires au poste :",{"$nulls":11},{"$f":"RECAPITULATIF!D17","v":2886},{"$nulls":4},{"$f":"'GRILLE IBODE CN EXT'!B21","v":7},{"$f":"'GRILLE IBODE CN EXT'!C21","v":48},{"$f":"'GRILLE IBODE CN EXT'!D21","v":499}]
[]
[{"$nulls":17},{"$f":"'GRILLE IBODE CN EXT'!B23","v":8},{"$f":"'GRILLE IBODE CN EXT'!C23","v":0},{"$f":"'GRILLE IBODE CN EXT'!D23","v":525}]
[]
[]
["Recevez toutes nos salutations."]
[]
[]
[{"$f":"RECAPITULATIF!B5","v":"Madame FERET Isabelle, Madame Anne PICHON et Monsieur Patrick GAUTIER"}]
[]
["SUD Santé Sociaux",{"$nulls":3},{"$f":"RECAPITULATIF!D21","v":35}]
[]
[]
[]
[]
["Tél :",{"$f":"RECAPITULATIF!D19","v":{"v":299212886,"d":"02 99 21 28 86"}}]
["Mél :",null,{"$f":"RECAPITULATIF!C23","v":"sudsante@ch-stmalo.fr"}]
[{"$f":"RECAPITULATIF!B25","v":"Site Départemental Sud"},{"$nulls":4},{"$f":"RECAPITULATIF!D25","v":"http://www.sudsantesociaux35.org"}]

{"sheet":"IBODE CN EXT Echelon 6","index":76,"n_rows":72,"n_cols":20,"rows_kept":72,"merged":[[1,6,1,16],[2,6,2,11],[2,12,2,16],[8,12,9,14],[12,12,12,14],[15,0,15,14],[17,0,17,16],[19,0,19,3],[21,0,21,14],[23,0,23,4],[23,5,23,8],[23,10,23,12],[23,13,23,16],[26,5,27,17],[32,0,32,4],[32,5,32,6],[32,7,32,10],[32,11,32,12],[35,0,35,2],[35,8,35,9],[35,17,39,19],[39,0,39,7],[39,8,39,9],[39,10,39,13],[40,17,41,17],[40,18,41,18],[40,19,41,19],[42,0,42,12],[42,17,43,17],[42,18,43,18],[42,19,43,19],[44,17,45,17],[44,18,45,18],[44,19,45,19],[45,2,45,3],[45,5,45,7],[46,17,47,17],[46,18,47,18],[46,19,47,19],[48,0,48,5],[48,6,48,8],[48,17,49,17],[48,18,49,18],[48,19,49,19],[50,17,51,17],[50,18,51,18],[50,19,51,19],[52,17,53,17],[52,18,53,18],[52,19,53,19],[53,0,53,7],[53,8,53,9],[53,10,53,14],[54,0,54,11],[54,12,54,13],[54,17,55,17],[54,18,55,18],[54,19,55,19],[56,17,57,17],[56,18,57,18],[56,19,57,19],[57,0,57,16],[59,0,59,16],[62,0,62,16],[64,0,64,3],[69,1,69,4],[70,0,70,1],[70,2,70,7],[71,0,71,4],[71,5,71,12]]}
[]
[{"$nulls":6},"Commission Administrative"]
[{"$nulls":6},"Paritaire",{"$nulls":5},{"$f":"RECAPITULATIF!D7","v":"Locale"}]
[]
[]
[]
[]
[]
[{"$nulls":12},"Mme, Mr :"]
[]
[{"$nulls":12},"Grade :"]
[]
[{"$nulls":12},"Service :"]
[]
[]
["Votre ou vos représentant-e-s du personnel"]
[]
[{"$f":"RECAPITULATIF!B5","v":"Madame FERET Isabelle, Madame Anne PICHON et Monsieur Patrick GAUTIER"}]
[]
["SUD Santé Sociaux",{"$nulls":3},{"$f":"RECAPITULATIF!D21","v":35},"du:"]
[]
[{"$f":"RECAPITULATIF!B2","v":"Centre Hospitalier de Saint Malo"}]
[]
["siégeant auprès de la CAP",{"$nulls":4},{"$f":"RECAPITULATIF!D7","v":"Locale"},{"$nulls":3},"du :",{"$f":"RECAPITULATIF!D11","v":"2019-04-16"},null,null,"vous informe de votre :"]
[]
[]
[{"$nulls":5},"AVANCEMENT D’ECHELON"]
[]
[]
[]
[]
[]
["Vous passez à l’échelon :",{"$nulls":4},{"$f":"'GRILLE IBODE CN EXT'!B19","v":6},null,"Indice Majoré :",{"$nulls":3},{"$f":"'GRILLE IBODE CN EXT'!D19","v":469}]
[]
[]
["Date d'effet :",{"$nulls":4},"/",null,"/",{"$f":"RECAPITULATIF!D9","v":2019},{"$nulls":8},{"$f":"'GRILLE IBODE CN EXT'!B2","v":"Infirmier de Bloc Opératoire Classe Normale\nPuéricultrice Classe Normale\n\nExtinction"}]
[]
[]
[]
["Ce qui représente un gain mensuel de :",{"$nulls":7},{"$f":"'GRILLE IBODE CN EXT'!D19-'GRILLE IBODE CN EXT'!D17","v":27},null,"points d'indice."]
[{"$nulls":17},{"$f":"'GRILLE IBODE CN EXT'!B7","v":"Echelon"},{"$f":"'GRILLE IBODE CN EXT'!C7","v":"Durée\n(en mois)"},{"$f":"'GRILLE IBODE CN EXT'!D7","v":"Indice\nMajoré"}]
[]
["Pour information, la valeur brute du point d'indice",{"$nulls":16},{"$f":"'GRILLE IBODE CN EXT'!B9","v":1},{"$f":"'GRILLE IBODE CN EXT'!C9","v":12},{"$f":"'GRILLE IBODE CN EXT'!D9","v":353}]
[]
[{"$nulls":17},{"$f":"'GRILLE IBODE CN EXT'!B11","v":2},{"$f":"'GRILLE IBODE CN EXT'!C11","v":24},{"$f":"'GRILLE IBODE CN EXT'!D11","v":379}]
["est de",null,{"$f":"RECAPITULATIF!D13","v":{"v":4.686,"d":"4.686 €"}},null,"au",{"$f":"RECAPITULATIF!D15","v":"2019-01-01"}]
[{"$nulls":17},{"$f":"'GRILLE IBODE CN EXT'!B13","v":3},{"$f":"'GRILLE IBODE CN EXT'!C13","v":36},{"$f":"'GRILLE IBODE CN EXT'!D13","v":398}]
[]
["Soit un gain net mensuel de :",{"$nulls":5},{"$f":"I40*C46*0.8315","v":{"v":105.203043,"d":"105.20 €"}},{"$nulls":10},{"$f":"'GRILLE IBODE CN EXT'!B15","v":4},{"$f":"'GRILLE IBODE CN EXT'!C15","v":36},{"$f":"'GRILLE IBODE CN EXT'!D15","v":423}]
[]
[{"$nulls":17},{"$f":"'GRILLE IBODE CN EXT'!B17","v":5},{"$f":"'GRILLE IBODE CN EXT'!C17","v":48},{"$f":"'GRILLE IBODE CN EXT'!D17","v":442}]
[]
[{"$nulls":17},{"$f":"'GRILLE IBODE CN EXT'!B19","v":6},{"$f":"'GRILLE IBODE CN EXT'!C19","v":48},{"$f":"'GRILLE IBODE CN EXT'!D19","v":469}]
["Vos représentant-e-s SUD Santé Sociaux ",{"$nulls":7},{"$f":"RECAPITULATIF!D21","v":35},null,"sont à votre disposition"]
["pour tous renseignements complémentaires au poste :",{"$nulls":11},{"$f":"RECAPITULATIF!D17","v":2886},{"$nulls":4},{"$f":"'GRILLE IBODE CN EXT'!B21","v":7},{"$f":"'GRILLE IBODE CN EXT'!C21","v":48},{"$f":"'GRILLE IBODE CN EXT'!D21","v":499}]
[]
[{"$nulls":17},{"$f":"'GRILLE IBODE CN EXT'!B23","v":8},{"$f":"'GRILLE IBODE CN EXT'!C23","v":0},{"$f":"'GRILLE IBODE CN EXT'!D23","v":525}]
[]
[]
["Recevez toutes nos salutations."]
[]
[]
[{"$f":"RECAPITULATIF!B5","v":"Madame FERET Isabelle, Madame Anne PICHON et Monsieur Patrick GAUTIER"}]
[]
["SUD Santé Sociaux",{"$nulls":3},{"$f":"RECAPITULATIF!D21","v":35}]
[]
[]
[]
[]
["Tél :",{"$f":"RECAPITULATIF!D19","v":{"v":299212886,"d":"02 99 21 28 86"}}]
["Mél :",null,{"$f":"RECAPITULATIF!C23","v":"sudsante@ch-stmalo.fr"}]
[{"$f":"RECAPITULATIF!B25","v":"Site Départemental Sud"},{"$nulls":4},{"$f":"RECAPITULATIF!D25","v":"http://www.sudsantesociaux35.org"}]

{"sheet":"IBODE CN EXT Echelon 7","index":77,"n_rows":72,"n_cols":20,"rows_kept":72,"merged":[[1,6,1,16],[2,6,2,11],[2,12,2,16],[8,12,9,14],[12,12,12,14],[15,0,15,14],[17,0,17,16],[19,0,19,3],[21,0,21,14],[23,0,23,4],[23,5,23,8],[23,10,23,12],[23,13,23,16],[26,5,27,17],[32,0,32,4],[32,5,32,6],[32,7,32,10],[32,11,32,12],[35,0,35,2],[35,8,35,9],[35,17,39,19],[39,0,39,7],[39,8,39,9],[39,10,39,13],[40,17,41,17],[40,18,41,18],[40,19,41,19],[42,0,42,12],[42,17,43,17],[42,18,43,18],[42,19,43,19],[44,17,45,17],[44,18,45,18],[44,19,45,19],[45,2,45,3],[45,5,45,7],[46,17,47,17],[46,18,47,18],[46,19,47,19],[48,0,48,5],[48,6,48,8],[48,17,49,17],[48,18,49,18],[48,19,49,19],[50,17,51,17],[50,18,51,18],[50,19,51,19],[52,17,53,17],[52,18,53,18],[52,19,53,19],[53,0,53,7],[53,8,53,9],[53,10,53,14],[54,0,54,11],[54,12,54,13],[54,17,55,17],[54,18,55,18],[54,19,55,19],[56,17,57,17],[56,18,57,18],[56,19,57,19],[57,0,57,16],[59,0,59,16],[62,0,62,16],[64,0,64,3],[69,1,69,4],[70,0,70,1],[70,2,70,7],[71,0,71,4],[71,5,71,12]]}
[]
[{"$nulls":6},"Commission Administrative"]
[{"$nulls":6},"Paritaire",{"$nulls":5},{"$f":"RECAPITULATIF!D7","v":"Locale"}]
[]
[]
[]
[]
[]
[{"$nulls":12},"Mme, Mr :"]
[]
[{"$nulls":12},"Grade :"]
[]
[{"$nulls":12},"Service :"]
[]
[]
["Votre ou vos représentant-e-s du personnel"]
[]
[{"$f":"RECAPITULATIF!B5","v":"Madame FERET Isabelle, Madame Anne PICHON et Monsieur Patrick GAUTIER"}]
[]
["SUD Santé Sociaux",{"$nulls":3},{"$f":"RECAPITULATIF!D21","v":35},"du:"]
[]
[{"$f":"RECAPITULATIF!B2","v":"Centre Hospitalier de Saint Malo"}]
[]
["siégeant auprès de la CAP",{"$nulls":4},{"$f":"RECAPITULATIF!D7","v":"Locale"},{"$nulls":3},"du :",{"$f":"RECAPITULATIF!D11","v":"2019-04-16"},null,null,"vous informe de votre :"]
[]
[]
[{"$nulls":5},"AVANCEMENT D’ECHELON"]
[]
[]
[]
[]
[]
["Vous passez à l’échelon :",{"$nulls":4},{"$f":"'GRILLE IBODE CN EXT'!B21","v":7},null,"Indice Majoré :",{"$nulls":3},{"$f":"'GRILLE IBODE CN EXT'!D21","v":499}]
[]
[]
["Date d'effet :",{"$nulls":4},"/",null,"/",{"$f":"RECAPITULATIF!D9","v":2019},{"$nulls":8},{"$f":"'GRILLE IBODE CN EXT'!B2","v":"Infirmier de Bloc Opératoire Classe Normale\nPuéricultrice Classe Normale\n\nExtinction"}]
[]
[]
[]
["Ce qui représente un gain mensuel de :",{"$nulls":7},{"$f":"'GRILLE IBODE CN EXT'!D21-'GRILLE IBODE CN EXT'!D19","v":30},null,"points d'indice."]
[{"$nulls":17},{"$f":"'GRILLE IBODE CN EXT'!B7","v":"Echelon"},{"$f":"'GRILLE IBODE CN EXT'!C7","v":"Durée\n(en mois)"},{"$f":"'GRILLE IBODE CN EXT'!D7","v":"Indice\nMajoré"}]
[]
["Pour information, la valeur brute du point d'indice",{"$nulls":16},{"$f":"'GRILLE IBODE CN EXT'!B9","v":1},{"$f":"'GRILLE IBODE CN EXT'!C9","v":12},{"$f":"'GRILLE IBODE CN EXT'!D9","v":353}]
[]
[{"$nulls":17},{"$f":"'GRILLE IBODE CN EXT'!B11","v":2},{"$f":"'GRILLE IBODE CN EXT'!C11","v":24},{"$f":"'GRILLE IBODE CN EXT'!D11","v":379}]
["est de",null,{"$f":"RECAPITULATIF!D13","v":{"v":4.686,"d":"4.686 €"}},null,"au",{"$f":"RECAPITULATIF!D15","v":"2019-01-01"}]
[{"$nulls":17},{"$f":"'GRILLE IBODE CN EXT'!B13","v":3},{"$f":"'GRILLE IBODE CN EXT'!C13","v":36},{"$f":"'GRILLE IBODE CN EXT'!D13","v":398}]
[]
["Soit un gain net mensuel de :",{"$nulls":5},{"$f":"I40*C46*0.8315","v":{"v":116.89226999999998,"d":"116.89 €"}},{"$nulls":10},{"$f":"'GRILLE IBODE CN EXT'!B15","v":4},{"$f":"'GRILLE IBODE CN EXT'!C15","v":36},{"$f":"'GRILLE IBODE CN EXT'!D15","v":423}]
[]
[{"$nulls":17},{"$f":"'GRILLE IBODE CN EXT'!B17","v":5},{"$f":"'GRILLE IBODE CN EXT'!C17","v":48},{"$f":"'GRILLE IBODE CN EXT'!D17","v":442}]
[]
[{"$nulls":17},{"$f":"'GRILLE IBODE CN EXT'!B19","v":6},{"$f":"'GRILLE IBODE CN EXT'!C19","v":48},{"$f":"'GRILLE IBODE CN EXT'!D19","v":469}]
["Vos représentant-e-s SUD Santé Sociaux ",{"$nulls":7},{"$f":"RECAPITULATIF!D21","v":35},null,"sont à votre disposition"]
["pour tous renseignements complémentaires au poste :",{"$nulls":11},{"$f":"RECAPITULATIF!D17","v":2886},{"$nulls":4},{"$f":"'GRILLE IBODE CN EXT'!B21","v":7},{"$f":"'GRILLE IBODE CN EXT'!C21","v":48},{"$f":"'GRILLE IBODE CN EXT'!D21","v":499}]
[]
[{"$nulls":17},{"$f":"'GRILLE IBODE CN EXT'!B23","v":8},{"$f":"'GRILLE IBODE CN EXT'!C23","v":0},{"$f":"'GRILLE IBODE CN EXT'!D23","v":525}]
[]
[]
["Recevez toutes nos salutations."]
[]
[]
[{"$f":"RECAPITULATIF!B5","v":"Madame FERET Isabelle, Madame Anne PICHON et Monsieur Patrick GAUTIER"}]
[]
["SUD Santé Sociaux",{"$nulls":3},{"$f":"RECAPITULATIF!D21","v":35}]
[]
[]
[]
[]
["Tél :",{"$f":"RECAPITULATIF!D19","v":{"v":299212886,"d":"02 99 21 28 86"}}]
["Mél :",null,{"$f":"RECAPITULATIF!C23","v":"sudsante@ch-stmalo.fr"}]
[{"$f":"RECAPITULATIF!B25","v":"Site Départemental Sud"},{"$nulls":4},{"$f":"RECAPITULATIF!D25","v":"http://www.sudsantesociaux35.org"}]

{"sheet":"IBODE CN EXT Echelon 8","index":78,"n_rows":72,"n_cols":20,"rows_kept":72,"merged":[[1,6,1,16],[2,6,2,11],[2,12,2,16],[8,12,9,14],[12,12,12,14],[15,0,15,14],[17,0,17,16],[19,0,19,3],[21,0,21,14],[23,0,23,4],[23,5,23,8],[23,10,23,12],[23,13,23,16],[26,5,27,17],[32,0,32,4],[32,5,32,6],[32,7,32,10],[32,11,32,12],[35,0,35,2],[35,8,35,9],[35,17,39,19],[39,0,39,7],[39,8,39,9],[39,10,39,13],[40,17,41,17],[40,18,41,18],[40,19,41,19],[42,0,42,12],[42,17,43,17],[42,18,43,18],[42,19,43,19],[44,17,45,17],[44,18,45,18],[44,19,45,19],[45,2,45,3],[45,5,45,7],[46,17,47,17],[46,18,47,18],[46,19,47,19],[48,0,48,5],[48,6,48,8],[48,17,49,17],[48,18,49,18],[48,19,49,19],[50,17,51,17],[50,18,51,18],[50,19,51,19],[52,17,53,17],[52,18,53,18],[52,19,53,19],[53,0,53,7],[53,8,53,9],[53,10,53,14],[54,0,54,11],[54,12,54,13],[54,17,55,17],[54,18,55,18],[54,19,55,19],[56,17,57,17],[56,18,57,18],[56,19,57,19],[57,0,57,16],[59,0,59,16],[62,0,62,16],[64,0,64,3],[69,1,69,4],[70,0,70,1],[70,2,70,7],[71,0,71,4],[71,5,71,12]]}
[]
[{"$nulls":6},"Commission Administrative"]
[{"$nulls":6},"Paritaire",{"$nulls":5},{"$f":"RECAPITULATIF!D7","v":"Locale"}]
[]
[]
[]
[]
[]
[{"$nulls":12},"Mme, Mr :"]
[]
[{"$nulls":12},"Grade :"]
[]
[{"$nulls":12},"Service :"]
[]
[]
["Votre ou vos représentant-e-s du personnel"]
[]
[{"$f":"RECAPITULATIF!B5","v":"Madame FERET Isabelle, Madame Anne PICHON et Monsieur Patrick GAUTIER"}]
[]
["SUD Santé Sociaux",{"$nulls":3},{"$f":"RECAPITULATIF!D21","v":35},"du:"]
[]
[{"$f":"RECAPITULATIF!B2","v":"Centre Hospitalier de Saint Malo"}]
[]
["siégeant auprès de la CAP",{"$nulls":4},{"$f":"RECAPITULATIF!D7","v":"Locale"},{"$nulls":3},"du :",{"$f":"RECAPITULATIF!D11","v":"2019-04-16"},null,null,"vous informe de votre :"]
[]
[]
[{"$nulls":5},"AVANCEMENT D’ECHELON"]
[]
[]
[]
[]
[]
["Vous passez à l’échelon :",{"$nulls":4},{"$f":"'GRILLE ISG IS G3'!B23","v":8},null,"Indice Majoré :",{"$nulls":3},{"$f":"'GRILLE IBODE CN EXT'!D23","v":525}]
[]
[]
["Date d'effet :",{"$nulls":4},"/",null,"/",{"$f":"RECAPITULATIF!D9","v":2019},{"$nulls":8},{"$f":"'GRILLE IBODE CN EXT'!B2","v":"Infirmier de Bloc Opératoire Classe Normale\nPuéricultrice Classe Normale\n\nExtinction"}]
[]
[]
[]
["Ce qui représente un gain mensuel de :",{"$nulls":7},{"$f":"'GRILLE IBODE CN EXT'!D23-'GRILLE IBODE CN EXT'!D21","v":26},null,"points d'indice."]
[{"$nulls":17},{"$f":"'GRILLE IBODE CN EXT'!B7","v":"Echelon"},{"$f":"'GRILLE IBODE CN EXT'!C7","v":"Durée\n(en mois)"},{"$f":"'GRILLE IBODE CN EXT'!D7","v":"Indice\nMajoré"}]
[]
["Pour information, la valeur brute du point d'indice",{"$nulls":16},{"$f":"'GRILLE IBODE CN EXT'!B9","v":1},{"$f":"'GRILLE IBODE CN EXT'!C9","v":12},{"$f":"'GRILLE IBODE CN EXT'!D9","v":353}]
[]
[{"$nulls":17},{"$f":"'GRILLE IBODE CN EXT'!B11","v":2},{"$f":"'GRILLE IBODE CN EXT'!C11","v":24},{"$f":"'GRILLE IBODE CN EXT'!D11","v":379}]
["est de",null,{"$f":"RECAPITULATIF!D13","v":{"v":4.686,"d":"4.686 €"}},null,"au",{"$f":"RECAPITULATIF!D15","v":"2019-01-01"}]
[{"$nulls":17},{"$f":"'GRILLE IBODE CN EXT'!B13","v":3},{"$f":"'GRILLE IBODE CN EXT'!C13","v":36},{"$f":"'GRILLE IBODE CN EXT'!D13","v":398}]
[]
["Soit un gain net mensuel de :",{"$nulls":5},{"$f":"I40*C46*0.8315","v":{"v":101.306634,"d":"101.31 €"}},{"$nulls":10},{"$f":"'GRILLE IBODE CN EXT'!B15","v":4},{"$f":"'GRILLE IBODE CN EXT'!C15","v":36},{"$f":"'GRILLE IBODE CN EXT'!D15","v":423}]
[]
[{"$nulls":17},{"$f":"'GRILLE IBODE CN EXT'!B17","v":5},{"$f":"'GRILLE IBODE CN EXT'!C17","v":48},{"$f":"'GRILLE IBODE CN EXT'!D17","v":442}]
[]
[{"$nulls":17},{"$f":"'GRILLE IBODE CN EXT'!B19","v":6},{"$f":"'GRILLE IBODE CN EXT'!C19","v":48},{"$f":"'GRILLE IBODE CN EXT'!D19","v":469}]
["Vos représentant-e-s SUD Santé Sociaux ",{"$nulls":7},{"$f":"RECAPITULATIF!D21","v":35},null,"sont à votre disposition"]
["pour tous renseignements complémentaires au poste :",{"$nulls":11},{"$f":"RECAPITULATIF!D17","v":2886},{"$nulls":4},{"$f":"'GRILLE IBODE CN EXT'!B21","v":7},{"$f":"'GRILLE IBODE CN EXT'!C21","v":48},{"$f":"'GRILLE IBODE CN EXT'!D21","v":499}]
[]
[{"$nulls":17},{"$f":"'GRILLE IBODE CN EXT'!B23","v":8},{"$f":"'GRILLE IBODE CN EXT'!C23","v":0},{"$f":"'GRILLE IBODE CN EXT'!D23","v":525}]
[]
[]
["Recevez toutes nos salutations."]
[]
[]
[{"$f":"RECAPITULATIF!B5","v":"Madame FERET Isabelle, Madame Anne PICHON et Monsieur Patrick GAUTIER"}]
[]
["SUD Santé Sociaux",{"$nulls":3},{"$f":"RECAPITULATIF!D21","v":35}]
[]
[]
[]
[]
["Tél :",{"$f":"RECAPITULATIF!D19","v":{"v":299212886,"d":"02 99 21 28 86"}}]
["Mél :",null,{"$f":"RECAPITULATIF!C23","v":"sudsante@ch-stmalo.fr"}]
[{"$f":"RECAPITULATIF!B25","v":"Site Départemental Sud"},{"$nulls":4},{"$f":"RECAPITULATIF!D25","v":"http://www.sudsantesociaux35.org"}]

{"sheet":"GRILLE IBODE CS EXT","index":79,"n_rows":21,"n_cols":4,"rows_kept":21,"merged":[[1,1,5,3],[6,1,7,1],[6,2,7,2],[6,3,7,3],[8,1,9,1],[8,2,9,2],[8,3,9,3],[10,1,11,1],[10,2,11,2],[10,3,11,3],[12,1,13,1],[12,2,13,2],[12,3,13,3],[14,1,15,1],[14,2,15,2],[14,3,15,3],[16,1,17,1],[16,2,17,2],[16,3,17,3],[18,1,19,1],[18,2,19,2],[18,3,19,3],[20,1,21,1],[20,2,21,2],[20,3,21,3]]}
[]
[null,"Infirmier de Bloc Opératoire Classe Supérieure\nPuéricultrice Classe Supérieure\n\nExtinction"]
[]
[]
[]
[]
[null,"Echelon","Durée\n(en mois)","Indice\nMajoré"]
[]
[null,1,24,433]
[]
[null,2,24,467]
[]
[null,3,24,487]
[]
[null,4,36,511]
[]
[null,5,36,531]
[]
[null,6,42,552]
[]
[null,7,null,583]

{"sheet":"IMP GRILLE IBODE CS EXT","index":80,"n_rows":6,"n_cols":2,"rows_kept":6,"merged":[[1,1,1,9],[3,1,3,9],[5,1,5,9]]}
[]
[null,"1) Imprimez autant de feuilles que d'agents concernés."]
[]
[null,"2) Pliez en 3 au niveau du repère, deux petits traits noirs."]
[]
[null,"3) Inserrez ce courrier dans une enveloppe 110 X 220 à fenêtre."]

{"sheet":"IBODE CS EXT Echelon 2","index":81,"n_rows":72,"n_cols":20,"rows_kept":72,"merged":[[1,6,1,16],[2,6,2,11],[2,12,2,16],[8,12,9,14],[12,12,12,14],[15,0,15,14],[17,0,17,16],[19,0,19,3],[21,0,21,14],[23,0,23,4],[23,5,23,8],[23,10,23,12],[23,13,23,16],[26,5,27,17],[32,0,32,4],[32,5,32,6],[32,7,32,10],[32,11,32,12],[35,0,35,2],[35,8,35,9],[35,17,39,19],[39,0,39,7],[39,8,39,9],[39,10,39,13],[40,17,41,17],[40,18,41,18],[40,19,41,19],[42,0,42,12],[42,17,43,17],[42,18,43,18],[42,19,43,19],[44,17,45,17],[44,18,45,18],[44,19,45,19],[45,2,45,3],[45,5,45,7],[46,17,47,17],[46,18,47,18],[46,19,47,19],[48,0,48,5],[48,6,48,8],[48,17,49,17],[48,18,49,18],[48,19,49,19],[50,17,51,17],[50,18,51,18],[50,19,51,19],[52,17,53,17],[52,18,53,18],[52,19,53,19],[53,0,53,7],[53,8,53,9],[53,10,53,14],[54,0,54,11],[54,12,54,13],[54,17,55,17],[54,18,55,18],[54,19,55,19],[57,0,57,16],[59,0,59,16],[62,0,62,16],[64,0,64,3],[69,1,69,4],[70,0,70,1],[70,2,70,7],[71,0,71,4],[71,5,71,12]]}
[]
[{"$nulls":6},"Commission Administrative"]
[{"$nulls":6},"Paritaire",{"$nulls":5},{"$f":"RECAPITULATIF!D7","v":"Locale"}]
[]
[]
[]
[]
[]
[{"$nulls":12},"Mme, Mr :"]
[]
[{"$nulls":12},"Grade :"]
[]
[{"$nulls":12},"Service :"]
[]
[]
["Votre ou vos représentant-e-s du personnel"]
[]
[{"$f":"RECAPITULATIF!B5","v":"Madame FERET Isabelle, Madame Anne PICHON et Monsieur Patrick GAUTIER"}]
[]
["SUD Santé Sociaux",{"$nulls":3},{"$f":"RECAPITULATIF!D21","v":35},"du:"]
[]
[{"$f":"RECAPITULATIF!B2","v":"Centre Hospitalier de Saint Malo"}]
[]
["siégeant auprès de la CAP",{"$nulls":4},{"$f":"RECAPITULATIF!D7","v":"Locale"},{"$nulls":3},"du :",{"$f":"RECAPITULATIF!D11","v":"2019-04-16"},null,null,"vous informe de votre :"]
[]
[]
[{"$nulls":5},"AVANCEMENT D’ECHELON"]
[]
[]
[]
[]
[]
["Vous passez à l’échelon :",{"$nulls":4},{"$f":"'GRILLE IBODE CS EXT'!B11","v":2},null,"Indice Majoré :",{"$nulls":3},{"$f":"'GRILLE IBODE CS EXT'!D11","v":467}]
[]
[]
["Date d'effet :",{"$nulls":4},"/",null,"/",{"$f":"RECAPITULATIF!D9","v":2019},{"$nulls":8},{"$f":"'GRILLE IBODE CS EXT'!B2","v":"Infirmier de Bloc Opératoire Classe Supérieure\nPuéricultrice Classe Supérieure\n\nExtinction"}]
[]
[]
[]
["Ce qui représente un gain mensuel de :",{"$nulls":7},{"$f":"'GRILLE IBODE CS EXT'!D11-'GRILLE IBODE CS EXT'!D9","v":34},null,"points d'indice."]
[{"$nulls":17},{"$f":"'GRILLE IBODE CS EXT'!B7","v":"Echelon"},{"$f":"'GRILLE IBODE CS EXT'!C7","v":"Durée\n(en mois)"},{"$f":"'GRILLE IBODE CS EXT'!D7","v":"Indice\nMajoré"}]
[]
["Pour information, la valeur brute du point d'indice",{"$nulls":16},{"$f":"'GRILLE IBODE CS EXT'!B9","v":1},{"$f":"'GRILLE IBODE CS EXT'!C9","v":24},{"$f":"'GRILLE IBODE CS EXT'!D9","v":433}]
[]
[{"$nulls":17},{"$f":"'GRILLE IBODE CS EXT'!B11","v":2},{"$f":"'GRILLE IBODE CS EXT'!C11","v":24},{"$f":"'GRILLE IBODE CS EXT'!D11","v":467}]
["est de",null,{"$f":"RECAPITULATIF!D13","v":{"v":4.686,"d":"4.686 €"}},null,"au",{"$f":"RECAPITULATIF!D15","v":"2019-01-01"}]
[{"$nulls":17},{"$f":"'GRILLE IBODE CS EXT'!B13","v":3},{"$f":"'GRILLE IBODE CS EXT'!C13","v":24},{"$f":"'GRILLE IBODE CS EXT'!D13","v":487}]
[]
["Soit un gain net mensuel de :",{"$nulls":5},{"$f":"I40*C46*0.8315","v":{"v":132.47790600000002,"d":"132.48 €"}},{"$nulls":10},{"$f":"'GRILLE IBODE CS EXT'!B15","v":4},{"$f":"'GRILLE IBODE CS EXT'!C15","v":36},{"$f":"'GRILLE IBODE CS EXT'!D15","v":511}]
[]
[{"$nulls":17},{"$f":"'GRILLE IBODE CS EXT'!B17","v":5},{"$f":"'GRILLE IBODE CS EXT'!C17","v":36},{"$f":"'GRILLE IBODE CS EXT'!D17","v":531}]
[]
[{"$nulls":17},{"$f":"'GRILLE IBODE CS EXT'!B19","v":6},{"$f":"'GRILLE IBODE CS EXT'!C19","v":42},{"$f":"'GRILLE IBODE CS EXT'!D19","v":552}]
["Vos représentant-e-s SUD Santé Sociaux ",{"$nulls":7},{"$f":"RECAPITULATIF!D21","v":35},null,"sont à votre disposition"]
["pour tous renseignements complémentaires au poste :",{"$nulls":11},{"$f":"RECAPITULATIF!D17","v":2886},{"$nulls":4},{"$f":"'GRILLE IBODE CS EXT'!B21","v":7},{"$f":"'GRILLE IBODE CS EXT'!C21","v":0},{"$f":"'GRILLE IBODE CS EXT'!D21","v":583}]
[]
[]
[]
[]
["Recevez toutes nos salutations."]
[]
[]
[{"$f":"RECAPITULATIF!B5","v":"Madame FERET Isabelle, Madame Anne PICHON et Monsieur Patrick GAUTIER"}]
[]
["SUD Santé Sociaux",{"$nulls":3},{"$f":"RECAPITULATIF!D21","v":35}]
[]
[]
[]
[]
["Tél :",{"$f":"RECAPITULATIF!D19","v":{"v":299212886,"d":"02 99 21 28 86"}}]
["Mél :",null,{"$f":"RECAPITULATIF!C23","v":"sudsante@ch-stmalo.fr"}]
[{"$f":"RECAPITULATIF!B25","v":"Site Départemental Sud"},{"$nulls":4},{"$f":"RECAPITULATIF!D25","v":"http://www.sudsantesociaux35.org"}]

{"sheet":"IBODE CS EXT Echelon 3","index":82,"n_rows":72,"n_cols":20,"rows_kept":72,"merged":[[1,6,1,16],[2,6,2,11],[2,12,2,16],[8,12,9,14],[12,12,12,14],[15,0,15,14],[17,0,17,16],[19,0,19,3],[21,0,21,14],[23,0,23,4],[23,5,23,8],[23,10,23,12],[23,13,23,16],[26,5,27,17],[32,0,32,4],[32,5,32,6],[32,7,32,10],[32,11,32,12],[35,0,35,2],[35,8,35,9],[35,17,39,19],[39,0,39,7],[39,8,39,9],[39,10,39,13],[40,17,41,17],[40,18,41,18],[40,19,41,19],[42,0,42,12],[42,17,43,17],[42,18,43,18],[42,19,43,19],[44,17,45,17],[44,18,45,18],[44,19,45,19],[45,2,45,3],[45,5,45,7],[46,17,47,17],[46,18,47,18],[46,19,47,19],[48,0,48,5],[48,6,48,8],[48,17,49,17],[48,18,49,18],[48,19,49,19],[50,17,51,17],[50,18,51,18],[50,19,51,19],[52,17,53,17],[52,18,53,18],[52,19,53,19],[53,0,53,7],[53,8,53,9],[53,10,53,14],[54,0,54,11],[54,12,54,13],[54,17,55,17],[54,18,55,18],[54,19,55,19],[57,0,57,16],[59,0,59,16],[62,0,62,16],[64,0,64,3],[69,1,69,4],[70,0,70,1],[70,2,70,7],[71,0,71,4],[71,5,71,12]]}
[]
[{"$nulls":6},"Commission Administrative"]
[{"$nulls":6},"Paritaire",{"$nulls":5},{"$f":"RECAPITULATIF!D7","v":"Locale"}]
[]
[]
[]
[]
[]
[{"$nulls":12},"Mme, Mr :"]
[]
[{"$nulls":12},"Grade :"]
[]
[{"$nulls":12},"Service :"]
[]
[]
["Votre ou vos représentant-e-s du personnel"]
[]
[{"$f":"RECAPITULATIF!B5","v":"Madame FERET Isabelle, Madame Anne PICHON et Monsieur Patrick GAUTIER"}]
[]
["SUD Santé Sociaux",{"$nulls":3},{"$f":"RECAPITULATIF!D21","v":35},"du:"]
[]
[{"$f":"RECAPITULATIF!B2","v":"Centre Hospitalier de Saint Malo"}]
[]
["siégeant auprès de la CAP",{"$nulls":4},{"$f":"RECAPITULATIF!D7","v":"Locale"},{"$nulls":3},"du :",{"$f":"RECAPITULATIF!D11","v":"2019-04-16"},null,null,"vous informe de votre :"]
[]
[]
[{"$nulls":5},"AVANCEMENT D’ECHELON"]
[]
[]
[]
[]
[]
["Vous passez à l’échelon :",{"$nulls":4},{"$f":"'GRILLE IBODE CS EXT'!B13","v":3},null,"Indice Majoré :",{"$nulls":3},{"$f":"'GRILLE IBODE CS EXT'!D13","v":487}]
[]
[]
["Date d'effet :",{"$nulls":4},"/",null,"/",{"$f":"RECAPITULATIF!D9","v":2019},{"$nulls":8},{"$f":"'GRILLE IBODE CS EXT'!B2","v":"Infirmier de Bloc Opératoire Classe Supérieure\nPuéricultrice Classe Supérieure\n\nExtinction"}]
[]
[]
[]
["Ce qui représente un gain mensuel de :",{"$nulls":7},{"$f":"'GRILLE IBODE CS EXT'!D13-'GRILLE IBODE CS EXT'!D11","v":20},null,"points d'indice."]
[{"$nulls":17},{"$f":"'GRILLE IBODE CS EXT'!B7","v":"Echelon"},{"$f":"'GRILLE IBODE CS EXT'!C7","v":"Durée\n(en mois)"},{"$f":"'GRILLE IBODE CS EXT'!D7","v":"Indice\nMajoré"}]
[]
["Pour information, la valeur brute du point d'indice",{"$nulls":16},{"$f":"'GRILLE IBODE CS EXT'!B9","v":1},{"$f":"'GRILLE IBODE CS EXT'!C9","v":24},{"$f":"'GRILLE IBODE CS EXT'!D9","v":433}]
[]
[{"$nulls":17},{"$f":"'GRILLE IBODE CS EXT'!B11","v":2},{"$f":"'GRILLE IBODE CS EXT'!C11","v":24},{"$f":"'GRILLE IBODE CS EXT'!D11","v":467}]
["est de",null,{"$f":"RECAPITULATIF!D13","v":{"v":4.686,"d":"4.686 €"}},null,"au",{"$f":"RECAPITULATIF!D15","v":"2019-01-01"}]
[{"$nulls":17},{"$f":"'GRILLE IBODE CS EXT'!B13","v":3},{"$f":"'GRILLE IBODE CS EXT'!C13","v":24},{"$f":"'GRILLE IBODE CS EXT'!D13","v":487}]
[]
["Soit un gain net mensuel de :",{"$nulls":5},{"$f":"I40*C46*0.8315","v":{"v":77.92818,"d":"77.93 €"}},{"$nulls":10},{"$f":"'GRILLE IBODE CS EXT'!B15","v":4},{"$f":"'GRILLE IBODE CS EXT'!C15","v":36},{"$f":"'GRILLE IBODE CS EXT'!D15","v":511}]
[]
[{"$nulls":17},{"$f":"'GRILLE IBODE CS EXT'!B17","v":5},{"$f":"'GRILLE IBODE CS EXT'!C17","v":36},{"$f":"'GRILLE IBODE CS EXT'!D17","v":531}]
[]
[{"$nulls":17},{"$f":"'GRILLE IBODE CS EXT'!B19","v":6},{"$f":"'GRILLE IBODE CS EXT'!C19","v":42},{"$f":"'GRILLE IBODE CS EXT'!D19","v":552}]
["Vos représentant-e-s SUD Santé Sociaux ",{"$nulls":7},{"$f":"RECAPITULATIF!D21","v":35},null,"sont à votre disposition"]
["pour tous renseignements complémentaires au poste :",{"$nulls":11},{"$f":"RECAPITULATIF!D17","v":2886},{"$nulls":4},{"$f":"'GRILLE IBODE CS EXT'!B21","v":7},{"$f":"'GRILLE IBODE CS EXT'!C21","v":0},{"$f":"'GRILLE IBODE CS EXT'!D21","v":583}]
[]
[]
[]
[]
["Recevez toutes nos salutations."]
[]
[]
[{"$f":"RECAPITULATIF!B5","v":"Madame FERET Isabelle, Madame Anne PICHON et Monsieur Patrick GAUTIER"}]
[]
["SUD Santé Sociaux",{"$nulls":3},{"$f":"RECAPITULATIF!D21","v":35}]
[]
[]
[]
[]
["Tél :",{"$f":"RECAPITULATIF!D19","v":{"v":299212886,"d":"02 99 21 28 86"}}]
["Mél :",null,{"$f":"RECAPITULATIF!C23","v":"sudsante@ch-stmalo.fr"}]
[{"$f":"RECAPITULATIF!B25","v":"Site Départemental Sud"},{"$nulls":4},{"$f":"RECAPITULATIF!D25","v":"http://www.sudsantesociaux35.org"}]

{"sheet":"IBODE CS EXT Echelon 4","index":83,"n_rows":72,"n_cols":20,"rows_kept":72,"merged":[[1,6,1,16],[2,6,2,11],[2,12,2,16],[8,12,9,14],[12,12,12,14],[15,0,15,14],[17,0,17,16],[19,0,19,3],[21,0,21,14],[23,0,23,4],[23,5,23,8],[23,10,23,12],[23,13,23,16],[26,5,27,17],[32,0,32,4],[32,5,32,6],[32,7,32,10],[32,11,32,12],[35,0,35,2],[35,8,35,9],[35,17,39,19],[39,0,39,7],[39,8,39,9],[39,10,39,13],[40,17,41,17],[40,18,41,18],[40,19,41,19],[42,0,42,12],[42,17,43,17],[42,18,43,18],[42,19,43,19],[44,17,45,17],[44,18,45,18],[44,19,45,19],[45,2,45,3],[45,5,45,7],[46,17,47,17],[46,18,47,18],[46,19,47,19],[48,0,48,5],[48,6,48,8],[48,17,49,17],[48,18,49,18],[48,19,49,19],[50,17,51,17],[50,18,51,18],[50,19,51,19],[52,17,53,17],[52,18,53,18],[52,19,53,19],[53,0,53,7],[53,8,53,9],[53,10,53,14],[54,0,54,11],[54,12,54,13],[54,17,55,17],[54,18,55,18],[54,19,55,19],[57,0,57,16],[59,0,59,16],[62,0,62,16],[64,0,64,3],[69,1,69,4],[70,0,70,1],[70,2,70,7],[71,0,71,4],[71,5,71,12]]}
[]
[{"$nulls":6},"Commission Administrative"]
[{"$nulls":6},"Paritaire",{"$nulls":5},{"$f":"RECAPITULATIF!D7","v":"Locale"}]
[]
[]
[]
[]
[]
[{"$nulls":12},"Mme, Mr :"]
[]
[{"$nulls":12},"Grade :"]
[]
[{"$nulls":12},"Service :"]
[]
[]
["Votre ou vos représentant-e-s du personnel"]
[]
[{"$f":"RECAPITULATIF!B5","v":"Madame FERET Isabelle, Madame Anne PICHON et Monsieur Patrick GAUTIER"}]
[]
["SUD Santé Sociaux",{"$nulls":3},{"$f":"RECAPITULATIF!D21","v":35},"du:"]
[]
[{"$f":"RECAPITULATIF!B2","v":"Centre Hospitalier de Saint Malo"}]
[]
["siégeant auprès de la CAP",{"$nulls":4},{"$f":"RECAPITULATIF!D7","v":"Locale"},{"$nulls":3},"du :",{"$f":"RECAPITULATIF!D11","v":"2019-04-16"},null,null,"vous informe de votre :"]
[]
[]
[{"$nulls":5},"AVANCEMENT D’ECHELON"]
[]
[]
[]
[]
[]
["Vous passez à l’échelon :",{"$nulls":4},{"$f":"'GRILLE IBODE CS EXT'!B15","v":4},null,"Indice Majoré :",{"$nulls":3},{"$f":"'GRILLE IBODE CS EXT'!D15","v":511}]
[]
[]
["Date d'effet :",{"$nulls":4},"/",null,"/",{"$f":"RECAPITULATIF!D9","v":2019},{"$nulls":8},{"$f":"'GRILLE IBODE CS EXT'!B2","v":"Infirmier de Bloc Opératoire Classe Supérieure\nPuéricultrice Classe Supérieure\n\nExtinction"}]
[]
[]
[]
["Ce qui représente un gain mensuel de :",{"$nulls":7},{"$f":"'GRILLE IBODE CS EXT'!D15-'GRILLE IBODE CS EXT'!D13","v":24},null,"points d'indice."]
[{"$nulls":17},{"$f":"'GRILLE IBODE CS EXT'!B7","v":"Echelon"},{"$f":"'GRILLE IBODE CS EXT'!C7","v":"Durée\n(en mois)"},{"$f":"'GRILLE IBODE CS EXT'!D7","v":"Indice\nMajoré"}]
[]
["Pour information, la valeur brute du point d'indice",{"$nulls":16},{"$f":"'GRILLE IBODE CS EXT'!B9","v":1},{"$f":"'GRILLE IBODE CS EXT'!C9","v":24},{"$f":"'GRILLE IBODE CS EXT'!D9","v":433}]
[]
[{"$nulls":17},{"$f":"'GRILLE IBODE CS EXT'!B11","v":2},{"$f":"'GRILLE IBODE CS EXT'!C11","v":24},{"$f":"'GRILLE IBODE CS EXT'!D11","v":467}]
["est de",null,{"$f":"RECAPITULATIF!D13","v":{"v":4.686,"d":"4.686 €"}},null,"au",{"$f":"RECAPITULATIF!D15","v":"2019-01-01"}]
[{"$nulls":17},{"$f":"'GRILLE IBODE CS EXT'!B13","v":3},{"$f":"'GRILLE IBODE CS EXT'!C13","v":24},{"$f":"'GRILLE IBODE CS EXT'!D13","v":487}]
[]
["Soit un gain net mensuel de :",{"$nulls":5},{"$f":"I40*C46*0.8315","v":{"v":93.513816,"d":"93.51 €"}},{"$nulls":10},{"$f":"'GRILLE IBODE CS EXT'!B15","v":4},{"$f":"'GRILLE IBODE CS EXT'!C15","v":36},{"$f":"'GRILLE IBODE CS EXT'!D15","v":511}]
[]
[{"$nulls":17},{"$f":"'GRILLE IBODE CS EXT'!B17","v":5},{"$f":"'GRILLE IBODE CS EXT'!C17","v":36},{"$f":"'GRILLE IBODE CS EXT'!D17","v":531}]
[]
[{"$nulls":17},{"$f":"'GRILLE IBODE CS EXT'!B19","v":6},{"$f":"'GRILLE IBODE CS EXT'!C19","v":42},{"$f":"'GRILLE IBODE CS EXT'!D19","v":552}]
["Vos représentant-e-s SUD Santé Sociaux ",{"$nulls":7},{"$f":"RECAPITULATIF!D21","v":35},null,"sont à votre disposition"]
["pour tous renseignements complémentaires au poste :",{"$nulls":11},{"$f":"RECAPITULATIF!D17","v":2886},{"$nulls":4},{"$f":"'GRILLE IBODE CS EXT'!B21","v":7},{"$f":"'GRILLE IBODE CS EXT'!C21","v":0},{"$f":"'GRILLE IBODE CS EXT'!D21","v":583}]
[]
[]
[]
[]
["Recevez toutes nos salutations."]
[]
[]
[{"$f":"RECAPITULATIF!B5","v":"Madame FERET Isabelle, Madame Anne PICHON et Monsieur Patrick GAUTIER"}]
[]
["SUD Santé Sociaux",{"$nulls":3},{"$f":"RECAPITULATIF!D21","v":35}]
[]
[]
[]
[]
["Tél :",{"$f":"RECAPITULATIF!D19","v":{"v":299212886,"d":"02 99 21 28 86"}}]
["Mél :",null,{"$f":"RECAPITULATIF!C23","v":"sudsante@ch-stmalo.fr"}]
[{"$f":"RECAPITULATIF!B25","v":"Site Départemental Sud"},{"$nulls":4},{"$f":"RECAPITULATIF!D25","v":"http://www.sudsantesociaux35.org"}]

{"sheet":"IBODE CS EXT Echelon 5","index":84,"n_rows":72,"n_cols":20,"rows_kept":72,"merged":[[1,6,1,16],[2,6,2,11],[2,12,2,16],[8,12,9,14],[12,12,12,14],[15,0,15,14],[17,0,17,16],[19,0,19,3],[21,0,21,14],[23,0,23,4],[23,5,23,8],[23,10,23,12],[23,13,23,16],[26,5,27,17],[32,0,32,4],[32,5,32,6],[32,7,32,10],[32,11,32,12],[35,0,35,2],[35,8,35,9],[35,17,39,19],[39,0,39,7],[39,8,39,9],[39,10,39,13],[40,17,41,17],[40,18,41,18],[40,19,41,19],[42,0,42,12],[42,17,43,17],[42,18,43,18],[42,19,43,19],[44,17,45,17],[44,18,45,18],[44,19,45,19],[45,2,45,3],[45,5,45,7],[46,17,47,17],[46,18,47,18],[46,19,47,19],[48,0,48,5],[48,6,48,8],[48,17,49,17],[48,18,49,18],[48,19,49,19],[50,17,51,17],[50,18,51,18],[50,19,51,19],[52,17,53,17],[52,18,53,18],[52,19,53,19],[53,0,53,7],[53,8,53,9],[53,10,53,14],[54,0,54,11],[54,12,54,13],[54,17,55,17],[54,18,55,18],[54,19,55,19],[57,0,57,16],[59,0,59,16],[62,0,62,16],[64,0,64,3],[69,1,69,4],[70,0,70,1],[70,2,70,7],[71,0,71,4],[71,5,71,12]]}
[]
[{"$nulls":6},"Commission Administrative"]
[{"$nulls":6},"Paritaire",{"$nulls":5},{"$f":"RECAPITULATIF!D7","v":"Locale"}]
[]
[]
[]
[]
[]
[{"$nulls":12},"Mme, Mr :"]
[]
[{"$nulls":12},"Grade :"]
[]
[{"$nulls":12},"Service :"]
[]
[]
["Votre ou vos représentant-e-s du personnel"]
[]
[{"$f":"RECAPITULATIF!B5","v":"Madame FERET Isabelle, Madame Anne PICHON et Monsieur Patrick GAUTIER"}]
[]
["SUD Santé Sociaux",{"$nulls":3},{"$f":"RECAPITULATIF!D21","v":35},"du:"]
[]
[{"$f":"RECAPITULATIF!B2","v":"Centre Hospitalier de Saint Malo"}]
[]
["siégeant auprès de la CAP",{"$nulls":4},{"$f":"RECAPITULATIF!D7","v":"Locale"},{"$nulls":3},"du :",{"$f":"RECAPITULATIF!D11","v":"2019-04-16"},null,null,"vous informe de votre :"]
[]
[]
[{"$nulls":5},"AVANCEMENT D’ECHELON"]
[]
[]
[]
[]
[]
["Vous passez à l’échelon :",{"$nulls":4},{"$f":"'GRILLE IBODE CS EXT'!B17","v":5},null,"Indice Majoré :",{"$nulls":3},{"$f":"'GRILLE IBODE CS EXT'!D17","v":531}]
[]
[]
["Date d'effet :",{"$nulls":4},"/",null,"/",{"$f":"RECAPITULATIF!D9","v":2019},{"$nulls":8},{"$f":"'GRILLE IBODE CS EXT'!B2","v":"Infirmier de Bloc Opératoire Classe Supérieure\nPuéricultrice Classe Supérieure\n\nExtinction"}]
[]
[]
[]
["Ce qui représente un gain mensuel de :",{"$nulls":7},{"$f":"'GRILLE IBODE CS EXT'!D17-'GRILLE IBODE CS EXT'!D15","v":20},null,"points d'indice."]
[{"$nulls":17},{"$f":"'GRILLE IBODE CS EXT'!B7","v":"Echelon"},{"$f":"'GRILLE IBODE CS EXT'!C7","v":"Durée\n(en mois)"},{"$f":"'GRILLE IBODE CS EXT'!D7","v":"Indice\nMajoré"}]
[]
["Pour information, la valeur brute du point d'indice",{"$nulls":16},{"$f":"'GRILLE IBODE CS EXT'!B9","v":1},{"$f":"'GRILLE IBODE CS EXT'!C9","v":24},{"$f":"'GRILLE IBODE CS EXT'!D9","v":433}]
[]
[{"$nulls":17},{"$f":"'GRILLE IBODE CS EXT'!B11","v":2},{"$f":"'GRILLE IBODE CS EXT'!C11","v":24},{"$f":"'GRILLE IBODE CS EXT'!D11","v":467}]
["est de",null,{"$f":"RECAPITULATIF!D13","v":{"v":4.686,"d":"4.686 €"}},null,"au",{"$f":"RECAPITULATIF!D15","v":"2019-01-01"}]
[{"$nulls":17},{"$f":"'GRILLE IBODE CS EXT'!B13","v":3},{"$f":"'GRILLE IBODE CS EXT'!C13","v":24},{"$f":"'GRILLE IBODE CS EXT'!D13","v":487}]
[]
["Soit un gain net mensuel de :",{"$nulls":5},{"$f":"I40*C46*0.8315","v":{"v":77.92818,"d":"77.93 €"}},{"$nulls":10},{"$f":"'GRILLE IBODE CS EXT'!B15","v":4},{"$f":"'GRILLE IBODE CS EXT'!C15","v":36},{"$f":"'GRILLE IBODE CS EXT'!D15","v":511}]
[]
[{"$nulls":17},{"$f":"'GRILLE IBODE CS EXT'!B17","v":5},{"$f":"'GRILLE IBODE CS EXT'!C17","v":36},{"$f":"'GRILLE IBODE CS EXT'!D17","v":531}]
[]
[{"$nulls":17},{"$f":"'GRILLE IBODE CS EXT'!B19","v":6},{"$f":"'GRILLE IBODE CS EXT'!C19","v":42},{"$f":"'GRILLE IBODE CS EXT'!D19","v":552}]
["Vos représentant-e-s SUD Santé Sociaux ",{"$nulls":7},{"$f":"RECAPITULATIF!D21","v":35},null,"sont à votre disposition"]
["pour tous renseignements complémentaires au poste :",{"$nulls":11},{"$f":"RECAPITULATIF!D17","v":2886},{"$nulls":4},{"$f":"'GRILLE IBODE CS EXT'!B21","v":7},{"$f":"'GRILLE IBODE CS EXT'!C21","v":0},{"$f":"'GRILLE IBODE CS EXT'!D21","v":583}]
[]
[]
[]
[]
["Recevez toutes nos salutations."]
[]
[]
[{"$f":"RECAPITULATIF!B5","v":"Madame FERET Isabelle, Madame Anne PICHON et Monsieur Patrick GAUTIER"}]
[]
["SUD Santé Sociaux",{"$nulls":3},{"$f":"RECAPITULATIF!D21","v":35}]
[]
[]
[]
[]
["Tél :",{"$f":"RECAPITULATIF!D19","v":{"v":299212886,"d":"02 99 21 28 86"}}]
["Mél :",null,{"$f":"RECAPITULATIF!C23","v":"sudsante@ch-stmalo.fr"}]
[{"$f":"RECAPITULATIF!B25","v":"Site Départemental Sud"},{"$nulls":4},{"$f":"RECAPITULATIF!D25","v":"http://www.sudsantesociaux35.org"}]

{"sheet":"IBODE CS EXT Echelon 6","index":85,"n_rows":72,"n_cols":20,"rows_kept":72,"merged":[[1,6,1,16],[2,6,2,11],[2,12,2,16],[8,12,9,14],[12,12,12,14],[15,0,15,14],[17,0,17,16],[19,0,19,3],[21,0,21,14],[23,0,23,4],[23,5,23,8],[23,10,23,12],[23,13,23,16],[26,5,27,17],[32,0,32,4],[32,5,32,6],[32,7,32,10],[32,11,32,12],[35,0,35,2],[35,8,35,9],[35,17,39,19],[39,0,39,7],[39,8,39,9],[39,10,39,13],[40,17,41,17],[40,18,41,18],[40,19,41,19],[42,0,42,12],[42,17,43,17],[42,18,43,18],[42,19,43,19],[44,17,45,17],[44,18,45,18],[44,19,45,19],[45,2,45,3],[45,5,45,7],[46,17,47,17],[46,18,47,18],[46,19,47,19],[48,0,48,5],[48,6,48,8],[48,17,49,17],[48,18,49,18],[48,19,49,19],[50,17,51,17],[50,18,51,18],[50,19,51,19],[52,17,53,17],[52,18,53,18],[52,19,53,19],[53,0,53,7],[53,8,53,9],[53,10,53,14],[54,0,54,11],[54,12,54,13],[54,17,55,17],[54,18,55,18],[54,19,55,19],[57,0,57,16],[59,0,59,16],[62,0,62,16],[64,0,64,3],[69,1,69,4],[70,0,70,1],[70,2,70,7],[71,0,71,4],[71,5,71,12]]}
[]
[{"$nulls":6},"Commission Administrative"]
[{"$nulls":6},"Paritaire",{"$nulls":5},{"$f":"RECAPITULATIF!D7","v":"Locale"}]
[]
[]
[]
[]
[]
[{"$nulls":12},"Mme, Mr :"]
[]
[{"$nulls":12},"Grade :"]
[]
[{"$nulls":12},"Service :"]
[]
[]
["Votre ou vos représentant-e-s du personnel"]
[]
[{"$f":"RECAPITULATIF!B5","v":"Madame FERET Isabelle, Madame Anne PICHON et Monsieur Patrick GAUTIER"}]
[]
["SUD Santé Sociaux",{"$nulls":3},{"$f":"RECAPITULATIF!D21","v":35},"du:"]
[]
[{"$f":"RECAPITULATIF!B2","v":"Centre Hospitalier de Saint Malo"}]
[]
["siégeant auprès de la CAP",{"$nulls":4},{"$f":"RECAPITULATIF!D7","v":"Locale"},{"$nulls":3},"du :",{"$f":"RECAPITULATIF!D11","v":"2019-04-16"},null,null,"vous informe de votre :"]
[]
[]
[{"$nulls":5},"AVANCEMENT D’ECHELON"]
[]
[]
[]
[]
[]
["Vous passez à l’échelon :",{"$nulls":4},{"$f":"'GRILLE IBODE CS EXT'!B19","v":6},null,"Indice Majoré :",{"$nulls":3},{"$f":"'GRILLE IBODE CS EXT'!D19","v":552}]
[]
[]
["Date d'effet :",{"$nulls":4},"/",null,"/",{"$f":"RECAPITULATIF!D9","v":2019},{"$nulls":8},{"$f":"'GRILLE IBODE CS EXT'!B2","v":"Infirmier de Bloc Opératoire Classe Supérieure\nPuéricultrice Classe Supérieure\n\nExtinction"}]
[]
[]
[]
["Ce qui représente un gain mensuel de :",{"$nulls":7},{"$f":"'GRILLE IBODE CS EXT'!D19-'GRILLE IBODE CS EXT'!D17","v":21},null,"points d'indice."]
[{"$nulls":17},{"$f":"'GRILLE IBODE CS EXT'!B7","v":"Echelon"},{"$f":"'GRILLE IBODE CS EXT'!C7","v":"Durée\n(en mois)"},{"$f":"'GRILLE IBODE CS EXT'!D7","v":"Indice\nMajoré"}]
[]
["Pour information, la valeur brute du point d'indice",{"$nulls":16},{"$f":"'GRILLE IBODE CS EXT'!B9","v":1},{"$f":"'GRILLE IBODE CS EXT'!C9","v":24},{"$f":"'GRILLE IBODE CS EXT'!D9","v":433}]
[]
[{"$nulls":17},{"$f":"'GRILLE IBODE CS EXT'!B11","v":2},{"$f":"'GRILLE IBODE CS EXT'!C11","v":24},{"$f":"'GRILLE IBODE CS EXT'!D11","v":467}]
["est de",null,{"$f":"RECAPITULATIF!D13","v":{"v":4.686,"d":"4.686 €"}},null,"au",{"$f":"RECAPITULATIF!D15","v":"2019-01-01"}]
[{"$nulls":17},{"$f":"'GRILLE IBODE CS EXT'!B13","v":3},{"$f":"'GRILLE IBODE CS EXT'!C13","v":24},{"$f":"'GRILLE IBODE CS EXT'!D13","v":487}]
[]
["Soit un gain net mensuel de :",{"$nulls":5},{"$f":"I40*C46*0.8315","v":{"v":81.824589,"d":"81.82 €"}},{"$nulls":10},{"$f":"'GRILLE IBODE CS EXT'!B15","v":4},{"$f":"'GRILLE IBODE CS EXT'!C15","v":36},{"$f":"'GRILLE IBODE CS EXT'!D15","v":511}]
[]
[{"$nulls":17},{"$f":"'GRILLE IBODE CS EXT'!B17","v":5},{"$f":"'GRILLE IBODE CS EXT'!C17","v":36},{"$f":"'GRILLE IBODE CS EXT'!D17","v":531}]
[]
[{"$nulls":17},{"$f":"'GRILLE IBODE CS EXT'!B19","v":6},{"$f":"'GRILLE IBODE CS EXT'!C19","v":42},{"$f":"'GRILLE IBODE CS EXT'!D19","v":552}]
["Vos représentant-e-s SUD Santé Sociaux ",{"$nulls":7},{"$f":"RECAPITULATIF!D21","v":35},null,"sont à votre disposition"]
["pour tous renseignements complémentaires au poste :",{"$nulls":11},{"$f":"RECAPITULATIF!D17","v":2886},{"$nulls":4},{"$f":"'GRILLE IBODE CS EXT'!B21","v":7},{"$f":"'GRILLE IBODE CS EXT'!C21","v":0},{"$f":"'GRILLE IBODE CS EXT'!D21","v":583}]
[]
[]
[]
[]
["Recevez toutes nos salutations."]
[]
[]
[{"$f":"RECAPITULATIF!B5","v":"Madame FERET Isabelle, Madame Anne PICHON et Monsieur Patrick GAUTIER"}]
[]
["SUD Santé Sociaux",{"$nulls":3},{"$f":"RECAPITULATIF!D21","v":35}]
[]
[]
[]
[]
["Tél :",{"$f":"RECAPITULATIF!D19","v":{"v":299212886,"d":"02 99 21 28 86"}}]
["Mél :",null,{"$f":"RECAPITULATIF!C23","v":"sudsante@ch-stmalo.fr"}]
[{"$f":"RECAPITULATIF!B25","v":"Site Départemental Sud"},{"$nulls":4},{"$f":"RECAPITULATIF!D25","v":"http://www.sudsantesociaux35.org"}]

{"sheet":"IBODE CS EXT Echelon 7","index":86,"n_rows":72,"n_cols":20,"rows_kept":72,"merged":[[1,6,1,16],[2,6,2,11],[2,12,2,16],[8,12,9,14],[12,12,12,14],[15,0,15,14],[17,0,17,16],[19,0,19,3],[21,0,21,14],[23,0,23,4],[23,5,23,8],[23,10,23,12],[23,13,23,16],[26,5,27,17],[32,0,32,4],[32,5,32,6],[32,7,32,10],[32,11,32,12],[35,0,35,2],[35,8,35,9],[35,17,39,19],[39,0,39,7],[39,8,39,9],[39,10,39,13],[40,17,41,17],[40,18,41,18],[40,19,41,19],[42,0,42,12],[42,17,43,17],[42,18,43,18],[42,19,43,19],[44,17,45,17],[44,18,45,18],[44,19,45,19],[45,2,45,3],[45,5,45,7],[46,17,47,17],[46,18,47,18],[46,19,47,19],[48,0,48,5],[48,6,48,8],[48,17,49,17],[48,18,49,18],[48,19,49,19],[50,17,51,17],[50,18,51,18],[50,19,51,19],[52,17,53,17],[52,18,53,18],[52,19,53,19],[53,0,53,7],[53,8,53,9],[53,10,53,14],[54,0,54,11],[54,12,54,13],[54,17,55,17],[54,18,55,18],[54,19,55,19],[57,0,57,16],[59,0,59,16],[62,0,62,16],[64,0,64,3],[69,1,69,4],[70,0,70,1],[70,2,70,7],[71,0,71,4],[71,5,71,12]]}
[]
[{"$nulls":6},"Commission Administrative"]
[{"$nulls":6},"Paritaire",{"$nulls":5},{"$f":"RECAPITULATIF!D7","v":"Locale"}]
[]
[]
[]
[]
[]
[{"$nulls":12},"Mme, Mr :"]
[]
[{"$nulls":12},"Grade :"]
[]
[{"$nulls":12},"Service :"]
[]
[]
["Votre ou vos représentant-e-s du personnel"]
[]
[{"$f":"RECAPITULATIF!B5","v":"Madame FERET Isabelle, Madame Anne PICHON et Monsieur Patrick GAUTIER"}]
[]
["SUD Santé Sociaux",{"$nulls":3},{"$f":"RECAPITULATIF!D21","v":35},"du:"]
[]
[{"$f":"RECAPITULATIF!B2","v":"Centre Hospitalier de Saint Malo"}]
[]
["siégeant auprès de la CAP",{"$nulls":4},{"$f":"RECAPITULATIF!D7","v":"Locale"},{"$nulls":3},"du :",{"$f":"RECAPITULATIF!D11","v":"2019-04-16"},null,null,"vous informe de votre :"]
[]
[]
[{"$nulls":5},"AVANCEMENT D’ECHELON"]
[]
[]
[]
[]
[]
["Vous passez à l’échelon :",{"$nulls":4},{"$f":"'GRILLE IBODE CS EXT'!B21","v":7},null,"Indice Majoré :",{"$nulls":3},{"$f":"'GRILLE IBODE CS EXT'!D21","v":583}]
[]
[]
["Date d'effet :",{"$nulls":4},"/",null,"/",{"$f":"RECAPITULATIF!D9","v":2019},{"$nulls":8},{"$f":"'GRILLE IBODE CS EXT'!B2","v":"Infirmier de Bloc Opératoire Classe Supérieure\nPuéricultrice Classe Supérieure\n\nExtinction"}]
[]
[]
[]
["Ce qui représente un gain mensuel de :",{"$nulls":7},{"$f":"'GRILLE IBODE CS EXT'!D21-'GRILLE IBODE CS EXT'!D19","v":31},null,"points d'indice."]
[{"$nulls":17},{"$f":"'GRILLE IBODE CS EXT'!B7","v":"Echelon"},{"$f":"'GRILLE IBODE CS EXT'!C7","v":"Durée\n(en mois)"},{"$f":"'GRILLE IBODE CS EXT'!D7","v":"Indice\nMajoré"}]
[]
["Pour information, la valeur brute du point d'indice",{"$nulls":16},{"$f":"'GRILLE IBODE CS EXT'!B9","v":1},{"$f":"'GRILLE IBODE CS EXT'!C9","v":24},{"$f":"'GRILLE IBODE CS EXT'!D9","v":433}]
[]
[{"$nulls":17},{"$f":"'GRILLE IBODE CS EXT'!B11","v":2},{"$f":"'GRILLE IBODE CS EXT'!C11","v":24},{"$f":"'GRILLE IBODE CS EXT'!D11","v":467}]
["est de",null,{"$f":"RECAPITULATIF!D13","v":{"v":4.686,"d":"4.686 €"}},null,"au",{"$f":"RECAPITULATIF!D15","v":"2019-01-01"}]
[{"$nulls":17},{"$f":"'GRILLE IBODE CS EXT'!B13","v":3},{"$f":"'GRILLE IBODE CS EXT'!C13","v":24},{"$f":"'GRILLE IBODE CS EXT'!D13","v":487}]
[]
["Soit un gain net mensuel de :",{"$nulls":5},{"$f":"I40*C46*0.8315","v":{"v":120.788679,"d":"120.79 €"}},{"$nulls":10},{"$f":"'GRILLE IBODE CS EXT'!B15","v":4},{"$f":"'GRILLE IBODE CS EXT'!C15","v":36},{"$f":"'GRILLE IBODE CS EXT'!D15","v":511}]
[]
[{"$nulls":17},{"$f":"'GRILLE IBODE CS EXT'!B17","v":5},{"$f":"'GRILLE IBODE CS EXT'!C17","v":36},{"$f":"'GRILLE IBODE CS EXT'!D17","v":531}]
[]
[{"$nulls":17},{"$f":"'GRILLE IBODE CS EXT'!B19","v":6},{"$f":"'GRILLE IBODE CS EXT'!C19","v":42},{"$f":"'GRILLE IBODE CS EXT'!D19","v":552}]
["Vos représentant-e-s SUD Santé Sociaux ",{"$nulls":7},{"$f":"RECAPITULATIF!D21","v":35},null,"sont à votre disposition"]
["pour tous renseignements complémentaires au poste :",{"$nulls":11},{"$f":"RECAPITULATIF!D17","v":2886},{"$nulls":4},{"$f":"'GRILLE IBODE CS EXT'!B21","v":7},{"$f":"'GRILLE IBODE CS EXT'!C21","v":0},{"$f":"'GRILLE IBODE CS EXT'!D21","v":583}]
[]
[]
[]
[]
["Recevez toutes nos salutations."]
[]
[]
[{"$f":"RECAPITULATIF!B5","v":"Madame FERET Isabelle, Madame Anne PICHON et Monsieur Patrick GAUTIER"}]
[]
["SUD Santé Sociaux",{"$nulls":3},{"$f":"RECAPITULATIF!D21","v":35}]
[]
[]
[]
[]
["Tél :",{"$f":"RECAPITULATIF!D19","v":{"v":299212886,"d":"02 99 21 28 86"}}]
["Mél :",null,{"$f":"RECAPITULATIF!C23","v":"sudsante@ch-stmalo.fr"}]
[{"$f":"RECAPITULATIF!B25","v":"Site Départemental Sud"},{"$nulls":4},{"$f":"RECAPITULATIF!D25","v":"http://www.sudsantesociaux35.org"}]

{"sheet":"GRILLE IADE CN EXT","index":87,"n_rows":23,"n_cols":4,"rows_kept":23,"merged":[[1,1,5,3],[6,1,7,1],[6,2,7,2],[6,3,7,3],[8,1,9,1],[8,2,9,2],[8,3,9,3],[10,1,11,1],[10,2,11,2],[10,3,11,3],[12,1,13,1],[12,2,13,2],[12,3,13,3],[14,1,15,1],[14,2,15,2],[14,3,15,3],[16,1,17,1],[16,2,17,2],[16,3,17,3],[18,1,19,1],[18,2,19,2],[18,3,19,3],[20,1,21,1],[20,2,21,2],[20,3,21,3],[22,1,23,1],[22,2,23,2],[22,3,23,3]]}
[]
[null,"Infirmier Anesthésiste\nClasse Normale\n\nExtinction"]
[]
[]
[]
[]
[null,"Echelon","Durée\n(en mois)","Indice\nMajoré"]
[]
[null,1,12,379]
[]
[null,2,24,406]
[]
[null,3,36,426]
[]
[null,4,36,451]
[]
[null,5,48,474]
[]
[null,6,48,500]
[]
[null,7,48,529]
[]
[null,8,null,560]

{"sheet":"IMP GRILLE IADE CN EXT","index":88,"n_rows":6,"n_cols":2,"rows_kept":6,"merged":[[1,1,1,9],[3,1,3,9],[5,1,5,9]]}
[]
[null,"1) Imprimez autant de feuilles que d'agents concernés."]
[]
[null,"2) Pliez en 3 au niveau du repère, deux petits traits noirs."]
[]
[null,"3) Inserrez ce courrier dans une enveloppe 110 X 220 à fenêtre."]

{"sheet":"IADE CN EXT Echelon 2","index":89,"n_rows":72,"n_cols":20,"rows_kept":72,"merged":[[1,6,1,16],[2,6,2,11],[2,12,2,16],[8,12,9,14],[12,12,12,14],[15,0,15,14],[17,0,17,16],[19,0,19,3],[21,0,21,14],[23,0,23,4],[23,5,23,8],[23,10,23,12],[23,13,23,16],[26,5,27,17],[32,0,32,4],[32,5,32,6],[32,7,32,10],[32,11,32,12],[35,0,35,2],[35,8,35,9],[35,17,39,19],[39,0,39,7],[39,8,39,9],[39,10,39,13],[40,17,41,17],[40,18,41,18],[40,19,41,19],[42,0,42,12],[42,17,43,17],[42,18,43,18],[42,19,43,19],[44,17,45,17],[44,18,45,18],[44,19,45,19],[45,2,45,3],[45,5,45,7],[46,17,47,17],[46,18,47,18],[46,19,47,19],[48,0,48,5],[48,6,48,8],[48,17,49,17],[48,18,49,18],[48,19,49,19],[50,17,51,17],[50,18,51,18],[50,19,51,19],[52,17,53,17],[52,18,53,18],[52,19,53,19],[53,0,53,7],[53,8,53,9],[53,10,53,14],[54,0,54,11],[54,12,54,13],[54,17,55,17],[54,18,55,18],[54,19,55,19],[56,17,57,17],[56,18,57,18],[56,19,57,19],[57,0,57,16],[59,0,59,16],[62,0,62,16],[64,0,64,3],[69,1,69,4],[70,0,70,1],[70,2,70,7],[71,0,71,4],[71,5,71,12]]}
[]
[{"$nulls":6},"Commission Administrative"]
[{"$nulls":6},"Paritaire",{"$nulls":5},{"$f":"RECAPITULATIF!D7","v":"Locale"}]
[]
[]
[]
[]
[]
[{"$nulls":12},"Mme, Mr :"]
[]
[{"$nulls":12},"Grade :"]
[]
[{"$nulls":12},"Service :"]
[]
[]
["Votre ou vos représentant-e-s du personnel"]
[]
[{"$f":"RECAPITULATIF!B5","v":"Madame FERET Isabelle, Madame Anne PICHON et Monsieur Patrick GAUTIER"}]
[]
["SUD Santé Sociaux",{"$nulls":3},{"$f":"RECAPITULATIF!D21","v":35},"du:"]
[]
[{"$f":"RECAPITULATIF!B2","v":"Centre Hospitalier de Saint Malo"}]
[]
["siégeant auprès de la CAP",{"$nulls":4},{"$f":"RECAPITULATIF!D7","v":"Locale"},{"$nulls":3},"du :",{"$f":"RECAPITULATIF!D11","v":"2019-04-16"},null,null,"vous informe de votre :"]
[]
[]
[{"$nulls":5},"AVANCEMENT D’ECHELON"]
[]
[]
[]
[]
[]
["Vous passez à l’échelon :",{"$nulls":4},{"$f":"'GRILLE IADE CN EXT'!B11","v":2},null,"Indice Majoré :",{"$nulls":3},{"$f":"'GRILLE IADE CN EXT'!D11","v":406}]
[]
[]
["Date d'effet :",{"$nulls":4},"/",null,"/",{"$f":"RECAPITULATIF!D9","v":2019},{"$nulls":8},{"$f":"'GRILLE IADE CN EXT'!B2","v":"Infirmier Anesthésiste\nClasse Normale\n\nExtinction"}]
[]
[]
[]
["Ce qui représente un gain mensuel de :",{"$nulls":7},{"$f":"'GRILLE IADE CN EXT'!D11-'GRILLE IADE CN EXT'!D9","v":27},null,"points d'indice."]
[{"$nulls":17},{"$f":"'GRILLE IADE CN EXT'!B7","v":"Echelon"},{"$f":"'GRILLE IADE CN EXT'!C7","v":"Durée\n(en mois)"},{"$f":"'GRILLE IADE CN EXT'!D7","v":"Indice\nMajoré"}]
[]
["Pour information, la valeur brute du point d'indice",{"$nulls":16},{"$f":"'GRILLE IADE CN EXT'!B9","v":1},{"$f":"'GRILLE IADE CN EXT'!C9","v":12},{"$f":"'GRILLE IADE CN EXT'!D9","v":379}]
[]
[{"$nulls":17},{"$f":"'GRILLE IADE CN EXT'!B11","v":2},{"$f":"'GRILLE IADE CN EXT'!C11","v":24},{"$f":"'GRILLE IADE CN EXT'!D11","v":406}]
["est de",null,{"$f":"RECAPITULATIF!D13","v":{"v":4.686,"d":"4.686 €"}},null,"au",{"$f":"RECAPITULATIF!D15","v":"2019-01-01"}]
[{"$nulls":17},{"$f":"'GRILLE IADE CN EXT'!B13","v":3},{"$f":"'GRILLE IADE CN EXT'!C13","v":36},{"$f":"'GRILLE IADE CN EXT'!D13","v":426}]
[]
["Soit un gain net mensuel de :",{"$nulls":5},{"$f":"I40*C46*0.8315","v":{"v":105.203043,"d":"105.20 €"}},{"$nulls":10},{"$f":"'GRILLE IADE CN EXT'!B15","v":4},{"$f":"'GRILLE IADE CN EXT'!C15","v":36},{"$f":"'GRILLE IADE CN EXT'!D15","v":451}]
[]
[{"$nulls":17},{"$f":"'GRILLE IADE CN EXT'!B17","v":5},{"$f":"'GRILLE IADE CN EXT'!C17","v":48},{"$f":"'GRILLE IADE CN EXT'!D17","v":474}]
[]
[{"$nulls":17},{"$f":"'GRILLE IADE CN EXT'!B19","v":6},{"$f":"'GRILLE IADE CN EXT'!C19","v":48},{"$f":"'GRILLE IADE CN EXT'!D19","v":500}]
["Vos représentant-e-s SUD Santé Sociaux ",{"$nulls":7},{"$f":"RECAPITULATIF!D21","v":35},null,"sont à votre disposition"]
["pour tous renseignements complémentaires au poste :",{"$nulls":11},{"$f":"RECAPITULATIF!D17","v":2886},{"$nulls":4},{"$f":"'GRILLE IADE CN EXT'!B21","v":7},{"$f":"'GRILLE IADE CN EXT'!C21","v":48},{"$f":"'GRILLE IADE CN EXT'!D21","v":529}]
[]
[{"$nulls":17},{"$f":"'GRILLE IADE CN EXT'!B23","v":8},{"$f":"'GRILLE IADE CN EXT'!C23","v":0},{"$f":"'GRILLE IADE CN EXT'!D23","v":560}]
[]
[]
["Recevez toutes nos salutations."]
[]
[]
[{"$f":"RECAPITULATIF!B5","v":"Madame FERET Isabelle, Madame Anne PICHON et Monsieur Patrick GAUTIER"}]
[]
["SUD Santé Sociaux",{"$nulls":3},{"$f":"RECAPITULATIF!D21","v":35}]
[]
[]
[]
[]
["Tél :",{"$f":"RECAPITULATIF!D19","v":{"v":299212886,"d":"02 99 21 28 86"}}]
["Mél :",null,{"$f":"RECAPITULATIF!C23","v":"sudsante@ch-stmalo.fr"}]
[{"$f":"RECAPITULATIF!B25","v":"Site Départemental Sud"},{"$nulls":4},{"$f":"RECAPITULATIF!D25","v":"http://www.sudsantesociaux35.org"}]

{"sheet":"IADE CN EXT Echelon 3","index":90,"n_rows":72,"n_cols":20,"rows_kept":72,"merged":[[1,6,1,16],[2,6,2,11],[2,12,2,16],[8,12,9,14],[12,12,12,14],[15,0,15,14],[17,0,17,16],[19,0,19,3],[21,0,21,14],[23,0,23,4],[23,5,23,8],[23,10,23,12],[23,13,23,16],[26,5,27,17],[32,0,32,4],[32,5,32,6],[32,7,32,10],[32,11,32,12],[35,0,35,2],[35,8,35,9],[35,17,39,19],[39,0,39,7],[39,8,39,9],[39,10,39,13],[40,17,41,17],[40,18,41,18],[40,19,41,19],[42,0,42,12],[42,17,43,17],[42,18,43,18],[42,19,43,19],[44,17,45,17],[44,18,45,18],[44,19,45,19],[45,2,45,3],[45,5,45,7],[46,17,47,17],[46,18,47,18],[46,19,47,19],[48,0,48,5],[48,6,48,8],[48,17,49,17],[48,18,49,18],[48,19,49,19],[50,17,51,17],[50,18,51,18],[50,19,51,19],[52,17,53,17],[52,18,53,18],[52,19,53,19],[53,0,53,7],[53,8,53,9],[53,10,53,14],[54,0,54,11],[54,12,54,13],[54,17,55,17],[54,18,55,18],[54,19,55,19],[56,17,57,17],[56,18,57,18],[56,19,57,19],[57,0,57,16],[59,0,59,16],[62,0,62,16],[64,0,64,3],[69,1,69,4],[70,0,70,1],[70,2,70,7],[71,0,71,4],[71,5,71,12]]}
[]
[{"$nulls":6},"Commission Administrative"]
[{"$nulls":6},"Paritaire",{"$nulls":5},{"$f":"RECAPITULATIF!D7","v":"Locale"}]
[]
[]
[]
[]
[]
[{"$nulls":12},"Mme, Mr :"]
[]
[{"$nulls":12},"Grade :"]
[]
[{"$nulls":12},"Service :"]
[]
[]
["Votre ou vos représentant-e-s du personnel"]
[]
[{"$f":"RECAPITULATIF!B5","v":"Madame FERET Isabelle, Madame Anne PICHON et Monsieur Patrick GAUTIER"}]
[]
["SUD Santé Sociaux",{"$nulls":3},{"$f":"RECAPITULATIF!D21","v":35},"du:"]
[]
[{"$f":"RECAPITULATIF!B2","v":"Centre Hospitalier de Saint Malo"}]
[]
["siégeant auprès de la CAP",{"$nulls":4},{"$f":"RECAPITULATIF!D7","v":"Locale"},{"$nulls":3},"du :",{"$f":"RECAPITULATIF!D11","v":"2019-04-16"},null,null,"vous informe de votre :"]
[]
[]
[{"$nulls":5},"AVANCEMENT D’ECHELON"]
[]
[]
[]
[]
[]
["Vous passez à l’échelon :",{"$nulls":4},{"$f":"'GRILLE IADE CN EXT'!B13","v":3},null,"Indice Majoré :",{"$nulls":3},{"$f":"'GRILLE IADE CN EXT'!D13","v":426}]
[]
[]
["Date d'effet :",{"$nulls":4},"/",null,"/",{"$f":"RECAPITULATIF!D9","v":2019},{"$nulls":8},{"$f":"'GRILLE IADE CN EXT'!B2","v":"Infirmier Anesthésiste\nClasse Normale\n\nExtinction"}]
[]
[]
[]
["Ce qui représente un gain mensuel de :",{"$nulls":7},{"$f":"'GRILLE IADE CN EXT'!D13-'GRILLE IADE CN EXT'!D11","v":20},null,"points d'indice."]
[{"$nulls":17},{"$f":"'GRILLE IADE CN EXT'!B7","v":"Echelon"},{"$f":"'GRILLE IADE CN EXT'!C7","v":"Durée\n(en mois)"},{"$f":"'GRILLE IADE CN EXT'!D7","v":"Indice\nMajoré"}]
[]
["Pour information, la valeur brute du point d'indice",{"$nulls":16},{"$f":"'GRILLE IADE CN EXT'!B9","v":1},{"$f":"'GRILLE IADE CN EXT'!C9","v":12},{"$f":"'GRILLE IADE CN EXT'!D9","v":379}]
[]
[{"$nulls":17},{"$f":"'GRILLE IADE CN EXT'!B11","v":2},{"$f":"'GRILLE IADE CN EXT'!C11","v":24},{"$f":"'GRILLE IADE CN EXT'!D11","v":406}]
["est de",null,{"$f":"RECAPITULATIF!D13","v":{"v":4.686,"d":"4.686 €"}},null,"au",{"$f":"RECAPITULATIF!D15","v":"2019-01-01"}]
[{"$nulls":17},{"$f":"'GRILLE IADE CN EXT'!B13","v":3},{"$f":"'GRILLE IADE CN EXT'!C13","v":36},{"$f":"'GRILLE IADE CN EXT'!D13","v":426}]
[]
["Soit un gain net mensuel de :",{"$nulls":5},{"$f":"I40*C46*0.8315","v":{"v":77.92818,"d":"77.93 €"}},{"$nulls":10},{"$f":"'GRILLE IADE CN EXT'!B15","v":4},{"$f":"'GRILLE IADE CN EXT'!C15","v":36},{"$f":"'GRILLE IADE CN EXT'!D15","v":451}]
[]
[{"$nulls":17},{"$f":"'GRILLE IADE CN EXT'!B17","v":5},{"$f":"'GRILLE IADE CN EXT'!C17","v":48},{"$f":"'GRILLE IADE CN EXT'!D17","v":474}]
[]
[{"$nulls":17},{"$f":"'GRILLE IADE CN EXT'!B19","v":6},{"$f":"'GRILLE IADE CN EXT'!C19","v":48},{"$f":"'GRILLE IADE CN EXT'!D19","v":500}]
["Vos représentant-e-s SUD Santé Sociaux ",{"$nulls":7},{"$f":"RECAPITULATIF!D21","v":35},null,"sont à votre disposition"]
["pour tous renseignements complémentaires au poste :",{"$nulls":11},{"$f":"RECAPITULATIF!D17","v":2886},{"$nulls":4},{"$f":"'GRILLE IADE CN EXT'!B21","v":7},{"$f":"'GRILLE IADE CN EXT'!C21","v":48},{"$f":"'GRILLE IADE CN EXT'!D21","v":529}]
[]
[{"$nulls":17},{"$f":"'GRILLE IADE CN EXT'!B23","v":8},{"$f":"'GRILLE IADE CN EXT'!C23","v":0},{"$f":"'GRILLE IADE CN EXT'!D23","v":560}]
[]
[]
["Recevez toutes nos salutations."]
[]
[]
[{"$f":"RECAPITULATIF!B5","v":"Madame FERET Isabelle, Madame Anne PICHON et Monsieur Patrick GAUTIER"}]
[]
["SUD Santé Sociaux",{"$nulls":3},{"$f":"RECAPITULATIF!D21","v":35}]
[]
[]
[]
[]
["Tél :",{"$f":"RECAPITULATIF!D19","v":{"v":299212886,"d":"02 99 21 28 86"}}]
["Mél :",null,{"$f":"RECAPITULATIF!C23","v":"sudsante@ch-stmalo.fr"}]
[{"$f":"RECAPITULATIF!B25","v":"Site Départemental Sud"},{"$nulls":4},{"$f":"RECAPITULATIF!D25","v":"http://www.sudsantesociaux35.org"}]

{"sheet":"IADE CN EXT Echelon 4","index":91,"n_rows":72,"n_cols":20,"rows_kept":72,"merged":[[1,6,1,16],[2,6,2,11],[2,12,2,16],[8,12,9,14],[12,12,12,14],[15,0,15,14],[17,0,17,16],[19,0,19,3],[21,0,21,14],[23,0,23,4],[23,5,23,8],[23,10,23,12],[23,13,23,16],[26,5,27,17],[32,0,32,4],[32,5,32,6],[32,7,32,10],[32,11,32,12],[35,0,35,2],[35,8,35,9],[35,17,39,19],[39,0,39,7],[39,8,39,9],[39,10,39,13],[40,17,41,17],[40,18,41,18],[40,19,41,19],[42,0,42,12],[42,17,43,17],[42,18,43,18],[42,19,43,19],[44,17,45,17],[44,18,45,18],[44,19,45,19],[45,2,45,3],[45,5,45,7],[46,17,47,17],[46,18,47,18],[46,19,47,19],[48,0,48,5],[48,6,48,8],[48,17,49,17],[48,18,49,18],[48,19,49,19],[50,17,51,17],[50,18,51,18],[50,19,51,19],[52,17,53,17],[52,18,53,18],[52,19,53,19],[53,0,53,7],[53,8,53,9],[53,10,53,14],[54,0,54,11],[54,12,54,13],[54,17,55,17],[54,18,55,18],[54,19,55,19],[56,17,57,17],[56,18,57,18],[56,19,57,19],[57,0,57,16],[59,0,59,16],[62,0,62,16],[64,0,64,3],[69,1,69,4],[70,0,70,1],[70,2,70,7],[71,0,71,4],[71,5,71,12]]}
[]
[{"$nulls":6},"Commission Administrative"]
[{"$nulls":6},"Paritaire",{"$nulls":5},{"$f":"RECAPITULATIF!D7","v":"Locale"}]
[]
[]
[]
[]
[]
[{"$nulls":12},"Mme, Mr :"]
[]
[{"$nulls":12},"Grade :"]
[]
[{"$nulls":12},"Service :"]
[]
[]
["Votre ou vos représentant-e-s du personnel"]
[]
[{"$f":"RECAPITULATIF!B5","v":"Madame FERET Isabelle, Madame Anne PICHON et Monsieur Patrick GAUTIER"}]
[]
["SUD Santé Sociaux",{"$nulls":3},{"$f":"RECAPITULATIF!D21","v":35},"du:"]
[]
[{"$f":"RECAPITULATIF!B2","v":"Centre Hospitalier de Saint Malo"}]
[]
["siégeant auprès de la CAP",{"$nulls":4},{"$f":"RECAPITULATIF!D7","v":"Locale"},{"$nulls":3},"du :",{"$f":"RECAPITULATIF!D11","v":"2019-04-16"},null,null,"vous informe de votre :"]
[]
[]
[{"$nulls":5},"AVANCEMENT D’ECHELON"]
[]
[]
[]
[]
[]
["Vous passez à l’échelon :",{"$nulls":4},{"$f":"'GRILLE IADE CN EXT'!B15","v":4},null,"Indice Majoré :",{"$nulls":3},{"$f":"'GRILLE IADE CN EXT'!D15","v":451}]
[]
[]
["Date d'effet :",{"$nulls":4},"/",null,"/",{"$f":"RECAPITULATIF!D9","v":2019},{"$nulls":8},{"$f":"'GRILLE IADE CN EXT'!B2","v":"Infirmier Anesthésiste\nClasse Normale\n\nExtinction"}]
[]
[]
[]
["Ce qui représente un gain mensuel de :",{"$nulls":7},{"$f":"'GRILLE IADE CN EXT'!D15-'GRILLE IADE CN EXT'!D13","v":25},null,"points d'indice."]
[{"$nulls":17},{"$f":"'GRILLE IADE CN EXT'!B7","v":"Echelon"},{"$f":"'GRILLE IADE CN EXT'!C7","v":"Durée\n(en mois)"},{"$f":"'GRILLE IADE CN EXT'!D7","v":"Indice\nMajoré"}]
[]
["Pour information, la valeur brute du point d'indice",{"$nulls":16},{"$f":"'GRILLE IADE CN EXT'!B9","v":1},{"$f":"'GRILLE IADE CN EXT'!C9","v":12},{"$f":"'GRILLE IADE CN EXT'!D9","v":379}]
[]
[{"$nulls":17},{"$f":"'GRILLE IADE CN EXT'!B11","v":2},{"$f":"'GRILLE IADE CN EXT'!C11","v":24},{"$f":"'GRILLE IADE CN EXT'!D11","v":406}]
["est de",null,{"$f":"RECAPITULATIF!D13","v":{"v":4.686,"d":"4.686 €"}},null,"au",{"$f":"RECAPITULATIF!D15","v":"2019-01-01"}]
[{"$nulls":17},{"$f":"'GRILLE IADE CN EXT'!B13","v":3},{"$f":"'GRILLE IADE CN EXT'!C13","v":36},{"$f":"'GRILLE IADE CN EXT'!D13","v":426}]
[]
["Soit un gain net mensuel de :",{"$nulls":5},{"$f":"I40*C46*0.8315","v":{"v":97.41022500000001,"d":"97.41 €"}},{"$nulls":10},{"$f":"'GRILLE IADE CN EXT'!B15","v":4},{"$f":"'GRILLE IADE CN EXT'!C15","v":36},{"$f":"'GRILLE IADE CN EXT'!D15","v":451}]
[]
[{"$nulls":17},{"$f":"'GRILLE IADE CN EXT'!B17","v":5},{"$f":"'GRILLE IADE CN EXT'!C17","v":48},{"$f":"'GRILLE IADE CN EXT'!D17","v":474}]
[]
[{"$nulls":17},{"$f":"'GRILLE IADE CN EXT'!B19","v":6},{"$f":"'GRILLE IADE CN EXT'!C19","v":48},{"$f":"'GRILLE IADE CN EXT'!D19","v":500}]
["Vos représentant-e-s SUD Santé Sociaux ",{"$nulls":7},{"$f":"RECAPITULATIF!D21","v":35},null,"sont à votre disposition"]
["pour tous renseignements complémentaires au poste :",{"$nulls":11},{"$f":"RECAPITULATIF!D17","v":2886},{"$nulls":4},{"$f":"'GRILLE IADE CN EXT'!B21","v":7},{"$f":"'GRILLE IADE CN EXT'!C21","v":48},{"$f":"'GRILLE IADE CN EXT'!D21","v":529}]
[]
[{"$nulls":17},{"$f":"'GRILLE IADE CN EXT'!B23","v":8},{"$f":"'GRILLE IADE CN EXT'!C23","v":0},{"$f":"'GRILLE IADE CN EXT'!D23","v":560}]
[]
[]
["Recevez toutes nos salutations."]
[]
[]
[{"$f":"RECAPITULATIF!B5","v":"Madame FERET Isabelle, Madame Anne PICHON et Monsieur Patrick GAUTIER"}]
[]
["SUD Santé Sociaux",{"$nulls":3},{"$f":"RECAPITULATIF!D21","v":35}]
[]
[]
[]
[]
["Tél :",{"$f":"RECAPITULATIF!D19","v":{"v":299212886,"d":"02 99 21 28 86"}}]
["Mél :",null,{"$f":"RECAPITULATIF!C23","v":"sudsante@ch-stmalo.fr"}]
[{"$f":"RECAPITULATIF!B25","v":"Site Départemental Sud"},{"$nulls":4},{"$f":"RECAPITULATIF!D25","v":"http://www.sudsantesociaux35.org"}]

{"sheet":"IADE CN EXT Echelon 5","index":92,"n_rows":72,"n_cols":20,"rows_kept":72,"merged":[[1,6,1,16],[2,6,2,11],[2,12,2,16],[8,12,9,14],[12,12,12,14],[15,0,15,14],[17,0,17,16],[19,0,19,3],[21,0,21,14],[23,0,23,4],[23,5,23,8],[23,10,23,12],[23,13,23,16],[26,5,27,17],[32,0,32,4],[32,5,32,6],[32,7,32,10],[32,11,32,12],[35,0,35,2],[35,8,35,9],[35,17,39,19],[39,0,39,7],[39,8,39,9],[39,10,39,13],[40,17,41,17],[40,18,41,18],[40,19,41,19],[42,0,42,12],[42,17,43,17],[42,18,43,18],[42,19,43,19],[44,17,45,17],[44,18,45,18],[44,19,45,19],[45,2,45,3],[45,5,45,7],[46,17,47,17],[46,18,47,18],[46,19,47,19],[48,0,48,5],[48,6,48,8],[48,17,49,17],[48,18,49,18],[48,19,49,19],[50,17,51,17],[50,18,51,18],[50,19,51,19],[52,17,53,17],[52,18,53,18],[52,19,53,19],[53,0,53,7],[53,8,53,9],[53,10,53,14],[54,0,54,11],[54,12,54,13],[54,17,55,17],[54,18,55,18],[54,19,55,19],[56,17,57,17],[56,18,57,18],[56,19,57,19],[57,0,57,16],[59,0,59,16],[62,0,62,16],[64,0,64,3],[69,1,69,4],[70,0,70,1],[70,2,70,7],[71,0,71,4],[71,5,71,12]]}
[]
[{"$nulls":6},"Commission Administrative"]
[{"$nulls":6},"Paritaire",{"$nulls":5},{"$f":"RECAPITULATIF!D7","v":"Locale"}]
[]
[]
[]
[]
[]
[{"$nulls":12},"Mme, Mr :"]
[]
[{"$nulls":12},"Grade :"]
[]
[{"$nulls":12},"Service :"]
[]
[]
["Votre ou vos représentant-e-s du personnel"]
[]
[{"$f":"RECAPITULATIF!B5","v":"Madame FERET Isabelle, Madame Anne PICHON et Monsieur Patrick GAUTIER"}]
[]
["SUD Santé Sociaux",{"$nulls":3},{"$f":"RECAPITULATIF!D21","v":35},"du:"]
[]
[{"$f":"RECAPITULATIF!B2","v":"Centre Hospitalier de Saint Malo"}]
[]
["siégeant auprès de la CAP",{"$nulls":4},{"$f":"RECAPITULATIF!D7","v":"Locale"},{"$nulls":3},"du :",{"$f":"RECAPITULATIF!D11","v":"2019-04-16"},null,null,"vous informe de votre :"]
[]
[]
[{"$nulls":5},"AVANCEMENT D’ECHELON"]
[]
[]
[]
[]
[]
["Vous passez à l’échelon :",{"$nulls":4},{"$f":"'GRILLE IADE CN EXT'!B17","v":5},null,"Indice Majoré :",{"$nulls":3},{"$f":"'GRILLE IADE CN EXT'!D17","v":474}]
[]
[]
["Date d'effet :",{"$nulls":4},"/",null,"/",{"$f":"RECAPITULATIF!D9","v":2019},{"$nulls":8},{"$f":"'GRILLE IADE CN EXT'!B2","v":"Infirmier Anesthésiste\nClasse Normale\n\nExtinction"}]
[]
[]
[]
["Ce qui représente un gain mensuel de :",{"$nulls":7},{"$f":"'GRILLE IADE CN EXT'!D17-'GRILLE IADE CN EXT'!D15","v":23},null,"points d'indice."]
[{"$nulls":17},{"$f":"'GRILLE IADE CN EXT'!B7","v":"Echelon"},{"$f":"'GRILLE IADE CN EXT'!C7","v":"Durée\n(en mois)"},{"$f":"'GRILLE IADE CN EXT'!D7","v":"Indice\nMajoré"}]
[]
["Pour information, la valeur brute du point d'indice",{"$nulls":16},{"$f":"'GRILLE IADE CN EXT'!B9","v":1},{"$f":"'GRILLE IADE CN EXT'!C9","v":12},{"$f":"'GRILLE IADE CN EXT'!D9","v":379}]
[]
[{"$nulls":17},{"$f":"'GRILLE IADE CN EXT'!B11","v":2},{"$f":"'GRILLE IADE CN EXT'!C11","v":24},{"$f":"'GRILLE IADE CN EXT'!D11","v":406}]
["est de",null,{"$f":"RECAPITULATIF!D13","v":{"v":4.686,"d":"4.686 €"}},null,"au",{"$f":"RECAPITULATIF!D15","v":"2019-01-01"}]
[{"$nulls":17},{"$f":"'GRILLE IADE CN EXT'!B13","v":3},{"$f":"'GRILLE IADE CN EXT'!C13","v":36},{"$f":"'GRILLE IADE CN EXT'!D13","v":426}]
[]
["Soit un gain net mensuel de :",{"$nulls":5},{"$f":"I40*C46*0.8315","v":{"v":89.617407,"d":"89.62 €"}},{"$nulls":10},{"$f":"'GRILLE IADE CN EXT'!B15","v":4},{"$f":"'GRILLE IADE CN EXT'!C15","v":36},{"$f":"'GRILLE IADE CN EXT'!D15","v":451}]
[]
[{"$nulls":17},{"$f":"'GRILLE IADE CN EXT'!B17","v":5},{"$f":"'GRILLE IADE CN EXT'!C17","v":48},{"$f":"'GRILLE IADE CN EXT'!D17","v":474}]
[]
[{"$nulls":17},{"$f":"'GRILLE IADE CN EXT'!B19","v":6},{"$f":"'GRILLE IADE CN EXT'!C19","v":48},{"$f":"'GRILLE IADE CN EXT'!D19","v":500}]
["Vos représentant-e-s SUD Santé Sociaux ",{"$nulls":7},{"$f":"RECAPITULATIF!D21","v":35},null,"sont à votre disposition"]
["pour tous renseignements complémentaires au poste :",{"$nulls":11},{"$f":"RECAPITULATIF!D17","v":2886},{"$nulls":4},{"$f":"'GRILLE IADE CN EXT'!B21","v":7},{"$f":"'GRILLE IADE CN EXT'!C21","v":48},{"$f":"'GRILLE IADE CN EXT'!D21","v":529}]
[]
[{"$nulls":17},{"$f":"'GRILLE IADE CN EXT'!B23","v":8},{"$f":"'GRILLE IADE CN EXT'!C23","v":0},{"$f":"'GRILLE IADE CN EXT'!D23","v":560}]
[]
[]
["Recevez toutes nos salutations."]
[]
[]
[{"$f":"RECAPITULATIF!B5","v":"Madame FERET Isabelle, Madame Anne PICHON et Monsieur Patrick GAUTIER"}]
[]
["SUD Santé Sociaux",{"$nulls":3},{"$f":"RECAPITULATIF!D21","v":35}]
[]
[]
[]
[]
["Tél :",{"$f":"RECAPITULATIF!D19","v":{"v":299212886,"d":"02 99 21 28 86"}}]
["Mél :",null,{"$f":"RECAPITULATIF!C23","v":"sudsante@ch-stmalo.fr"}]
[{"$f":"RECAPITULATIF!B25","v":"Site Départemental Sud"},{"$nulls":4},{"$f":"RECAPITULATIF!D25","v":"http://www.sudsantesociaux35.org"}]

{"sheet":"IADE CN EXT Echelon 6","index":93,"n_rows":72,"n_cols":20,"rows_kept":72,"merged":[[1,6,1,16],[2,6,2,11],[2,12,2,16],[8,12,9,14],[12,12,12,14],[15,0,15,14],[17,0,17,16],[19,0,19,3],[21,0,21,14],[23,0,23,4],[23,5,23,8],[23,10,23,12],[23,13,23,16],[26,5,27,17],[32,0,32,4],[32,5,32,6],[32,7,32,10],[32,11,32,12],[35,0,35,2],[35,8,35,9],[35,17,39,19],[39,0,39,7],[39,8,39,9],[39,10,39,13],[40,17,41,17],[40,18,41,18],[40,19,41,19],[42,0,42,12],[42,17,43,17],[42,18,43,18],[42,19,43,19],[44,17,45,17],[44,18,45,18],[44,19,45,19],[45,2,45,3],[45,5,45,7],[46,17,47,17],[46,18,47,18],[46,19,47,19],[48,0,48,5],[48,6,48,8],[48,17,49,17],[48,18,49,18],[48,19,49,19],[50,17,51,17],[50,18,51,18],[50,19,51,19],[52,17,53,17],[52,18,53,18],[52,19,53,19],[53,0,53,7],[53,8,53,9],[53,10,53,14],[54,0,54,11],[54,12,54,13],[54,17,55,17],[54,18,55,18],[54,19,55,19],[56,17,57,17],[56,18,57,18],[56,19,57,19],[57,0,57,16],[59,0,59,16],[62,0,62,16],[64,0,64,3],[69,1,69,4],[70,0,70,1],[70,2,70,7],[71,0,71,4],[71,5,71,12]]}
[]
[{"$nulls":6},"Commission Administrative"]
[{"$nulls":6},"Paritaire",{"$nulls":5},{"$f":"RECAPITULATIF!D7","v":"Locale"}]
[]
[]
[]
[]
[]
[{"$nulls":12},"Mme, Mr :"]
[]
[{"$nulls":12},"Grade :"]
[]
[{"$nulls":12},"Service :"]
[]
[]
["Votre ou vos représentant-e-s du personnel"]
[]
[{"$f":"RECAPITULATIF!B5","v":"Madame FERET Isabelle, Madame Anne PICHON et Monsieur Patrick GAUTIER"}]
[]
["SUD Santé Sociaux",{"$nulls":3},{"$f":"RECAPITULATIF!D21","v":35},"du:"]
[]
[{"$f":"RECAPITULATIF!B2","v":"Centre Hospitalier de Saint Malo"}]
[]
["siégeant auprès de la CAP",{"$nulls":4},{"$f":"RECAPITULATIF!D7","v":"Locale"},{"$nulls":3},"du :",{"$f":"RECAPITULATIF!D11","v":"2019-04-16"},null,null,"vous informe de votre :"]
[]
[]
[{"$nulls":5},"AVANCEMENT D’ECHELON"]
[]
[]
[]
[]
[]
["Vous passez à l’échelon :",{"$nulls":4},{"$f":"'GRILLE IADE CN EXT'!B19","v":6},null,"Indice Majoré :",{"$nulls":3},{"$f":"'GRILLE IADE CN EXT'!D19","v":500}]
[]
[]
["Date d'effet :",{"$nulls":4},"/",null,"/",{"$f":"RECAPITULATIF!D9","v":2019},{"$nulls":8},{"$f":"'GRILLE IADE CN EXT'!B2","v":"Infirmier Anesthésiste\nClasse Normale\n\nExtinction"}]
[]
[]
[]
["Ce qui représente un gain mensuel de :",{"$nulls":7},{"$f":"'GRILLE IADE CN EXT'!D19-'GRILLE IADE CN EXT'!D17","v":26},null,"points d'indice."]
[{"$nulls":17},{"$f":"'GRILLE IADE CN EXT'!B7","v":"Echelon"},{"$f":"'GRILLE IADE CN EXT'!C7","v":"Durée\n(en mois)"},{"$f":"'GRILLE IADE CN EXT'!D7","v":"Indice\nMajoré"}]
[]
["Pour information, la valeur brute du point d'indice",{"$nulls":16},{"$f":"'GRILLE IADE CN EXT'!B9","v":1},{"$f":"'GRILLE IADE CN EXT'!C9","v":12},{"$f":"'GRILLE IADE CN EXT'!D9","v":379}]
[]
[{"$nulls":17},{"$f":"'GRILLE IADE CN EXT'!B11","v":2},{"$f":"'GRILLE IADE CN EXT'!C11","v":24},{"$f":"'GRILLE IADE CN EXT'!D11","v":406}]
["est de",null,{"$f":"RECAPITULATIF!D13","v":{"v":4.686,"d":"4.686 €"}},null,"au",{"$f":"RECAPITULATIF!D15","v":"2019-01-01"}]
[{"$nulls":17},{"$f":"'GRILLE IADE CN EXT'!B13","v":3},{"$f":"'GRILLE IADE CN EXT'!C13","v":36},{"$f":"'GRILLE IADE CN EXT'!D13","v":426}]
[]
["Soit un gain net mensuel de :",{"$nulls":5},{"$f":"I40*C46*0.8315","v":{"v":101.306634,"d":"101.31 €"}},{"$nulls":10},{"$f":"'GRILLE IADE CN EXT'!B15","v":4},{"$f":"'GRILLE IADE CN EXT'!C15","v":36},{"$f":"'GRILLE IADE CN EXT'!D15","v":451}]
[]
[{"$nulls":17},{"$f":"'GRILLE IADE CN EXT'!B17","v":5},{"$f":"'GRILLE IADE CN EXT'!C17","v":48},{"$f":"'GRILLE IADE CN EXT'!D17","v":474}]
[]
[{"$nulls":17},{"$f":"'GRILLE IADE CN EXT'!B19","v":6},{"$f":"'GRILLE IADE CN EXT'!C19","v":48},{"$f":"'GRILLE IADE CN EXT'!D19","v":500}]
["Vos représentant-e-s SUD Santé Sociaux ",{"$nulls":7},{"$f":"RECAPITULATIF!D21","v":35},null,"sont à votre disposition"]
["pour tous renseignements complémentaires au poste :",{"$nulls":11},{"$f":"RECAPITULATIF!D17","v":2886},{"$nulls":4},{"$f":"'GRILLE IADE CN EXT'!B21","v":7},{"$f":"'GRILLE IADE CN EXT'!C21","v":48},{"$f":"'GRILLE IADE CN EXT'!D21","v":529}]
[]
[{"$nulls":17},{"$f":"'GRILLE IADE CN EXT'!B23","v":8},{"$f":"'GRILLE IADE CN EXT'!C23","v":0},{"$f":"'GRILLE IADE CN EXT'!D23","v":560}]
[]
[]
["Recevez toutes nos salutations."]
[]
[]
[{"$f":"RECAPITULATIF!B5","v":"Madame FERET Isabelle, Madame Anne PICHON et Monsieur Patrick GAUTIER"}]
[]
["SUD Santé Sociaux",{"$nulls":3},{"$f":"RECAPITULATIF!D21","v":35}]
[]
[]
[]
[]
["Tél :",{"$f":"RECAPITULATIF!D19","v":{"v":299212886,"d":"02 99 21 28 86"}}]
["Mél :",null,{"$f":"RECAPITULATIF!C23","v":"sudsante@ch-stmalo.fr"}]
[{"$f":"RECAPITULATIF!B25","v":"Site Départemental Sud"},{"$nulls":4},{"$f":"RECAPITULATIF!D25","v":"http://www.sudsantesociaux35.org"}]

{"sheet":"IADE CN EXT Echelon 7","index":94,"n_rows":72,"n_cols":20,"rows_kept":72,"merged":[[1,6,1,16],[2,6,2,11],[2,12,2,16],[8,12,9,14],[12,12,12,14],[15,0,15,14],[17,0,17,16],[19,0,19,3],[21,0,21,14],[23,0,23,4],[23,5,23,8],[23,10,23,12],[23,13,23,16],[26,5,27,17],[32,0,32,4],[32,5,32,6],[32,7,32,10],[32,11,32,12],[35,0,35,2],[35,8,35,9],[35,17,39,19],[39,0,39,7],[39,8,39,9],[39,10,39,13],[40,17,41,17],[40,18,41,18],[40,19,41,19],[42,0,42,12],[42,17,43,17],[42,18,43,18],[42,19,43,19],[44,17,45,17],[44,18,45,18],[44,19,45,19],[45,2,45,3],[45,5,45,7],[46,17,47,17],[46,18,47,18],[46,19,47,19],[48,0,48,5],[48,6,48,8],[48,17,49,17],[48,18,49,18],[48,19,49,19],[50,17,51,17],[50,18,51,18],[50,19,51,19],[52,17,53,17],[52,18,53,18],[52,19,53,19],[53,0,53,7],[53,8,53,9],[53,10,53,14],[54,0,54,11],[54,12,54,13],[54,17,55,17],[54,18,55,18],[54,19,55,19],[56,17,57,17],[56,18,57,18],[56,19,57,19],[57,0,57,16],[59,0,59,16],[62,0,62,16],[64,0,64,3],[69,1,69,4],[70,0,70,1],[70,2,70,7],[71,0,71,4],[71,5,71,12]]}
[]
[{"$nulls":6},"Commission Administrative"]
[{"$nulls":6},"Paritaire",{"$nulls":5},{"$f":"RECAPITULATIF!D7","v":"Locale"}]
[]
[]
[]
[]
[]
[{"$nulls":12},"Mme, Mr :"]
[]
[{"$nulls":12},"Grade :"]
[]
[{"$nulls":12},"Service :"]
[]
[]
["Votre ou vos représentant-e-s du personnel"]
[]
[{"$f":"RECAPITULATIF!B5","v":"Madame FERET Isabelle, Madame Anne PICHON et Monsieur Patrick GAUTIER"}]
[]
["SUD Santé Sociaux",{"$nulls":3},{"$f":"RECAPITULATIF!D21","v":35},"du:"]
[]
[{"$f":"RECAPITULATIF!B2","v":"Centre Hospitalier de Saint Malo"}]
[]
["siégeant auprès de la CAP",{"$nulls":4},{"$f":"RECAPITULATIF!D7","v":"Locale"},{"$nulls":3},"du :",{"$f":"RECAPITULATIF!D11","v":"2019-04-16"},null,null,"vous informe de votre :"]
[]
[]
[{"$nulls":5},"AVANCEMENT D’ECHELON"]
[]
[]
[]
[]
[]
["Vous passez à l’échelon :",{"$nulls":4},{"$f":"'GRILLE IADE CN EXT'!B21","v":7},null,"Indice Majoré :",{"$nulls":3},{"$f":"'GRILLE IADE CN EXT'!D21","v":529}]
[]
[]
["Date d'effet :",{"$nulls":4},"/",null,"/",{"$f":"RECAPITULATIF!D9","v":2019},{"$nulls":8},{"$f":"'GRILLE IADE CN EXT'!B2","v":"Infirmier Anesthésiste\nClasse Normale\n\nExtinction"}]
[]
[]
[]
["Ce qui représente un gain mensuel de :",{"$nulls":7},{"$f":"'GRILLE IADE CN EXT'!D21-'GRILLE IADE CN EXT'!D19","v":29},null,"points d'indice."]
[{"$nulls":17},{"$f":"'GRILLE IADE CN EXT'!B7","v":"Echelon"},{"$f":"'GRILLE IADE CN EXT'!C7","v":"Durée\n(en mois)"},{"$f":"'GRILLE IADE CN EXT'!D7","v":"Indice\nMajoré"}]
[]
["Pour information, la valeur brute du point d'indice",{"$nulls":16},{"$f":"'GRILLE IADE CN EXT'!B9","v":1},{"$f":"'GRILLE IADE CN EXT'!C9","v":12},{"$f":"'GRILLE IADE CN EXT'!D9","v":379}]
[]
[{"$nulls":17},{"$f":"'GRILLE IADE CN EXT'!B11","v":2},{"$f":"'GRILLE IADE CN EXT'!C11","v":24},{"$f":"'GRILLE IADE CN EXT'!D11","v":406}]
["est de",null,{"$f":"RECAPITULATIF!D13","v":{"v":4.686,"d":"4.686 €"}},null,"au",{"$f":"RECAPITULATIF!D15","v":"2019-01-01"}]
[{"$nulls":17},{"$f":"'GRILLE IADE CN EXT'!B13","v":3},{"$f":"'GRILLE IADE CN EXT'!C13","v":36},{"$f":"'GRILLE IADE CN EXT'!D13","v":426}]
[]
["Soit un gain net mensuel de :",{"$nulls":5},{"$f":"I40*C46*0.8315","v":{"v":112.995861,"d":"113.00 €"}},{"$nulls":10},{"$f":"'GRILLE IADE CN EXT'!B15","v":4},{"$f":"'GRILLE IADE CN EXT'!C15","v":36},{"$f":"'GRILLE IADE CN EXT'!D15","v":451}]
[]
[{"$nulls":17},{"$f":"'GRILLE IADE CN EXT'!B17","v":5},{"$f":"'GRILLE IADE CN EXT'!C17","v":48},{"$f":"'GRILLE IADE CN EXT'!D17","v":474}]
[]
[{"$nulls":17},{"$f":"'GRILLE IADE CN EXT'!B19","v":6},{"$f":"'GRILLE IADE CN EXT'!C19","v":48},{"$f":"'GRILLE IADE CN EXT'!D19","v":500}]
["Vos représentant-e-s SUD Santé Sociaux ",{"$nulls":7},{"$f":"RECAPITULATIF!D21","v":35},null,"sont à votre disposition"]
["pour tous renseignements complémentaires au poste :",{"$nulls":11},{"$f":"RECAPITULATIF!D17","v":2886},{"$nulls":4},{"$f":"'GRILLE IADE CN EXT'!B21","v":7},{"$f":"'GRILLE IADE CN EXT'!C21","v":48},{"$f":"'GRILLE IADE CN EXT'!D21","v":529}]
[]
[{"$nulls":17},{"$f":"'GRILLE IADE CN EXT'!B23","v":8},{"$f":"'GRILLE IADE CN EXT'!C23","v":0},{"$f":"'GRILLE IADE CN EXT'!D23","v":560}]
[]
[]
["Recevez toutes nos salutations."]
[]
[]
[{"$f":"RECAPITULATIF!B5","v":"Madame FERET Isabelle, Madame Anne PICHON et Monsieur Patrick GAUTIER"}]
[]
["SUD Santé Sociaux",{"$nulls":3},{"$f":"RECAPITULATIF!D21","v":35}]
[]
[]
[]
[]
["Tél :",{"$f":"RECAPITULATIF!D19","v":{"v":299212886,"d":"02 99 21 28 86"}}]
["Mél :",null,{"$f":"RECAPITULATIF!C23","v":"sudsante@ch-stmalo.fr"}]
[{"$f":"RECAPITULATIF!B25","v":"Site Départemental Sud"},{"$nulls":4},{"$f":"RECAPITULATIF!D25","v":"http://www.sudsantesociaux35.org"}]

{"sheet":"IADE CN EXT Echelon 8","index":95,"n_rows":72,"n_cols":20,"rows_kept":72,"merged":[[1,6,1,16],[2,6,2,11],[2,12,2,16],[8,12,9,14],[12,12,12,14],[15,0,15,14],[17,0,17,16],[19,0,19,3],[21,0,21,14],[23,0,23,4],[23,5,23,8],[23,10,23,12],[23,13,23,16],[26,5,27,17],[32,0,32,4],[32,5,32,6],[32,7,32,10],[32,11,32,12],[35,0,35,2],[35,8,35,9],[35,17,39,19],[39,0,39,7],[39,8,39,9],[39,10,39,13],[40,17,41,17],[40,18,41,18],[40,19,41,19],[42,0,42,12],[42,17,43,17],[42,18,43,18],[42,19,43,19],[44,17,45,17],[44,18,45,18],[44,19,45,19],[45,2,45,3],[45,5,45,7],[46,17,47,17],[46,18,47,18],[46,19,47,19],[48,0,48,5],[48,6,48,8],[48,17,49,17],[48,18,49,18],[48,19,49,19],[50,17,51,17],[50,18,51,18],[50,19,51,19],[52,17,53,17],[52,18,53,18],[52,19,53,19],[53,0,53,7],[53,8,53,9],[53,10,53,14],[54,0,54,11],[54,12,54,13],[54,17,55,17],[54,18,55,18],[54,19,55,19],[56,17,57,17],[56,18,57,18],[56,19,57,19],[57,0,57,16],[59,0,59,16],[62,0,62,16],[64,0,64,3],[69,1,69,4],[70,0,70,1],[70,2,70,7],[71,0,71,4],[71,5,71,12]]}
[]
[{"$nulls":6},"Commission Administrative"]
[{"$nulls":6},"Paritaire",{"$nulls":5},{"$f":"RECAPITULATIF!D7","v":"Locale"}]
[]
[]
[]
[]
[]
[{"$nulls":12},"Mme, Mr :"]
[]
[{"$nulls":12},"Grade :"]
[]
[{"$nulls":12},"Service :"]
[]
[]
["Votre ou vos représentant-e-s du personnel"]
[]
[{"$f":"RECAPITULATIF!B5","v":"Madame FERET Isabelle, Madame Anne PICHON et Monsieur Patrick GAUTIER"}]
[]
["SUD Santé Sociaux",{"$nulls":3},{"$f":"RECAPITULATIF!D21","v":35},"du:"]
[]
[{"$f":"RECAPITULATIF!B2","v":"Centre Hospitalier de Saint Malo"}]
[]
["siégeant auprès de la CAP",{"$nulls":4},{"$f":"RECAPITULATIF!D7","v":"Locale"},{"$nulls":3},"du :",{"$f":"RECAPITULATIF!D11","v":"2019-04-16"},null,null,"vous informe de votre :"]
[]
[]
[{"$nulls":5},"AVANCEMENT D’ECHELON"]
[]
[]
[]
[]
[]
["Vous passez à l’échelon :",{"$nulls":4},{"$f":"'GRILLE IADE CN EXT'!B23","v":8},null,"Indice Majoré :",{"$nulls":3},{"$f":"'GRILLE IADE CN EXT'!D23","v":560}]
[]
[]
["Date d'effet :",{"$nulls":4},"/",null,"/",{"$f":"RECAPITULATIF!D9","v":2019},{"$nulls":8},{"$f":"'GRILLE IADE CN EXT'!B2","v":"Infirmier Anesthésiste\nClasse Normale\n\nExtinction"}]
[]
[]
[]
["Ce qui représente un gain mensuel de :",{"$nulls":7},{"$f":"'GRILLE IADE CN EXT'!D23-'GRILLE IADE CN EXT'!D21","v":31},null,"points d'indice."]
[{"$nulls":17},{"$f":"'GRILLE IADE CN EXT'!B7","v":"Echelon"},{"$f":"'GRILLE IADE CN EXT'!C7","v":"Durée\n(en mois)"},{"$f":"'GRILLE IADE CN EXT'!D7","v":"Indice\nMajoré"}]
[]
["Pour information, la valeur brute du point d'indice",{"$nulls":16},{"$f":"'GRILLE IADE CN EXT'!B9","v":1},{"$f":"'GRILLE IADE CN EXT'!C9","v":12},{"$f":"'GRILLE IADE CN EXT'!D9","v":379}]
[]
[{"$nulls":17},{"$f":"'GRILLE IADE CN EXT'!B11","v":2},{"$f":"'GRILLE IADE CN EXT'!C11","v":24},{"$f":"'GRILLE IADE CN EXT'!D11","v":406}]
["est de",null,{"$f":"RECAPITULATIF!D13","v":{"v":4.686,"d":"4.686 €"}},null,"au",{"$f":"RECAPITULATIF!D15","v":"2019-01-01"}]
[{"$nulls":17},{"$f":"'GRILLE IADE CN EXT'!B13","v":3},{"$f":"'GRILLE IADE CN EXT'!C13","v":36},{"$f":"'GRILLE IADE CN EXT'!D13","v":426}]
[]
["Soit un gain net mensuel de :",{"$nulls":5},{"$f":"I40*C46*0.8315","v":{"v":120.788679,"d":"120.79 €"}},{"$nulls":10},{"$f":"'GRILLE IADE CN EXT'!B15","v":4},{"$f":"'GRILLE IADE CN EXT'!C15","v":36},{"$f":"'GRILLE IADE CN EXT'!D15","v":451}]
[]
[{"$nulls":17},{"$f":"'GRILLE IADE CN EXT'!B17","v":5},{"$f":"'GRILLE IADE CN EXT'!C17","v":48},{"$f":"'GRILLE IADE CN EXT'!D17","v":474}]
[]
[{"$nulls":17},{"$f":"'GRILLE IADE CN EXT'!B19","v":6},{"$f":"'GRILLE IADE CN EXT'!C19","v":48},{"$f":"'GRILLE IADE CN EXT'!D19","v":500}]
["Vos représentant-e-s SUD Santé Sociaux ",{"$nulls":7},{"$f":"RECAPITULATIF!D21","v":35},null,"sont à votre disposition"]
["pour tous renseignements complémentaires au poste :",{"$nulls":11},{"$f":"RECAPITULATIF!D17","v":2886},{"$nulls":4},{"$f":"'GRILLE IADE CN EXT'!B21","v":7},{"$f":"'GRILLE IADE CN EXT'!C21","v":48},{"$f":"'GRILLE IADE CN EXT'!D21","v":529}]
[]
[{"$nulls":17},{"$f":"'GRILLE IADE CN EXT'!B23","v":8},{"$f":"'GRILLE IADE CN EXT'!C23","v":0},{"$f":"'GRILLE IADE CN EXT'!D23","v":560}]
[]
[]
["Recevez toutes nos salutations."]
[]
[]
[{"$f":"RECAPITULATIF!B5","v":"Madame FERET Isabelle, Madame Anne PICHON et Monsieur Patrick GAUTIER"}]
[]
["SUD Santé Sociaux",{"$nulls":3},{"$f":"RECAPITULATIF!D21","v":35}]
[]
[]
[]
[]
["Tél :",{"$f":"RECAPITULATIF!D19","v":{"v":299212886,"d":"02 99 21 28 86"}}]
["Mél :",null,{"$f":"RECAPITULATIF!C23","v":"sudsante@ch-stmalo.fr"}]
[{"$f":"RECAPITULATIF!B25","v":"Site Départemental Sud"},{"$nulls":4},{"$f":"RECAPITULATIF!D25","v":"http://www.sudsantesociaux35.org"}]

{"sheet":"GRILLE IADE CS EXT","index":96,"n_rows":21,"n_cols":4,"rows_kept":21,"merged":[[1,1,5,3],[6,1,7,1],[6,2,7,2],[6,3,7,3],[8,1,9,1],[8,2,9,2],[8,3,9,3],[10,1,11,1],[10,2,11,2],[10,3,11,3],[12,1,13,1],[12,2,13,2],[12,3,13,3],[14,1,15,1],[14,2,15,2],[14,3,15,3],[16,1,17,1],[16,2,17,2],[16,3,17,3],[18,1,19,1],[18,2,19,2],[18,3,19,3],[20,1,21,1],[20,2,21,2],[20,3,21,3]]}
[]
[null,"Infirmier Anesthésiste\nClasse Supérieure\n\nExtinction"]
[]
[]
[]
[]
[null,"Echelon","Durée\n(en mois)","Indice\nMajoré"]
[]
[null,1,24,467]
[]
[null,2,24,495]
[]
[null,3,24,514]
[]
[null,4,36,537]
[]
[null,5,36,560]
[]
[null,6,42,579]
[]
[null,7,null,617]

{"sheet":"IMP GRILLE IADE CS EXT","index":97,"n_rows":6,"n_cols":2,"rows_kept":6,"merged":[[1,1,1,9],[3,1,3,9],[5,1,5,9]]}
[]
[null,"1) Imprimez autant de feuilles que d'agents concernés."]
[]
[null,"2) Pliez en 3 au niveau du repère, deux petits traits noirs."]
[]
[null,"3) Inserrez ce courrier dans une enveloppe 110 X 220 à fenêtre."]

{"sheet":"IADE CS EXT Echelon 2","index":98,"n_rows":72,"n_cols":20,"rows_kept":72,"merged":[[1,6,1,16],[2,6,2,11],[2,12,2,16],[8,12,9,14],[12,12,12,14],[15,0,15,14],[17,0,17,16],[19,0,19,3],[21,0,21,14],[23,0,23,4],[23,5,23,8],[23,10,23,12],[23,13,23,16],[26,5,27,17],[32,0,32,4],[32,5,32,6],[32,7,32,10],[32,11,32,12],[35,0,35,2],[35,8,35,9],[35,17,39,19],[39,0,39,7],[39,8,39,9],[39,10,39,13],[40,17,41,17],[40,18,41,18],[40,19,41,19],[42,0,42,12],[42,17,43,17],[42,18,43,18],[42,19,43,19],[44,17,45,17],[44,18,45,18],[44,19,45,19],[45,2,45,3],[45,5,45,7],[46,17,47,17],[46,18,47,18],[46,19,47,19],[48,0,48,5],[48,6,48,8],[48,17,49,17],[48,18,49,18],[48,19,49,19],[50,17,51,17],[50,18,51,18],[50,19,51,19],[52,17,53,17],[52,18,53,18],[52,19,53,19],[53,0,53,7],[53,8,53,9],[53,10,53,14],[54,0,54,11],[54,12,54,13],[54,17,55,17],[54,18,55,18],[54,19,55,19],[57,0,57,16],[59,0,59,16],[62,0,62,16],[64,0,64,3],[69,1,69,4],[70,0,70,1],[70,2,70,7],[71,0,71,4],[71,5,71,12]]}
[]
[{"$nulls":6},"Commission Administrative"]
[{"$nulls":6},"Paritaire",{"$nulls":5},{"$f":"RECAPITULATIF!D7","v":"Locale"}]
[]
[]
[]
[]
[]
[{"$nulls":12},"Mme, Mr :"]
[]
[{"$nulls":12},"Grade :"]
[]
[{"$nulls":12},"Service :"]
[]
[]
["Votre ou vos représentant-e-s du personnel"]
[]
[{"$f":"RECAPITULATIF!B5","v":"Madame FERET Isabelle, Madame Anne PICHON et Monsieur Patrick GAUTIER"}]
[]
["SUD Santé Sociaux",{"$nulls":3},{"$f":"RECAPITULATIF!D21","v":35},"du:"]
[]
[{"$f":"RECAPITULATIF!B2","v":"Centre Hospitalier de Saint Malo"}]
[]
["siégeant auprès de la CAP",{"$nulls":4},{"$f":"RECAPITULATIF!D7","v":"Locale"},{"$nulls":3},"du :",{"$f":"RECAPITULATIF!D11","v":"2019-04-16"},null,null,"vous informe de votre :"]
[]
[]
[{"$nulls":5},"AVANCEMENT D’ECHELON"]
[]
[]
[]
[]
[]
["Vous passez à l’échelon :",{"$nulls":4},{"$f":"'GRILLE IADE CS EXT'!B11","v":2},null,"Indice Majoré :",{"$nulls":3},{"$f":"'GRILLE IADE CS EXT'!D11","v":495}]
[]
[]
["Date d'effet :",{"$nulls":4},"/",null,"/",{"$f":"RECAPITULATIF!D9","v":2019},{"$nulls":8},{"$f":"'GRILLE IADE CS EXT'!B2","v":"Infirmier Anesthésiste\nClasse Supérieure\n\nExtinction"}]
[]
[]
[]
["Ce qui représente un gain mensuel de :",{"$nulls":7},{"$f":"'GRILLE IADE CS EXT'!D11-'GRILLE IADE CS EXT'!D9","v":28},null,"points d'indice."]
[{"$nulls":17},{"$f":"'GRILLE IADE CS EXT'!B7","v":"Echelon"},{"$f":"'GRILLE IADE CS EXT'!C7","v":"Durée\n(en mois)"},{"$f":"'GRILLE IADE CS EXT'!D7","v":"Indice\nMajoré"}]
[]
["Pour information, la valeur brute du point d'indice",{"$nulls":16},{"$f":"'GRILLE IADE CS EXT'!B9","v":1},{"$f":"'GRILLE IADE CS EXT'!C9","v":24},{"$f":"'GRILLE IADE CS EXT'!D9","v":467}]
[]
[{"$nulls":17},{"$f":"'GRILLE IADE CS EXT'!B11","v":2},{"$f":"'GRILLE IADE CS EXT'!C11","v":24},{"$f":"'GRILLE IADE CS EXT'!D11","v":495}]
["est de",null,{"$f":"RECAPITULATIF!D13","v":{"v":4.686,"d":"4.686 €"}},null,"au",{"$f":"RECAPITULATIF!D15","v":"2019-01-01"}]
[{"$nulls":17},{"$f":"'GRILLE IADE CS EXT'!B13","v":3},{"$f":"'GRILLE IADE CS EXT'!C13","v":24},{"$f":"'GRILLE IADE CS EXT'!D13","v":514}]
[]
["Soit un gain net mensuel de :",{"$nulls":5},{"$f":"I40*C46*0.8315","v":{"v":109.099452,"d":"109.10 €"}},{"$nulls":10},{"$f":"'GRILLE IADE CS EXT'!B15","v":4},{"$f":"'GRILLE IADE CS EXT'!C15","v":36},{"$f":"'GRILLE IADE CS EXT'!D15","v":537}]
[]
[{"$nulls":17},{"$f":"'GRILLE IADE CS EXT'!B17","v":5},{"$f":"'GRILLE IADE CS EXT'!C17","v":36},{"$f":"'GRILLE IADE CS EXT'!D17","v":560}]
[]
[{"$nulls":17},{"$f":"'GRILLE IADE CS EXT'!B19","v":6},{"$f":"'GRILLE IADE CS EXT'!C19","v":42},{"$f":"'GRILLE IADE CS EXT'!D19","v":579}]
["Vos représentant-e-s SUD Santé Sociaux ",{"$nulls":7},{"$f":"RECAPITULATIF!D21","v":35},null,"sont à votre disposition"]
["pour tous renseignements complémentaires au poste :",{"$nulls":11},{"$f":"RECAPITULATIF!D17","v":2886},{"$nulls":4},{"$f":"'GRILLE IADE CS EXT'!B21","v":7},{"$f":"'GRILLE IADE CS EXT'!C21","v":0},{"$f":"'GRILLE IADE CS EXT'!D21","v":617}]
[]
[{"$nulls":17},{"$f":"'GRILLE IADE CS EXT'!B23","v":0},{"$f":"'GRILLE IADE CN EXT'!C23","v":0}]
[]
[]
["Recevez toutes nos salutations."]
[]
[]
[{"$f":"RECAPITULATIF!B5","v":"Madame FERET Isabelle, Madame Anne PICHON et Monsieur Patrick GAUTIER"}]
[]
["SUD Santé Sociaux",{"$nulls":3},{"$f":"RECAPITULATIF!D21","v":35}]
[]
[]
[]
[]
["Tél :",{"$f":"RECAPITULATIF!D19","v":{"v":299212886,"d":"02 99 21 28 86"}}]
["Mél :",null,{"$f":"RECAPITULATIF!C23","v":"sudsante@ch-stmalo.fr"}]
[{"$f":"RECAPITULATIF!B25","v":"Site Départemental Sud"},{"$nulls":4},{"$f":"RECAPITULATIF!D25","v":"http://www.sudsantesociaux35.org"}]

{"sheet":"IADE CS EXT Echelon 3","index":99,"n_rows":72,"n_cols":20,"rows_kept":72,"merged":[[1,6,1,16],[2,6,2,11],[2,12,2,16],[8,12,9,14],[12,12,12,14],[15,0,15,14],[17,0,17,16],[19,0,19,3],[21,0,21,14],[23,0,23,4],[23,5,23,8],[23,10,23,12],[23,13,23,16],[26,5,27,17],[32,0,32,4],[32,5,32,6],[32,7,32,10],[32,11,32,12],[35,0,35,2],[35,8,35,9],[35,17,39,19],[39,0,39,7],[39,8,39,9],[39,10,39,13],[40,17,41,17],[40,18,41,18],[40,19,41,19],[42,0,42,12],[42,17,43,17],[42,18,43,18],[42,19,43,19],[44,17,45,17],[44,18,45,18],[44,19,45,19],[45,2,45,3],[45,5,45,7],[46,17,47,17],[46,18,47,18],[46,19,47,19],[48,0,48,5],[48,6,48,8],[48,17,49,17],[48,18,49,18],[48,19,49,19],[50,17,51,17],[50,18,51,18],[50,19,51,19],[52,17,53,17],[52,18,53,18],[52,19,53,19],[53,0,53,7],[53,8,53,9],[53,10,53,14],[54,0,54,11],[54,12,54,13],[54,17,55,17],[54,18,55,18],[54,19,55,19],[57,0,57,16],[59,0,59,16],[62,0,62,16],[64,0,64,3],[69,1,69,4],[70,0,70,1],[70,2,70,7],[71,0,71,4],[71,5,71,12]]}
[]
[{"$nulls":6},"Commission Administrative"]
[{"$nulls":6},"Paritaire",{"$nulls":5},{"$f":"RECAPITULATIF!D7","v":"Locale"}]
[]
[]
[]
[]
[]
[{"$nulls":12},"Mme, Mr :"]
[]
[{"$nulls":12},"Grade :"]
[]
[{"$nulls":12},"Service :"]
[]
[]
["Votre ou vos représentant-e-s du personnel"]
[]
[{"$f":"RECAPITULATIF!B5","v":"Madame FERET Isabelle, Madame Anne PICHON et Monsieur Patrick GAUTIER"}]
[]
["SUD Santé Sociaux",{"$nulls":3},{"$f":"RECAPITULATIF!D21","v":35},"du:"]
[]
[{"$f":"RECAPITULATIF!B2","v":"Centre Hospitalier de Saint Malo"}]
[]
["siégeant auprès de la CAP",{"$nulls":4},{"$f":"RECAPITULATIF!D7","v":"Locale"},{"$nulls":3},"du :",{"$f":"RECAPITULATIF!D11","v":"2019-04-16"},null,null,"vous informe de votre :"]
[]
[]
[{"$nulls":5},"AVANCEMENT D’ECHELON"]
[]
[]
[]
[]
[]
["Vous passez à l’échelon :",{"$nulls":4},{"$f":"'GRILLE IADE CS EXT'!B13","v":3},null,"Indice Majoré :",{"$nulls":3},{"$f":"'GRILLE IADE CS EXT'!D13","v":514}]
[]
[]
["Date d'effet :",{"$nulls":4},"/",null,"/",{"$f":"RECAPITULATIF!D9","v":2019},{"$nulls":8},{"$f":"'GRILLE IADE CS EXT'!B2","v":"Infirmier Anesthésiste\nClasse Supérieure\n\nExtinction"}]
[]
[]
[]
["Ce qui représente un gain mensuel de :",{"$nulls":7},{"$f":"'GRILLE IADE CS EXT'!D13-'GRILLE IADE CS EXT'!D11","v":19},null,"points d'indice."]
[{"$nulls":17},{"$f":"'GRILLE IADE CS EXT'!B7","v":"Echelon"},{"$f":"'GRILLE IADE CS EXT'!C7","v":"Durée\n(en mois)"},{"$f":"'GRILLE IADE CS EXT'!D7","v":"Indice\nMajoré"}]
[]
["Pour information, la valeur brute du point d'indice",{"$nulls":16},{"$f":"'GRILLE IADE CS EXT'!B9","v":1},{"$f":"'GRILLE IADE CS EXT'!C9","v":24},{"$f":"'GRILLE IADE CS EXT'!D9","v":467}]
[]
[{"$nulls":17},{"$f":"'GRILLE IADE CS EXT'!B11","v":2},{"$f":"'GRILLE IADE CS EXT'!C11","v":24},{"$f":"'GRILLE IADE CS EXT'!D11","v":495}]
["est de",null,{"$f":"RECAPITULATIF!D13","v":{"v":4.686,"d":"4.686 €"}},null,"au",{"$f":"RECAPITULATIF!D15","v":"2019-01-01"}]
[{"$nulls":17},{"$f":"'GRILLE IADE CS EXT'!B13","v":3},{"$f":"'GRILLE IADE CS EXT'!C13","v":24},{"$f":"'GRILLE IADE CS EXT'!D13","v":514}]
[]
["Soit un gain net mensuel de :",{"$nulls":5},{"$f":"I40*C46*0.8315","v":{"v":74.03177099999999,"d":"74.03 €"}},{"$nulls":10},{"$f":"'GRILLE IADE CS EXT'!B15","v":4},{"$f":"'GRILLE IADE CS EXT'!C15","v":36},{"$f":"'GRILLE IADE CS EXT'!D15","v":537}]
[]
[{"$nulls":17},{"$f":"'GRILLE IADE CS EXT'!B17","v":5},{"$f":"'GRILLE IADE CS EXT'!C17","v":36},{"$f":"'GRILLE IADE CS EXT'!D17","v":560}]
[]
[{"$nulls":17},{"$f":"'GRILLE IADE CS EXT'!B19","v":6},{"$f":"'GRILLE IADE CS EXT'!C19","v":42},{"$f":"'GRILLE IADE CS EXT'!D19","v":579}]
["Vos représentant-e-s SUD Santé Sociaux ",{"$nulls":7},{"$f":"RECAPITULATIF!D21","v":35},null,"sont à votre disposition"]
["pour tous renseignements complémentaires au poste :",{"$nulls":11},{"$f":"RECAPITULATIF!D17","v":2886},{"$nulls":4},{"$f":"'GRILLE IADE CS EXT'!B21","v":7},{"$f":"'GRILLE IADE CS EXT'!C21","v":0},{"$f":"'GRILLE IADE CS EXT'!D21","v":617}]
[]
[{"$nulls":17},{"$f":"'GRILLE IADE CS EXT'!B23","v":0},{"$f":"'GRILLE IADE CN EXT'!C23","v":0}]
[]
[]
["Recevez toutes nos salutations."]
[]
[]
[{"$f":"RECAPITULATIF!B5","v":"Madame FERET Isabelle, Madame Anne PICHON et Monsieur Patrick GAUTIER"}]
[]
["SUD Santé Sociaux",{"$nulls":3},{"$f":"RECAPITULATIF!D21","v":35}]
[]
[]
[]
[]
["Tél :",{"$f":"RECAPITULATIF!D19","v":{"v":299212886,"d":"02 99 21 28 86"}}]
["Mél :",null,{"$f":"RECAPITULATIF!C23","v":"sudsante@ch-stmalo.fr"}]
[{"$f":"RECAPITULATIF!B25","v":"Site Départemental Sud"},{"$nulls":4},{"$f":"RECAPITULATIF!D25","v":"http://www.sudsantesociaux35.org"}]

{"sheet":"IADE CS EXT Echelon 4","index":100,"n_rows":72,"n_cols":20,"rows_kept":72,"merged":[[1,6,1,16],[2,6,2,11],[2,12,2,16],[8,12,9,14],[12,12,12,14],[15,0,15,14],[17,0,17,16],[19,0,19,3],[21,0,21,14],[23,0,23,4],[23,5,23,8],[23,10,23,12],[23,13,23,16],[26,5,27,17],[32,0,32,4],[32,5,32,6],[32,7,32,10],[32,11,32,12],[35,0,35,2],[35,8,35,9],[35,17,39,19],[39,0,39,7],[39,8,39,9],[39,10,39,13],[40,17,41,17],[40,18,41,18],[40,19,41,19],[42,0,42,12],[42,17,43,17],[42,18,43,18],[42,19,43,19],[44,17,45,17],[44,18,45,18],[44,19,45,19],[45,2,45,3],[45,5,45,7],[46,17,47,17],[46,18,47,18],[46,19,47,19],[48,0,48,5],[48,6,48,8],[48,17,49,17],[48,18,49,18],[48,19,49,19],[50,17,51,17],[50,18,51,18],[50,19,51,19],[52,17,53,17],[52,18,53,18],[52,19,53,19],[53,0,53,7],[53,8,53,9],[53,10,53,14],[54,0,54,11],[54,12,54,13],[54,17,55,17],[54,18,55,18],[54,19,55,19],[57,0,57,16],[59,0,59,16],[62,0,62,16],[64,0,64,3],[69,1,69,4],[70,0,70,1],[70,2,70,7],[71,0,71,4],[71,5,71,12]]}
[]
[{"$nulls":6},"Commission Administrative"]
[{"$nulls":6},"Paritaire",{"$nulls":5},{"$f":"RECAPITULATIF!D7","v":"Locale"}]
[]
[]
[]
[]
[]
[{"$nulls":12},"Mme, Mr :"]
[]
[{"$nulls":12},"Grade :"]
[]
[{"$nulls":12},"Service :"]
[]
[]
["Votre ou vos représentant-e-s du personnel"]
[]
[{"$f":"RECAPITULATIF!B5","v":"Madame FERET Isabelle, Madame Anne PICHON et Monsieur Patrick GAUTIER"}]
[]
["SUD Santé Sociaux",{"$nulls":3},{"$f":"RECAPITULATIF!D21","v":35},"du:"]
[]
[{"$f":"RECAPITULATIF!B2","v":"Centre Hospitalier de Saint Malo"}]
[]
["siégeant auprès de la CAP",{"$nulls":4},{"$f":"RECAPITULATIF!D7","v":"Locale"},{"$nulls":3},"du :",{"$f":"RECAPITULATIF!D11","v":"2019-04-16"},null,null,"vous informe de votre :"]
[]
[]
[{"$nulls":5},"AVANCEMENT D’ECHELON"]
[]
[]
[]
[]
[]
["Vous passez à l’échelon :",{"$nulls":4},{"$f":"'GRILLE IADE CS EXT'!B15","v":4},null,"Indice Majoré :",{"$nulls":3},{"$f":"'GRILLE IADE CS EXT'!D15","v":537}]
[]
[]
["Date d'effet :",{"$nulls":4},"/",null,"/",{"$f":"RECAPITULATIF!D9","v":2019},{"$nulls":8},{"$f":"'GRILLE IADE CS EXT'!B2","v":"Infirmier Anesthésiste\nClasse Supérieure\n\nExtinction"}]
[]
[]
[]
["Ce qui représente un gain mensuel de :",{"$nulls":7},{"$f":"'GRILLE IADE CS EXT'!D15-'GRILLE IADE CS EXT'!D13","v":23},null,"points d'indice."]
[{"$nulls":17},{"$f":"'GRILLE IADE CS EXT'!B7","v":"Echelon"},{"$f":"'GRILLE IADE CS EXT'!C7","v":"Durée\n(en mois)"},{"$f":"'GRILLE IADE CS EXT'!D7","v":"Indice\nMajoré"}]
[]
["Pour information, la valeur brute du point d'indice",{"$nulls":16},{"$f":"'GRILLE IADE CS EXT'!B9","v":1},{"$f":"'GRILLE IADE CS EXT'!C9","v":24},{"$f":"'GRILLE IADE CS EXT'!D9","v":467}]
[]
[{"$nulls":17},{"$f":"'GRILLE IADE CS EXT'!B11","v":2},{"$f":"'GRILLE IADE CS EXT'!C11","v":24},{"$f":"'GRILLE IADE CS EXT'!D11","v":495}]
["est de",null,{"$f":"RECAPITULATIF!D13","v":{"v":4.686,"d":"4.686 €"}},null,"au",{"$f":"RECAPITULATIF!D15","v":"2019-01-01"}]
[{"$nulls":17},{"$f":"'GRILLE IADE CS EXT'!B13","v":3},{"$f":"'GRILLE IADE CS EXT'!C13","v":24},{"$f":"'GRILLE IADE CS EXT'!D13","v":514}]
[]
["Soit un gain net mensuel de :",{"$nulls":5},{"$f":"I40*C46*0.8315","v":{"v":89.617407,"d":"89.62 €"}},{"$nulls":10},{"$f":"'GRILLE IADE CS EXT'!B15","v":4},{"$f":"'GRILLE IADE CS EXT'!C15","v":36},{"$f":"'GRILLE IADE CS EXT'!D15","v":537}]
[]
[{"$nulls":17},{"$f":"'GRILLE IADE CS EXT'!B17","v":5},{"$f":"'GRILLE IADE CS EXT'!C17","v":36},{"$f":"'GRILLE IADE CS EXT'!D17","v":560}]
[]
[{"$nulls":17},{"$f":"'GRILLE IADE CS EXT'!B19","v":6},{"$f":"'GRILLE IADE CS EXT'!C19","v":42},{"$f":"'GRILLE IADE CS EXT'!D19","v":579}]
["Vos représentant-e-s SUD Santé Sociaux ",{"$nulls":7},{"$f":"RECAPITULATIF!D21","v":35},null,"sont à votre disposition"]
["pour tous renseignements complémentaires au poste :",{"$nulls":11},{"$f":"RECAPITULATIF!D17","v":2886},{"$nulls":4},{"$f":"'GRILLE IADE CS EXT'!B21","v":7},{"$f":"'GRILLE IADE CS EXT'!C21","v":0},{"$f":"'GRILLE IADE CS EXT'!D21","v":617}]
[]
[{"$nulls":17},{"$f":"'GRILLE IADE CS EXT'!B23","v":0},{"$f":"'GRILLE IADE CN EXT'!C23","v":0}]
[]
[]
["Recevez toutes nos salutations."]
[]
[]
[{"$f":"RECAPITULATIF!B5","v":"Madame FERET Isabelle, Madame Anne PICHON et Monsieur Patrick GAUTIER"}]
[]
["SUD Santé Sociaux",{"$nulls":3},{"$f":"RECAPITULATIF!D21","v":35}]
[]
[]
[]
[]
["Tél :",{"$f":"RECAPITULATIF!D19","v":{"v":299212886,"d":"02 99 21 28 86"}}]
["Mél :",null,{"$f":"RECAPITULATIF!C23","v":"sudsante@ch-stmalo.fr"}]
[{"$f":"RECAPITULATIF!B25","v":"Site Départemental Sud"},{"$nulls":4},{"$f":"RECAPITULATIF!D25","v":"http://www.sudsantesociaux35.org"}]

{"sheet":"IADE CS EXT Echelon 5","index":101,"n_rows":72,"n_cols":20,"rows_kept":72,"merged":[[1,6,1,16],[2,6,2,11],[2,12,2,16],[8,12,9,14],[12,12,12,14],[15,0,15,14],[17,0,17,16],[19,0,19,3],[21,0,21,14],[23,0,23,4],[23,5,23,8],[23,10,23,12],[23,13,23,16],[26,5,27,17],[32,0,32,4],[32,5,32,6],[32,7,32,10],[32,11,32,12],[35,0,35,2],[35,8,35,9],[35,17,39,19],[39,0,39,7],[39,8,39,9],[39,10,39,13],[40,17,41,17],[40,18,41,18],[40,19,41,19],[42,0,42,12],[42,17,43,17],[42,18,43,18],[42,19,43,19],[44,17,45,17],[44,18,45,18],[44,19,45,19],[45,2,45,3],[45,5,45,7],[46,17,47,17],[46,18,47,18],[46,19,47,19],[48,0,48,5],[48,6,48,8],[48,17,49,17],[48,18,49,18],[48,19,49,19],[50,17,51,17],[50,18,51,18],[50,19,51,19],[52,17,53,17],[52,18,53,18],[52,19,53,19],[53,0,53,7],[53,8,53,9],[53,10,53,14],[54,0,54,11],[54,12,54,13],[54,17,55,17],[54,18,55,18],[54,19,55,19],[57,0,57,16],[59,0,59,16],[62,0,62,16],[64,0,64,3],[69,1,69,4],[70,0,70,1],[70,2,70,7],[71,0,71,4],[71,5,71,12]]}
[]
[{"$nulls":6},"Commission Administrative"]
[{"$nulls":6},"Paritaire",{"$nulls":5},{"$f":"RECAPITULATIF!D7","v":"Locale"}]
[]
[]
[]
[]
[]
[{"$nulls":12},"Mme, Mr :"]
[]
[{"$nulls":12},"Grade :"]
[]
[{"$nulls":12},"Service :"]
[]
[]
["Votre ou vos représentant-e-s du personnel"]
[]
[{"$f":"RECAPITULATIF!B5","v":"Madame FERET Isabelle, Madame Anne PICHON et Monsieur Patrick GAUTIER"}]
[]
["SUD Santé Sociaux",{"$nulls":3},{"$f":"RECAPITULATIF!D21","v":35},"du:"]
[]
[{"$f":"RECAPITULATIF!B2","v":"Centre Hospitalier de Saint Malo"}]
[]
["siégeant auprès de la CAP",{"$nulls":4},{"$f":"RECAPITULATIF!D7","v":"Locale"},{"$nulls":3},"du :",{"$f":"RECAPITULATIF!D11","v":"2019-04-16"},null,null,"vous informe de votre :"]
[]
[]
[{"$nulls":5},"AVANCEMENT D’ECHELON"]
[]
[]
[]
[]
[]
["Vous passez à l’échelon :",{"$nulls":4},{"$f":"'GRILLE IADE CS EXT'!B17","v":5},null,"Indice Majoré :",{"$nulls":3},{"$f":"'GRILLE IADE CS EXT'!D17","v":560}]
[]
[]
["Date d'effet :",{"$nulls":4},"/",null,"/",{"$f":"RECAPITULATIF!D9","v":2019},{"$nulls":8},{"$f":"'GRILLE IADE CS EXT'!B2","v":"Infirmier Anesthésiste\nClasse Supérieure\n\nExtinction"}]
[]
[]
[]
["Ce qui représente un gain mensuel de :",{"$nulls":7},{"$f":"'GRILLE IADE CS EXT'!D17-'GRILLE IADE CS EXT'!D15","v":23},null,"points d'indice."]
[{"$nulls":17},{"$f":"'GRILLE IADE CS EXT'!B7","v":"Echelon"},{"$f":"'GRILLE IADE CS EXT'!C7","v":"Durée\n(en mois)"},{"$f":"'GRILLE IADE CS EXT'!D7","v":"Indice\nMajoré"}]
[]
["Pour information, la valeur brute du point d'indice",{"$nulls":16},{"$f":"'GRILLE IADE CS EXT'!B9","v":1},{"$f":"'GRILLE IADE CS EXT'!C9","v":24},{"$f":"'GRILLE IADE CS EXT'!D9","v":467}]
[]
[{"$nulls":17},{"$f":"'GRILLE IADE CS EXT'!B11","v":2},{"$f":"'GRILLE IADE CS EXT'!C11","v":24},{"$f":"'GRILLE IADE CS EXT'!D11","v":495}]
["est de",null,{"$f":"RECAPITULATIF!D13","v":{"v":4.686,"d":"4.686 €"}},null,"au",{"$f":"RECAPITULATIF!D15","v":"2019-01-01"}]
[{"$nulls":17},{"$f":"'GRILLE IADE CS EXT'!B13","v":3},{"$f":"'GRILLE IADE CS EXT'!C13","v":24},{"$f":"'GRILLE IADE CS EXT'!D13","v":514}]
[]
["Soit un gain net mensuel de :",{"$nulls":5},{"$f":"I40*C46*0.8315","v":{"v":89.617407,"d":"89.62 €"}},{"$nulls":10},{"$f":"'GRILLE IADE CS EXT'!B15","v":4},{"$f":"'GRILLE IADE CS EXT'!C15","v":36},{"$f":"'GRILLE IADE CS EXT'!D15","v":537}]
[]
[{"$nulls":17},{"$f":"'GRILLE IADE CS EXT'!B17","v":5},{"$f":"'GRILLE IADE CS EXT'!C17","v":36},{"$f":"'GRILLE IADE CS EXT'!D17","v":560}]
[]
[{"$nulls":17},{"$f":"'GRILLE IADE CS EXT'!B19","v":6},{"$f":"'GRILLE IADE CS EXT'!C19","v":42},{"$f":"'GRILLE IADE CS EXT'!D19","v":579}]
["Vos représentant-e-s SUD Santé Sociaux ",{"$nulls":7},{"$f":"RECAPITULATIF!D21","v":35},null,"sont à votre disposition"]
["pour tous renseignements complémentaires au poste :",{"$nulls":11},{"$f":"RECAPITULATIF!D17","v":2886},{"$nulls":4},{"$f":"'GRILLE IADE CS EXT'!B21","v":7},{"$f":"'GRILLE IADE CS EXT'!C21","v":0},{"$f":"'GRILLE IADE CS EXT'!D21","v":617}]
[]
[{"$nulls":17},{"$f":"'GRILLE IADE CS EXT'!B23","v":0},{"$f":"'GRILLE IADE CN EXT'!C23","v":0}]
[]
[]
["Recevez toutes nos salutations."]
[]
[]
[{"$f":"RECAPITULATIF!B5","v":"Madame FERET Isabelle, Madame Anne PICHON et Monsieur Patrick GAUTIER"}]
[]
["SUD Santé Sociaux",{"$nulls":3},{"$f":"RECAPITULATIF!D21","v":35}]
[]
[]
[]
[]
["Tél :",{"$f":"RECAPITULATIF!D19","v":{"v":299212886,"d":"02 99 21 28 86"}}]
["Mél :",null,{"$f":"RECAPITULATIF!C23","v":"sudsante@ch-stmalo.fr"}]
[{"$f":"RECAPITULATIF!B25","v":"Site Départemental Sud"},{"$nulls":4},{"$f":"RECAPITULATIF!D25","v":"http://www.sudsantesociaux35.org"}]

{"sheet":"IADE CS EXT Echelon 6","index":102,"n_rows":72,"n_cols":20,"rows_kept":72,"merged":[[1,6,1,16],[2,6,2,11],[2,12,2,16],[8,12,9,14],[12,12,12,14],[15,0,15,14],[17,0,17,16],[19,0,19,3],[21,0,21,14],[23,0,23,4],[23,5,23,8],[23,10,23,12],[23,13,23,16],[26,5,27,17],[32,0,32,4],[32,5,32,6],[32,7,32,10],[32,11,32,12],[35,0,35,2],[35,8,35,9],[35,17,39,19],[39,0,39,7],[39,8,39,9],[39,10,39,13],[40,17,41,17],[40,18,41,18],[40,19,41,19],[42,0,42,12],[42,17,43,17],[42,18,43,18],[42,19,43,19],[44,17,45,17],[44,18,45,18],[44,19,45,19],[45,2,45,3],[45,5,45,7],[46,17,47,17],[46,18,47,18],[46,19,47,19],[48,0,48,5],[48,6,48,8],[48,17,49,17],[48,18,49,18],[48,19,49,19],[50,17,51,17],[50,18,51,18],[50,19,51,19],[52,17,53,17],[52,18,53,18],[52,19,53,19],[53,0,53,7],[53,8,53,9],[53,10,53,14],[54,0,54,11],[54,12,54,13],[54,17,55,17],[54,18,55,18],[54,19,55,19],[57,0,57,16],[59,0,59,16],[62,0,62,16],[64,0,64,3],[69,1,69,4],[70,0,70,1],[70,2,70,7],[71,0,71,4],[71,5,71,12]]}
[]
[{"$nulls":6},"Commission Administrative"]
[{"$nulls":6},"Paritaire",{"$nulls":5},{"$f":"RECAPITULATIF!D7","v":"Locale"}]
[]
[]
[]
[]
[]
[{"$nulls":12},"Mme, Mr :"]
[]
[{"$nulls":12},"Grade :"]
[]
[{"$nulls":12},"Service :"]
[]
[]
["Votre ou vos représentant-e-s du personnel"]
[]
[{"$f":"RECAPITULATIF!B5","v":"Madame FERET Isabelle, Madame Anne PICHON et Monsieur Patrick GAUTIER"}]
[]
["SUD Santé Sociaux",{"$nulls":3},{"$f":"RECAPITULATIF!D21","v":35},"du:"]
[]
[{"$f":"RECAPITULATIF!B2","v":"Centre Hospitalier de Saint Malo"}]
[]
["siégeant auprès de la CAP",{"$nulls":4},{"$f":"RECAPITULATIF!D7","v":"Locale"},{"$nulls":3},"du :",{"$f":"RECAPITULATIF!D11","v":"2019-04-16"},null,null,"vous informe de votre :"]
[]
[]
[{"$nulls":5},"AVANCEMENT D’ECHELON"]
[]
[]
[]
[]
[]
["Vous passez à l’échelon :",{"$nulls":4},{"$f":"'GRILLE IADE CS EXT'!B19","v":6},null,"Indice Majoré :",{"$nulls":3},{"$f":"'GRILLE IADE CS EXT'!D19","v":579}]
[]
[]
["Date d'effet :",{"$nulls":4},"/",null,"/",{"$f":"RECAPITULATIF!D9","v":2019},{"$nulls":8},{"$f":"'GRILLE IADE CS EXT'!B2","v":"Infirmier Anesthésiste\nClasse Supérieure\n\nExtinction"}]
[]
[]
[]
["Ce qui représente un gain mensuel de :",{"$nulls":7},{"$f":"'GRILLE IADE CS EXT'!D19-'GRILLE IADE CS EXT'!D17","v":19},null,"points d'indice."]
[{"$nulls":17},{"$f":"'GRILLE IADE CS EXT'!B7","v":"Echelon"},{"$f":"'GRILLE IADE CS EXT'!C7","v":"Durée\n(en mois)"},{"$f":"'GRILLE IADE CS EXT'!D7","v":"Indice\nMajoré"}]
[]
["Pour information, la valeur brute du point d'indice",{"$nulls":16},{"$f":"'GRILLE IADE CS EXT'!B9","v":1},{"$f":"'GRILLE IADE CS EXT'!C9","v":24},{"$f":"'GRILLE IADE CS EXT'!D9","v":467}]
[]
[{"$nulls":17},{"$f":"'GRILLE IADE CS EXT'!B11","v":2},{"$f":"'GRILLE IADE CS EXT'!C11","v":24},{"$f":"'GRILLE IADE CS EXT'!D11","v":495}]
["est de",null,{"$f":"RECAPITULATIF!D13","v":{"v":4.686,"d":"4.686 €"}},null,"au",{"$f":"RECAPITULATIF!D15","v":"2019-01-01"}]
[{"$nulls":17},{"$f":"'GRILLE IADE CS EXT'!B13","v":3},{"$f":"'GRILLE IADE CS EXT'!C13","v":24},{"$f":"'GRILLE IADE CS EXT'!D13","v":514}]
[]
["Soit un gain net mensuel de :",{"$nulls":5},{"$f":"I40*C46*0.8315","v":{"v":74.03177099999999,"d":"74.03 €"}},{"$nulls":10},{"$f":"'GRILLE IADE CS EXT'!B15","v":4},{"$f":"'GRILLE IADE CS EXT'!C15","v":36},{"$f":"'GRILLE IADE CS EXT'!D15","v":537}]
[]
[{"$nulls":17},{"$f":"'GRILLE IADE CS EXT'!B17","v":5},{"$f":"'GRILLE IADE CS EXT'!C17","v":36},{"$f":"'GRILLE IADE CS EXT'!D17","v":560}]
[]
[{"$nulls":17},{"$f":"'GRILLE IADE CS EXT'!B19","v":6},{"$f":"'GRILLE IADE CS EXT'!C19","v":42},{"$f":"'GRILLE IADE CS EXT'!D19","v":579}]
["Vos représentant-e-s SUD Santé Sociaux ",{"$nulls":7},{"$f":"RECAPITULATIF!D21","v":35},null,"sont à votre disposition"]
["pour tous renseignements complémentaires au poste :",{"$nulls":11},{"$f":"RECAPITULATIF!D17","v":2886},{"$nulls":4},{"$f":"'GRILLE IADE CS EXT'!B21","v":7},{"$f":"'GRILLE IADE CS EXT'!C21","v":0},{"$f":"'GRILLE IADE CS EXT'!D21","v":617}]
[]
[{"$nulls":17},{"$f":"'GRILLE IADE CS EXT'!B23","v":0},{"$f":"'GRILLE IADE CN EXT'!C23","v":0}]
[]
[]
["Recevez toutes nos salutations."]
[]
[]
[{"$f":"RECAPITULATIF!B5","v":"Madame FERET Isabelle, Madame Anne PICHON et Monsieur Patrick GAUTIER"}]
[]
["SUD Santé Sociaux",{"$nulls":3},{"$f":"RECAPITULATIF!D21","v":35}]
[]
[]
[]
[]
["Tél :",{"$f":"RECAPITULATIF!D19","v":{"v":299212886,"d":"02 99 21 28 86"}}]
["Mél :",null,{"$f":"RECAPITULATIF!C23","v":"sudsante@ch-stmalo.fr"}]
[{"$f":"RECAPITULATIF!B25","v":"Site Départemental Sud"},{"$nulls":4},{"$f":"RECAPITULATIF!D25","v":"http://www.sudsantesociaux35.org"}]

{"sheet":"IADE CS EXT Echelon 7","index":103,"n_rows":72,"n_cols":20,"rows_kept":72,"merged":[[1,6,1,16],[2,6,2,11],[2,12,2,16],[8,12,9,14],[12,12,12,14],[15,0,15,14],[17,0,17,16],[19,0,19,3],[21,0,21,14],[23,0,23,4],[23,5,23,8],[23,10,23,12],[23,13,23,16],[26,5,27,17],[32,0,32,4],[32,5,32,6],[32,7,32,10],[32,11,32,12],[35,0,35,2],[35,8,35,9],[35,17,39,19],[39,0,39,7],[39,8,39,9],[39,10,39,13],[40,17,41,17],[40,18,41,18],[40,19,41,19],[42,0,42,12],[42,17,43,17],[42,18,43,18],[42,19,43,19],[44,17,45,17],[44,18,45,18],[44,19,45,19],[45,2,45,3],[45,5,45,7],[46,17,47,17],[46,18,47,18],[46,19,47,19],[48,0,48,5],[48,6,48,8],[48,17,49,17],[48,18,49,18],[48,19,49,19],[50,17,51,17],[50,18,51,18],[50,19,51,19],[52,17,53,17],[52,18,53,18],[52,19,53,19],[53,0,53,7],[53,8,53,9],[53,10,53,14],[54,0,54,11],[54,12,54,13],[54,17,55,17],[54,18,55,18],[54,19,55,19],[57,0,57,16],[59,0,59,16],[62,0,62,16],[64,0,64,3],[69,1,69,4],[70,0,70,1],[70,2,70,7],[71,0,71,4],[71,5,71,12]]}
[]
[{"$nulls":6},"Commission Administrative"]
[{"$nulls":6},"Paritaire",{"$nulls":5},{"$f":"RECAPITULATIF!D7","v":"Locale"}]
[]
[]
[]
[]
[]
[{"$nulls":12},"Mme, Mr :"]
[]
[{"$nulls":12},"Grade :"]
[]
[{"$nulls":12},"Service :"]
[]
[]
["Votre ou vos représentant-e-s du personnel"]
[]
[{"$f":"RECAPITULATIF!B5","v":"Madame FERET Isabelle, Madame Anne PICHON et Monsieur Patrick GAUTIER"}]
[]
["SUD Santé Sociaux",{"$nulls":3},{"$f":"RECAPITULATIF!D21","v":35},"du:"]
[]
[{"$f":"RECAPITULATIF!B2","v":"Centre Hospitalier de Saint Malo"}]
[]
["siégeant auprès de la CAP",{"$nulls":4},{"$f":"RECAPITULATIF!D7","v":"Locale"},{"$nulls":3},"du :",{"$f":"RECAPITULATIF!D11","v":"2019-04-16"},null,null,"vous informe de votre :"]
[]
[]
[{"$nulls":5},"AVANCEMENT D’ECHELON"]
[]
[]
[]
[]
[]
["Vous passez à l’échelon :",{"$nulls":4},{"$f":"'GRILLE IADE CS EXT'!B21","v":7},null,"Indice Majoré :",{"$nulls":3},{"$f":"'GRILLE IADE CS EXT'!D21","v":617}]
[]
[]
["Date d'effet :",{"$nulls":4},"/",null,"/",{"$f":"RECAPITULATIF!D9","v":2019},{"$nulls":8},{"$f":"'GRILLE IADE CS EXT'!B2","v":"Infirmier Anesthésiste\nClasse Supérieure\n\nExtinction"}]
[]
[]
[]
["Ce qui représente un gain mensuel de :",{"$nulls":7},{"$f":"'GRILLE IADE CS EXT'!D21-'GRILLE IADE CS EXT'!D19","v":38},null,"points d'indice."]
[{"$nulls":17},{"$f":"'GRILLE IADE CS EXT'!B7","v":"Echelon"},{"$f":"'GRILLE IADE CS EXT'!C7","v":"Durée\n(en mois)"},{"$f":"'GRILLE IADE CS EXT'!D7","v":"Indice\nMajoré"}]
[]
["Pour information, la valeur brute du point d'indice",{"$nulls":16},{"$f":"'GRILLE IADE CS EXT'!B9","v":1},{"$f":"'GRILLE IADE CS EXT'!C9","v":24},{"$f":"'GRILLE IADE CS EXT'!D9","v":467}]
[]
[{"$nulls":17},{"$f":"'GRILLE IADE CS EXT'!B11","v":2},{"$f":"'GRILLE IADE CS EXT'!C11","v":24},{"$f":"'GRILLE IADE CS EXT'!D11","v":495}]
["est de",null,{"$f":"RECAPITULATIF!D13","v":{"v":4.686,"d":"4.686 €"}},null,"au",{"$f":"RECAPITULATIF!D15","v":"2019-01-01"}]
[{"$nulls":17},{"$f":"'GRILLE IADE CS EXT'!B13","v":3},{"$f":"'GRILLE IADE CS EXT'!C13","v":24},{"$f":"'GRILLE IADE CS EXT'!D13","v":514}]
[]
["Soit un gain net mensuel de :",{"$nulls":5},{"$f":"I40*C46*0.8315","v":{"v":148.06354199999998,"d":"148.06 €"}},{"$nulls":10},{"$f":"'GRILLE IADE CS EXT'!B15","v":4},{"$f":"'GRILLE IADE CS EXT'!C15","v":36},{"$f":"'GRILLE IADE CS EXT'!D15","v":537}]
[]
[{"$nulls":17},{"$f":"'GRILLE IADE CS EXT'!B17","v":5},{"$f":"'GRILLE IADE CS EXT'!C17","v":36},{"$f":"'GRILLE IADE CS EXT'!D17","v":560}]
[]
[{"$nulls":17},{"$f":"'GRILLE IADE CS EXT'!B19","v":6},{"$f":"'GRILLE IADE CS EXT'!C19","v":42},{"$f":"'GRILLE IADE CS EXT'!D19","v":579}]
["Vos représentant-e-s SUD Santé Sociaux ",{"$nulls":7},{"$f":"RECAPITULATIF!D21","v":35},null,"sont à votre disposition"]
["pour tous renseignements complémentaires au poste :",{"$nulls":11},{"$f":"RECAPITULATIF!D17","v":2886},{"$nulls":4},{"$f":"'GRILLE IADE CS EXT'!B21","v":7},{"$f":"'GRILLE IADE CS EXT'!C21","v":0},{"$f":"'GRILLE IADE CS EXT'!D21","v":617}]
[]
[{"$nulls":17},{"$f":"'GRILLE IADE CS EXT'!B23","v":0},{"$f":"'GRILLE IADE CN EXT'!C23","v":0}]
[]
[]
["Recevez toutes nos salutations."]
[]
[]
[{"$f":"RECAPITULATIF!B5","v":"Madame FERET Isabelle, Madame Anne PICHON et Monsieur Patrick GAUTIER"}]
[]
["SUD Santé Sociaux",{"$nulls":3},{"$f":"RECAPITULATIF!D21","v":35}]
[]
[]
[]
[]
["Tél :",{"$f":"RECAPITULATIF!D19","v":{"v":299212886,"d":"02 99 21 28 86"}}]
["Mél :",null,{"$f":"RECAPITULATIF!C23","v":"sudsante@ch-stmalo.fr"}]
[{"$f":"RECAPITULATIF!B25","v":"Site Départemental Sud"},{"$nulls":4},{"$f":"RECAPITULATIF!D25","v":"http://www.sudsantesociaux35.org"}]